{"text_format":"1","workbook":"xlsx","n_sheets":27,"sheets":["コード","集計用データ","総括表①","総括表②","総括表③","総括表④","１①②","１①純計","４①","４④","４⑤A","４⑤B","４⑤C","４⑤D","４⑥Ａ","４⑥Ｂ・C","４⑥Ｃ","４⑥C・E","４⑥Ｄ","４⑥Ｆ","４⑥G","４⑥H","４⑦","４⑧","４⑨Ａ","４⑨Ｂ","４⑨Ｃ"],"not_rendered":{"charts":0,"images":0,"macros":1,"external_links":0,"defined_names":31,"comments":4,"pivot_tables":0},"unopened":[],"bounds":{"document_bytes":16777216,"sheet_cells":100000,"rows_first":2000,"rows_last":500,"rows_between":2000,"halvings":0,"cell_chars":16384,"cell_head_chars":4096},"cells_cut":0,"cells_raw":0,"read":"whole","date_system":"1900"}

{"sheet":"コード","index":0,"n_rows":1789,"n_cols":3,"rows_kept":1789,"cut":false,"hidden":false,"merged":[]}
["コード","都道府県名","市町村名"]
["010006","北海道","-"]
["020001","青森県","-"]
["030007","岩手県","-"]
["040002","宮城県","-"]
["050008","秋田県","-"]
["060003","山形県","-"]
["070009","福島県","-"]
["080004","茨城県","-"]
["090000","栃木県","-"]
["100005","群馬県","-"]
["110001","埼玉県","-"]
["120006","千葉県","-"]
["130001","東京都","-"]
["140007","神奈川県","-"]
["150002","新潟県","-"]
["160008","富山県","-"]
["170003","石川県","-"]
["180009","福井県","-"]
["190004","山梨県","-"]
["200000","長野県","-"]
["210005","岐阜県","-"]
["220001","静岡県","-"]
["230006","愛知県","-"]
["240001","三重県","-"]
["250007","滋賀県","-"]
["260002","京都府","-"]
["270008","大阪府","-"]
["280003","兵庫県","-"]
["290009","奈良県","-"]
["300004","和歌山県","-"]
["310000","鳥取県","-"]
["320005","島根県","-"]
["330001","岡山県","-"]
["340006","広島県","-"]
["350001","山口県","-"]
["360007","徳島県","-"]
["370002","香川県","-"]
["380008","愛媛県","-"]
["390003","高知県","-"]
["400009","福岡県","-"]
["410004","佐賀県","-"]
["420000","長崎県","-"]
["430005","熊本県","-"]
["440001","大分県","-"]
["450006","宮崎県","-"]
["460001","鹿児島県","-"]
["470007","沖縄県","-"]
["011002","北海道","札幌市"]
["012025","北海道","函館市"]
["012033","北海道","小樽市"]
["012041","北海道","旭川市"]
["012050","北海道","室蘭市"]
["012068","北海道","釧路市"]
["012076","北海道","帯広市"]
["012084","北海道","北見市"]
["012092","北海道","夕張市"]
["012106","北海道","岩見沢市"]
["012114","北海道","網走市"]
["012122","北海道","留萌市"]
["012131","北海道","苫小牧市"]
["012149","北海道","稚内市"]
["012157","北海道","美唄市"]
["012165","北海道","芦別市"]
["012173","北海道","江別市"]
["012181","北海道","赤平市"]
["012190","北海道","紋別市"]
["012203","北海道","士別市"]
["012211","北海道","名寄市"]
["012220","北海道","三笠市"]
["012238","北海道","根室市"]
["012246","北海道","千歳市"]
["012254","北海道","滝川市"]
["012262","北海道","砂川市"]
["012271","北海道","歌志内市"]
["012289","北海道","深川市"]
["012297","北海道","富良野市"]
["012301","北海道","登別市"]
["012319","北海道","恵庭市"]
["012335","北海道","伊達市"]
["012343","北海道","北広島市"]
["012351","北海道","石狩市"]
["012360","北海道","北斗市"]
["013030","北海道","当別町"]
["013048","北海道","新篠津村"]
["013315","北海道","松前町"]
["013323","北海道","福島町"]
["013331","北海道","知内町"]
["013340","北海道","木古内町"]
["013374","北海道","七飯町"]
["013439","北海道","鹿部町"]
["013455","北海道","森町"]
["013463","北海道","八雲町"]
["013471","北海道","長万部町"]
["013617","北海道","江差町"]
["013625","北海道","上ノ国町"]
["013633","北海道","厚沢部町"]
["013641","北海道","乙部町"]
["013676","北海道","奥尻町"]
["013706","北海道","今金町"]
["013714","北海道","せたな町"]
["013919","北海道","島牧村"]
["013927","北海道","寿都町"]
["013935","北海道","黒松内町"]
["013943","北海道","蘭越町"]
["013951","北海道","ニセコ町"]
["013960","北海道","真狩村"]
["013978","北海道","留寿都村"]
["013986","北海道","喜茂別町"]
["013994","北海道","京極町"]
["014001","北海道","倶知安町"]
["014010","北海道","共和町"]
["014028","北海道","岩内町"]
["014036","北海道","泊村"]
["014044","北海道","神恵内村"]
["014052","北海道","積丹町"]
["014061","北海道","古平町"]
["014079","北海道","仁木町"]
["014087","北海道","余市町"]
["014095","北海道","赤井川村"]
["014231","北海道","南幌町"]
["014249","北海道","奈井江町"]
["014257","北海道","上砂川町"]
["014273","北海道","由仁町"]
["014281","北海道","長沼町"]
["014290","北海道","栗山町"]
["014303","北海道","月形町"]
["014311","北海道","浦臼町"]
["014320","北海道","新十津川町"]
["014338","北海道","妹背牛町"]
["014346","北海道","秩父別町"]
["014362","北海道","雨竜町"]
["014371","北海道","北竜町"]
["014389","北海道","沼田町"]
["014524","北海道","鷹栖町"]
["014532","北海道","東神楽町"]
["014541","北海道","当麻町"]
["014559","北海道","比布町"]
["014567","北海道","愛別町"]
["014575","北海道","上川町"]
["014583","北海道","東川町"]
["014591","北海道","美瑛町"]
["014605","北海道","上富良野町"]
["014613","北海道","中富良野町"]
["014621","北海道","南富良野町"]
["014630","北海道","占冠村"]
["014648","北海道","和寒町"]
["014656","北海道","剣淵町"]
["014681","北海道","下川町"]
["014699","北海道","美深町"]
["014702","北海道","音威子府村"]
["014711","北海道","中川町"]
["014729","北海道","幌加内町"]
["014818","北海道","増毛町"]
["014826","北海道","小平町"]
["014834","北海道","苫前町"]
["014842","北海道","羽幌町"]
["014851","北海道","初山別村"]
["014869","北海道","遠別町"]
["014877","北海道","天塩町"]
["015113","北海道","猿払村"]
["015121","北海道","浜頓別町"]
["015130","北海道","中頓別町"]
["015148","北海道","枝幸町"]
["015164","北海道","豊富町"]
["015172","北海道","礼文町"]
["015181","北海道","利尻町"]
["015199","北海道","利尻富士町"]
["015202","北海道","幌延町"]
["015431","北海道","美幌町"]
["015440","北海道","津別町"]
["015458","北海道","斜里町"]
["015466","北海道","清里町"]
["015474","北海道","小清水町"]
["015491","北海道","訓子府町"]
["015504","北海道","置戸町"]
["015521","北海道","佐呂間町"]
["015555","北海道","遠軽町"]
["015598","北海道","湧別町"]
["015601","北海道","滝上町"]
["015610","北海道","興部町"]
["015628","北海道","西興部村"]
["015636","北海道","雄武町"]
["015644","北海道","大空町"]
["015717","北海道","豊浦町"]
["015750","北海道","壮瞥町"]
["015784","北海道","白老町"]
["015814","北海道","厚真町"]
["015849","北海道","洞爺湖町"]
["015857","北海道","安平町"]
["015865","北海道","むかわ町"]
["016012","北海道","日高町"]
["016021","北海道","平取町"]
["016047","北海道","新冠町"]
["016071","北海道","浦河町"]
["016080","北海道","様似町"]
["016098","北海道","えりも町"]
["016101","北海道","新ひだか町"]
["016314","北海道","音更町"]
["016322","北海道","士幌町"]
["016331","北海道","上士幌町"]
["016349","北海道","鹿追町"]
["016357","北海道","新得町"]
["016365","北海道","清水町"]
["016373","北海道","芽室町"]
["016381","北海道","中札内村"]
["016390","北海道","更別村"]
["016411","北海道","大樹町"]
["016420","北海道","広尾町"]
["016438","北海道","幕別町"]
["016446","北海道","池田町"]
["016454","北海道","豊頃町"]
["016462","北海道","本別町"]
["016471","北海道","足寄町"]
["016489","北海道","陸別町"]
["016497","北海道","浦幌町"]
["016616","北海道","釧路町"]
["016624","北海道","厚岸町"]
["016632","北海道","浜中町"]
["016641","北海道","標茶町"]
["016659","北海道","弟子屈町"]
["016675","北海道","鶴居村"]
["016683","北海道","白糠町"]
["016918","北海道","別海町"]
["016926","北海道","中標津町"]
["016934","北海道","標津町"]
["016942","北海道","羅臼町"]
["022012","青森県","青森市"]
["022021","青森県","弘前市"]
["022039","青森県","八戸市"]
["022047","青森県","黒石市"]
["022055","青森県","五所川原市"]
["022063","青森県","十和田市"]
["022071","青森県","三沢市"]
["022080","青森県","むつ市"]
["022098","青森県","つがる市"]
["022101","青森県","平川市"]
["023019","青森県","平内町"]
["023035","青森県","今別町"]
["023043","青森県","蓬田村"]
["023078","青森県","外ヶ浜町"]
["023213","青森県","鰺ヶ沢町"]
["023230","青森県","深浦町"]
["023434","青森県","西目屋村"]
["023612","青森県","藤崎町"]
["023621","青森県","大鰐町"]
["023671","青森県","田舎館村"]
["023817","青森県","板柳町"]
["023841","青森県","鶴田町"]
["023876","青森県","中泊町"]
["024015","青森県","野辺地町"]
["024023","青森県","七戸町"]
["024058","青森県","六戸町"]
["024066","青森県","横浜町"]
["024082","青森県","東北町"]
["024112","青森県","六ヶ所村"]
["024121","青森県","おいらせ町"]
["024236","青森県","大間町"]
["024244","青森県","東通村"]
["024252","青森県","風間浦村"]
["024261","青森県","佐井村"]
["024414","青森県","三戸町"]
["024422","青森県","五戸町"]
["024431","青森県","田子町"]
["024457","青森県","南部町"]
["024465","青森県","階上町"]
["024503","青森県","新郷村"]
["032018","岩手県","盛岡市"]
["032026","岩手県","宮古市"]
["032034","岩手県","大船渡市"]
["032051","岩手県","花巻市"]
["032069","岩手県","北上市"]
["032077","岩手県","久慈市"]
["032085","岩手県","遠野市"]
["032093","岩手県","一関市"]
["032107","岩手県","陸前高田市"]
["032115","岩手県","釜石市"]
["032131","岩手県","二戸市"]
["032140","岩手県","八幡平市"]
["032158","岩手県","奥州市"]
["032166","岩手県","滝沢市"]
["033014","岩手県","雫石町"]
["033022","岩手県","葛巻町"]
["033031","岩手県","岩手町"]
["033219","岩手県","紫波町"]
["033227","岩手県","矢巾町"]
["033669","岩手県","西和賀町"]
["033812","岩手県","金ケ崎町"]
["034029","岩手県","平泉町"]
["034410","岩手県","住田町"]
["034614","岩手県","大槌町"]
["034827","岩手県","山田町"]
["034835","岩手県","岩泉町"]
["034843","岩手県","田野畑村"]
["034851","岩手県","普代村"]
["035017","岩手県","軽米町"]
["035033","岩手県","野田村"]
["035068","岩手県","九戸村"]
["035076","岩手県","洋野町"]
["035246","岩手県","一戸町"]
["041009","宮城県","仙台市"]
["042021","宮城県","石巻市"]
["042030","宮城県","塩竈市"]
["042056","宮城県","気仙沼市"]
["042064","宮城県","白石市"]
["042072","宮城県","名取市"]
["042081","宮城県","角田市"]
["042099","宮城県","多賀城市"]
["042111","宮城県","岩沼市"]
["042129","宮城県","登米市"]
["042137","宮城県","栗原市"]
["042145","宮城県","東松島市"]
["042153","宮城県","大崎市"]
["042161","宮城県","富谷市"]
["043010","宮城県","蔵王町"]
["043028","宮城県","七ヶ宿町"]
["043214","宮城県","大河原町"]
["043222","宮城県","村田町"]
["043231","宮城県","柴田町"]
["043249","宮城県","川崎町"]
["043419","宮城県","丸森町"]
["043613","宮城県","亘理町"]
["043621","宮城県","山元町"]
["044016","宮城県","松島町"]
["044041","宮城県","七ヶ浜町"]
["044067","宮城県","利府町"]
["044211","宮城県","大和町"]
["044229","宮城県","大郷町"]
["044245","宮城県","大衡村"]
["044440","宮城県","色麻町"]
["044458","宮城県","加美町"]
["045012","宮城県","涌谷町"]
["045055","宮城県","美里町"]
["045811","宮城県","女川町"]
["046060","宮城県","南三陸町"]
["052019","秋田県","秋田市"]
["052027","秋田県","能代市"]
["052035","秋田県","横手市"]
["052043","秋田県","大館市"]
["052060","秋田県","男鹿市"]
["052078","秋田県","湯沢市"]
["052094","秋田県","鹿角市"]
["052108","秋田県","由利本荘市"]
["052116","秋田県","潟上市"]
["052124","秋田県","大仙市"]
["052132","秋田県","北秋田市"]
["052141","秋田県","にかほ市"]
["052159","秋田県","仙北市"]
["053031","秋田県","小坂町"]
["053279","秋田県","上小阿仁村"]
["053465","秋田県","藤里町"]
["053481","秋田県","三種町"]
["053490","秋田県","八峰町"]
["053619","秋田県","五城目町"]
["053635","秋田県","八郎潟町"]
["053660","秋田県","井川町"]
["053686","秋田県","大潟村"]
["054348","秋田県","美郷町"]
["054631","秋田県","羽後町"]
["054640","秋田県","東成瀬村"]
["062014","山形県","山形市"]
["062022","山形県","米沢市"]
["062031","山形県","鶴岡市"]
["062049","山形県","酒田市"]
["062057","山形県","新庄市"]
["062065","山形県","寒河江市"]
["062073","山形県","上山市"]
["062081","山形県","村山市"]
["062090","山形県","長井市"]
["062103","山形県","天童市"]
["062111","山形県","東根市"]
["062120","山形県","尾花沢市"]
["062138","山形県","南陽市"]
["063011","山形県","山辺町"]
["063029","山形県","中山町"]
["063215","山形県","河北町"]
["063223","山形県","西川町"]
["063231","山形県","朝日町"]
["063240","山形県","大江町"]
["063410","山形県","大石田町"]
["063614","山形県","金山町"]
["063622","山形県","最上町"]
["063631","山形県","舟形町"]
["063649","山形県","真室川町"]
["063657","山形県","大蔵村"]
["063665","山形県","鮭川村"]
["063673","山形県","戸沢村"]
["063819","山形県","高畠町"]
["063827","山形県","川西町"]
["064017","山形県","小国町"]
["064025","山形県","白鷹町"]
["064033","山形県","飯豊町"]
["064262","山形県","三川町"]
["064289","山形県","庄内町"]
["064611","山形県","遊佐町"]
["072010","福島県","福島市"]
["072028","福島県","会津若松市"]
["072036","福島県","郡山市"]
["072044","福島県","いわき市"]
["072052","福島県","白河市"]
["072079","福島県","須賀川市"]
["072087","福島県","喜多方市"]
["072095","福島県","相馬市"]
["072109","福島県","二本松市"]
["072117","福島県","田村市"]
["072125","福島県","南相馬市"]
["072133","福島県","伊達市"]
["072141","福島県","本宮市"]
["073016","福島県","桑折町"]
["073032","福島県","国見町"]
["073083","福島県","川俣町"]
["073229","福島県","大玉村"]
["073423","福島県","鏡石町"]
["073440","福島県","天栄村"]
["073628","福島県","下郷町"]
["073644","福島県","檜枝岐村"]
["073679","福島県","只見町"]
["073687","福島県","南会津町"]
["074021","福島県","北塩原村"]
["074055","福島県","西会津町"]
["074071","福島県","磐梯町"]
["074080","福島県","猪苗代町"]
["074217","福島県","会津坂下町"]
["074225","福島県","湯川村"]
["074233","福島県","柳津町"]
["074446","福島県","三島町"]
["074454","福島県","金山町"]
["074462","福島県","昭和村"]
["074471","福島県","会津美里町"]
["074616","福島県","西郷村"]
["074641","福島県","泉崎村"]
["074659","福島県","中島村"]
["074667","福島県","矢吹町"]
["074811","福島県","棚倉町"]
["074829","福島県","矢祭町"]
["074837","福島県","塙町"]
["074845","福島県","鮫川村"]
["075019","福島県","石川町"]
["075027","福島県","玉川村"]
["075035","福島県","平田村"]
["075043","福島県","浅川町"]
["075051","福島県","古殿町"]
["075213","福島県","三春町"]
["075221","福島県","小野町"]
["075418","福島県","広野町"]
["075426","福島県","楢葉町"]
["075434","福島県","富岡町"]
["075442","福島県","川内村"]
["075451","福島県","大熊町"]
["075469","福島県","双葉町"]
["075477","福島県","浪江町"]
["075485","福島県","葛尾村"]
["075612","福島県","新地町"]
["075647","福島県","飯舘村"]
["082015","茨城県","水戸市"]
["082023","茨城県","日立市"]
["082031","茨城県","土浦市"]
["082040","茨城県","古河市"]
["082058","茨城県","石岡市"]
["082074","茨城県","結城市"]
["082082","茨城県","龍ケ崎市"]
["082104","茨城県","下妻市"]
["082112","茨城県","常総市"]
["082121","茨城県","常陸太田市"]
["082147","茨城県","高萩市"]
["082155","茨城県","北茨城市"]
["082163","茨城県","笠間市"]
["082171","茨城県","取手市"]
["082198","茨城県","牛久市"]
["082201","茨城県","つくば市"]
["082210","茨城県","ひたちなか市"]
["082228","茨城県","鹿嶋市"]
["082236","茨城県","潮来市"]
["082244","茨城県","守谷市"]
["082252","茨城県","常陸大宮市"]
["082261","茨城県","那珂市"]
["082279","茨城県","筑西市"]
["082287","茨城県","坂東市"]
["082295","茨城県","稲敷市"]
["082309","茨城県","かすみがうら市"]
["082317","茨城県","桜川市"]
["082325","茨城県","神栖市"]
["082333","茨城県","行方市"]
["082341","茨城県","鉾田市"]
["082350","茨城県","つくばみらい市"]
["082368","茨城県","小美玉市"]
["083020","茨城県","茨城町"]
["083097","茨城県","大洗町"]
["083101","茨城県","城里町"]
["083411","茨城県","東海村"]
["083640","茨城県","大子町"]
["084425","茨城県","美浦村"]
["084433","茨城県","阿見町"]
["084476","茨城県","河内町"]
["085219","茨城県","八千代町"]
["085421","茨城県","五霞町"]
["085464","茨城県","境町"]
["085642","茨城県","利根町"]
["092011","栃木県","宇都宮市"]
["092029","栃木県","足利市"]
["092037","栃木県","栃木市"]
["092045","栃木県","佐野市"]
["092053","栃木県","鹿沼市"]
["092061","栃木県","日光市"]
["092088","栃木県","小山市"]
["092096","栃木県","真岡市"]
["092100","栃木県","大田原市"]
["092118","栃木県","矢板市"]
["092134","栃木県","那須塩原市"]
["092142","栃木県","さくら市"]
["092151","栃木県","那須烏山市"]
["092169","栃木県","下野市"]
["093017","栃木県","上三川町"]
["093424","栃木県","益子町"]
["093432","栃木県","茂木町"]
["093441","栃木県","市貝町"]
["093459","栃木県","芳賀町"]
["093611","栃木県","壬生町"]
["093645","栃木県","野木町"]
["093840","栃木県","塩谷町"]
["093866","栃木県","高根沢町"]
["094072","栃木県","那須町"]
["094111","栃木県","那珂川町"]
["102016","群馬県","前橋市"]
["102024","群馬県","高崎市"]
["102032","群馬県","桐生市"]
["102041","群馬県","伊勢崎市"]
["102059","群馬県","太田市"]
["102067","群馬県","沼田市"]
["102075","群馬県","館林市"]
["102083","群馬県","渋川市"]
["102091","群馬県","藤岡市"]
["102105","群馬県","富岡市"]
["102113","群馬県","安中市"]
["102121","群馬県","みどり市"]
["103446","群馬県","榛東村"]
["103454","群馬県","吉岡町"]
["103667","群馬県","上野村"]
["103675","群馬県","神流町"]
["103829","群馬県","下仁田町"]
["103837","群馬県","南牧村"]
["103845","群馬県","甘楽町"]
["104213","群馬県","中之条町"]
["104248","群馬県","長野原町"]
["104256","群馬県","嬬恋村"]
["104264","群馬県","草津町"]
["104281","群馬県","高山村"]
["104299","群馬県","東吾妻町"]
["104434","群馬県","片品村"]
["104442","群馬県","川場村"]
["104485","群馬県","昭和村"]
["104493","群馬県","みなかみ町"]
["104647","群馬県","玉村町"]
["105210","群馬県","板倉町"]
["105228","群馬県","明和町"]
["105236","群馬県","千代田町"]
["105244","群馬県","大泉町"]
["105252","群馬県","邑楽町"]
["111007","埼玉県","さいたま市"]
["112011","埼玉県","川越市"]
["112020","埼玉県","熊谷市"]
["112038","埼玉県","川口市"]
["112062","埼玉県","行田市"]
["112071","埼玉県","秩父市"]
["112089","埼玉県","所沢市"]
["112097","埼玉県","飯能市"]
["112101","埼玉県","加須市"]
["112119","埼玉県","本庄市"]
["112127","埼玉県","東松山市"]
["112143","埼玉県","春日部市"]
["112151","埼玉県","狭山市"]
["112160","埼玉県","羽生市"]
["112178","埼玉県","鴻巣市"]
["112186","埼玉県","深谷市"]
["112194","埼玉県","上尾市"]
["112216","埼玉県","草加市"]
["112224","埼玉県","越谷市"]
["112232","埼玉県","蕨市"]
["112241","埼玉県","戸田市"]
["112259","埼玉県","入間市"]
["112275","埼玉県","朝霞市"]
["112283","埼玉県","志木市"]
["112291","埼玉県","和光市"]
["112305","埼玉県","新座市"]
["112313","埼玉県","桶川市"]
["112321","埼玉県","久喜市"]
["112330","埼玉県","北本市"]
["112348","埼玉県","八潮市"]
["112356","埼玉県","富士見市"]
["112372","埼玉県","三郷市"]
["112381","埼玉県","蓮田市"]
["112399","埼玉県","坂戸市"]
["112402","埼玉県","幸手市"]
["112411","埼玉県","鶴ヶ島市"]
["112429","埼玉県","日高市"]
["112437","埼玉県","吉川市"]
["112453","埼玉県","ふじみ野市"]
["112461","埼玉県","白岡市"]
["113018","埼玉県","伊奈町"]
["113247","埼玉県","三芳町"]
["113263","埼玉県","毛呂山町"]
["113271","埼玉県","越生町"]
["113417","埼玉県","滑川町"]
["113425","埼玉県","嵐山町"]
["113433","埼玉県","小川町"]
["113468","埼玉県","川島町"]
["113476","埼玉県","吉見町"]
["113484","埼玉県","鳩山町"]
["113492","埼玉県","ときがわ町"]
["113611","埼玉県","横瀬町"]
["113620","埼玉県","皆野町"]
["113638","埼玉県","長瀞町"]
["113654","埼玉県","小鹿野町"]
["113697","埼玉県","東秩父村"]
["113816","埼玉県","美里町"]
["113832","埼玉県","神川町"]
["113859","埼玉県","上里町"]
["114081","埼玉県","寄居町"]
["114421","埼玉県","宮代町"]
["114642","埼玉県","杉戸町"]
["114651","埼玉県","松伏町"]
["121002","千葉県","千葉市"]
["122025","千葉県","銚子市"]
["122033","千葉県","市川市"]
["122041","千葉県","船橋市"]
["122050","千葉県","館山市"]
["122068","千葉県","木更津市"]
["122076","千葉県","松戸市"]
["122084","千葉県","野田市"]
["122106","千葉県","茂原市"]
["122114","千葉県","成田市"]
["122122","千葉県","佐倉市"]
["122131","千葉県","東金市"]
["122157","千葉県","旭市"]
["122165","千葉県","習志野市"]
["122173","千葉県","柏市"]
["122181","千葉県","勝浦市"]
["122190","千葉県","市原市"]
["122203","千葉県","流山市"]
["122211","千葉県","八千代市"]
["122220","千葉県","我孫子市"]
["122238","千葉県","鴨川市"]
["122246","千葉県","鎌ケ谷市"]
["122254","千葉県","君津市"]
["122262","千葉県","富津市"]
["122271","千葉県","浦安市"]
["122289","千葉県","四街道市"]
["122297","千葉県","袖ケ浦市"]
["122301","千葉県","八街市"]
["122319","千葉県","印西市"]
["122327","千葉県","白井市"]
["122335","千葉県","富里市"]
["122343","千葉県","南房総市"]
["122351","千葉県","匝瑳市"]
["122360","千葉県","香取市"]
["122378","千葉県","山武市"]
["122386","千葉県","いすみ市"]
["122394","千葉県","大網白里市"]
["123226","千葉県","酒々井町"]
["123293","千葉県","栄町"]
["123421","千葉県","神崎町"]
["123471","千葉県","多古町"]
["123498","千葉県","東庄町"]
["124036","千葉県","九十九里町"]
["124095","千葉県","芝山町"]
["124109","千葉県","横芝光町"]
["124214","千葉県","一宮町"]
["124222","千葉県","睦沢町"]
["124231","千葉県","長生村"]
["124249","千葉県","白子町"]
["124265","千葉県","長柄町"]
["124273","千葉県","長南町"]
["124419","千葉県","大多喜町"]
["124435","千葉県","御宿町"]
["124630","千葉県","鋸南町"]
["131016","東京都","千代田区"]
["131024","東京都","中央区"]
["131032","東京都","港区"]
["131041","東京都","新宿区"]
["131059","東京都","文京区"]
["131067","東京都","台東区"]
["131075","東京都","墨田区"]
["131083","東京都","江東区"]
["131091","東京都","品川区"]
["131105","東京都","目黒区"]
["131113","東京都","大田区"]
["131121","東京都","世田谷区"]
["131130","東京都","渋谷区"]
["131148","東京都","中野区"]
["131156","東京都","杉並区"]
["131164","東京都","豊島区"]
["131172","東京都","北区"]
["131181","東京都","荒川区"]
["131199","東京都","板橋区"]
["131202","東京都","練馬区"]
["131211","東京都","足立区"]
["131229","東京都","葛飾区"]
["131237","東京都","江戸川区"]
["132012","東京都","八王子市"]
["132021","東京都","立川市"]
["132039","東京都","武蔵野市"]
["132047","東京都","三鷹市"]
["132055","東京都","青梅市"]
["132063","東京都","府中市"]
["132071","東京都","昭島市"]
["132080","東京都","調布市"]
["132098","東京都","町田市"]
["132101","東京都","小金井市"]
["132110","東京都","小平市"]
["132128","東京都","日野市"]
["132136","東京都","東村山市"]
["132144","東京都","国分寺市"]
["132152","東京都","国立市"]
["132187","東京都","福生市"]
["132195","東京都","狛江市"]
["132209","東京都","東大和市"]
["132217","東京都","清瀬市"]
["132225","東京都","東久留米市"]
["132233","東京都","武蔵村山市"]
["132241","東京都","多摩市"]
["132250","東京都","稲城市"]
["132276","東京都","羽村市"]
["132284","東京都","あきる野市"]
["132292","東京都","西東京市"]
["133035","東京都","瑞穂町"]
["133051","東京都","日の出町"]
["133078","東京都","檜原村"]
["133086","東京都","奥多摩町"]
["133612","東京都","大島町"]
["133621","東京都","利島村"]
["133639","東京都","新島村"]
["133647","東京都","神津島村"]
["133817","東京都","三宅村"]
["133825","東京都","御蔵島村"]
["134015","東京都","八丈町"]
["134023","東京都","青ヶ島村"]
["134210","東京都","小笠原村"]
["141003","神奈川県","横浜市"]
["141305","神奈川県","川崎市"]
["141500","神奈川県","相模原市"]
["142018","神奈川県","横須賀市"]
["142034","神奈川県","平塚市"]
["142042","神奈川県","鎌倉市"]
["142051","神奈川県","藤沢市"]
["142069","神奈川県","小田原市"]
["142077","神奈川県","茅ヶ崎市"]
["142085","神奈川県","逗子市"]
["142107","神奈川県","三浦市"]
["142115","神奈川県","秦野市"]
["142123","神奈川県","厚木市"]
["142131","神奈川県","大和市"]
["142140","神奈川県","伊勢原市"]
["142158","神奈川県","海老名市"]
["142166","神奈川県","座間市"]
["142174","神奈川県","南足柄市"]
["142182","神奈川県","綾瀬市"]
["143014","神奈川県","葉山町"]
["143219","神奈川県","寒川町"]
["143413","神奈川県","大磯町"]
["143421","神奈川県","二宮町"]
["143618","神奈川県","中井町"]
["143626","神奈川県","大井町"]
["143634","神奈川県","松田町"]
["143642","神奈川県","山北町"]
["143669","神奈川県","開成町"]
["143821","神奈川県","箱根町"]
["143839","神奈川県","真鶴町"]
["143847","神奈川県","湯河原町"]
["144011","神奈川県","愛川町"]
["144029","神奈川県","清川村"]
["151009","新潟県","新潟市"]
["152021","新潟県","長岡市"]
["152048","新潟県","三条市"]
["152056","新潟県","柏崎市"]
["152064","新潟県","新発田市"]
["152081","新潟県","小千谷市"]
["152099","新潟県","加茂市"]
["152102","新潟県","十日町市"]
["152111","新潟県","見附市"]
["152129","新潟県","村上市"]
["152137","新潟県","燕市"]
["152161","新潟県","糸魚川市"]
["152170","新潟県","妙高市"]
["152188","新潟県","五泉市"]
["152226","新潟県","上越市"]
["152234","新潟県","阿賀野市"]
["152242","新潟県","佐渡市"]
["152251","新潟県","魚沼市"]
["152269","新潟県","南魚沼市"]
["152277","新潟県","胎内市"]
["153079","新潟県","聖籠町"]
["153427","新潟県","弥彦村"]
["153613","新潟県","田上町"]
["153851","新潟県","阿賀町"]
["154059","新潟県","出雲崎町"]
["154610","新潟県","湯沢町"]
["154822","新潟県","津南町"]
["155047","新潟県","刈羽村"]
["155811","新潟県","関川村"]
["155861","新潟県","粟島浦村"]
["162019","富山県","富山市"]
["162027","富山県","高岡市"]
["162043","富山県","魚津市"]
["162051","富山県","氷見市"]
["162060","富山県","滑川市"]
["162078","富山県","黒部市"]
["162086","富山県","砺波市"]
["162094","富山県","小矢部市"]
["162108","富山県","南砺市"]
["162116","富山県","射水市"]
["163210","富山県","舟橋村"]
["163228","富山県","上市町"]
["163236","富山県","立山町"]
["163422","富山県","入善町"]
["163431","富山県","朝日町"]
["172014","石川県","金沢市"]
["172022","石川県","七尾市"]
["172031","石川県","小松市"]
["172049","石川県","輪島市"]
["172057","石川県","珠洲市"]
["172065","石川県","加賀市"]
["172073","石川県","羽咋市"]
["172090","石川県","かほく市"]
["172103","石川県","白山市"]
["172111","石川県","能美市"]
["172120","石川県","野々市市"]
["173240","石川県","川北町"]
["173614","石川県","津幡町"]
["173657","石川県","内灘町"]
["173843","石川県","志賀町"]
["173860","石川県","宝達志水町"]
["174076","石川県","中能登町"]
["174611","石川県","穴水町"]
["174637","石川県","能登町"]
["182010","福井県","福井市"]
["182028","福井県","敦賀市"]
["182044","福井県","小浜市"]
["182052","福井県","大野市"]
["182061","福井県","勝山市"]
["182079","福井県","鯖江市"]
["182087","福井県","あわら市"]
["182095","福井県","越前市"]
["182109","福井県","坂井市"]
["183229","福井県","永平寺町"]
["183822","福井県","池田町"]
["184047","福井県","南越前町"]
["184233","福井県","越前町"]
["184420","福井県","美浜町"]
["184811","福井県","高浜町"]
["184837","福井県","おおい町"]
["185019","福井県","若狭町"]
["192015","山梨県","甲府市"]
["192023","山梨県","富士吉田市"]
["192040","山梨県","都留市"]
["192058","山梨県","山梨市"]
["192066","山梨県","大月市"]
["192074","山梨県","韮崎市"]
["192082","山梨県","南アルプス市"]
["192091","山梨県","北杜市"]
["192104","山梨県","甲斐市"]
["192112","山梨県","笛吹市"]
["192121","山梨県","上野原市"]
["192139","山梨県","甲州市"]
["192147","山梨県","中央市"]
["193461","山梨県","市川三郷町"]
["193640","山梨県","早川町"]
["193658","山梨県","身延町"]
["193666","山梨県","南部町"]
["193682","山梨県","富士川町"]
["193844","山梨県","昭和町"]
["194221","山梨県","道志村"]
["194239","山梨県","西桂町"]
["194247","山梨県","忍野村"]
["194255","山梨県","山中湖村"]
["194298","山梨県","鳴沢村"]
["194301","山梨県","富士河口湖町"]
["194425","山梨県","小菅村"]
["194433","山梨県","丹波山村"]
["202011","長野県","長野市"]
["202029","長野県","松本市"]
["202037","長野県","上田市"]
["202045","長野県","岡谷市"]
["202053","長野県","飯田市"]
["202061","長野県","諏訪市"]
["202070","長野県","須坂市"]
["202088","長野県","小諸市"]
["202096","長野県","伊那市"]
["202100","長野県","駒ヶ根市"]
["202118","長野県","中野市"]
["202126","長野県","大町市"]
["202134","長野県","飯山市"]
["202142","長野県","茅野市"]
["202151","長野県","塩尻市"]
["202177","長野県","佐久市"]
["202185","長野県","千曲市"]
["202193","長野県","東御市"]
["202207","長野県","安曇野市"]
["203033","長野県","小海町"]
["203041","長野県","川上村"]
["203050","長野県","南牧村"]
["203068","長野県","南相木村"]
["203076","長野県","北相木村"]
["203092","長野県","佐久穂町"]
["203211","長野県","軽井沢町"]
["203238","長野県","御代田町"]
["203246","長野県","立科町"]
["203491","長野県","青木村"]
["203505","長野県","長和町"]
["203611","長野県","下諏訪町"]
["203629","長野県","富士見町"]
["203637","長野県","原村"]
["203823","長野県","辰野町"]
["203831","長野県","箕輪町"]
["203840","長野県","飯島町"]
["203858","長野県","南箕輪村"]
["203866","長野県","中川村"]
["203882","長野県","宮田村"]
["204021","長野県","松川町"]
["204030","長野県","高森町"]
["204048","長野県","阿南町"]
["204072","長野県","阿智村"]
["204099","長野県","平谷村"]
["204102","長野県","根羽村"]
["204111","長野県","下條村"]
["204129","長野県","売木村"]
["204137","長野県","天龍村"]
["204145","長野県","泰阜村"]
["204153","長野県","喬木村"]
["204161","長野県","豊丘村"]
["204170","長野県","大鹿村"]
["204226","長野県","上松町"]
["204234","長野県","南木曽町"]
["204251","長野県","木祖村"]
["204293","長野県","王滝村"]
["204307","長野県","大桑村"]
["204323","長野県","木曽町"]
["204463","長野県","麻績村"]
["204480","長野県","生坂村"]
["204501","長野県","山形村"]
["204510","長野県","朝日村"]
["204528","長野県","筑北村"]
["204811","長野県","池田町"]
["204820","長野県","松川村"]
["204854","長野県","白馬村"]
["204862","長野県","小谷村"]
["205214","長野県","坂城町"]
["205419","長野県","小布施町"]
["205435","長野県","高山村"]
["205613","長野県","山ノ内町"]
["205621","長野県","木島平村"]
["205630","長野県","野沢温泉村"]
["205834","長野県","信濃町"]
["205885","長野県","小川村"]
["205907","長野県","飯綱町"]
["206024","長野県","栄村"]
["212016","岐阜県","岐阜市"]
["212024","岐阜県","大垣市"]
["212032","岐阜県","高山市"]
["212041","岐阜県","多治見市"]
["212059","岐阜県","関市"]
["212067","岐阜県","中津川市"]
["212075","岐阜県","美濃市"]
["212083","岐阜県","瑞浪市"]
["212091","岐阜県","羽島市"]
["212105","岐阜県","恵那市"]
["212113","岐阜県","美濃加茂市"]
["212121","岐阜県","土岐市"]
["212130","岐阜県","各務原市"]
["212148","岐阜県","可児市"]
["212156","岐阜県","山県市"]
["212164","岐阜県","瑞穂市"]
["212172","岐阜県","飛騨市"]
["212181","岐阜県","本巣市"]
["212199","岐阜県","郡上市"]
["212202","岐阜県","下呂市"]
["212211","岐阜県","海津市"]
["213021","岐阜県","岐南町"]
["213039","岐阜県","笠松町"]
["213411","岐阜県","養老町"]
["213616","岐阜県","垂井町"]
["213624","岐阜県","関ケ原町"]
["213811","岐阜県","神戸町"]
["213829","岐阜県","輪之内町"]
["213837","岐阜県","安八町"]
["214019","岐阜県","揖斐川町"]
["214035","岐阜県","大野町"]
["214043","岐阜県","池田町"]
["214213","岐阜県","北方町"]
["215015","岐阜県","坂祝町"]
["215023","岐阜県","富加町"]
["215031","岐阜県","川辺町"]
["215040","岐阜県","七宗町"]
["215058","岐阜県","八百津町"]
["215066","岐阜県","白川町"]
["215074","岐阜県","東白川村"]
["215210","岐阜県","御嵩町"]
["216046","岐阜県","白川村"]
["221007","静岡県","静岡市"]
["221309","静岡県","浜松市"]
["222038","静岡県","沼津市"]
["222054","静岡県","熱海市"]
["222062","静岡県","三島市"]
["222071","静岡県","富士宮市"]
["222089","静岡県","伊東市"]
["222097","静岡県","島田市"]
["222101","静岡県","富士市"]
["222119","静岡県","磐田市"]
["222127","静岡県","焼津市"]
["222135","静岡県","掛川市"]
["222143","静岡県","藤枝市"]
["222151","静岡県","御殿場市"]
["222160","静岡県","袋井市"]
["222194","静岡県","下田市"]
["222208","静岡県","裾野市"]
["222216","静岡県","湖西市"]
["222224","静岡県","伊豆市"]
["222232","静岡県","御前崎市"]
["222241","静岡県","菊川市"]
["222259","静岡県","伊豆の国市"]
["222267","静岡県","牧之原市"]
["223018","静岡県","東伊豆町"]
["223026","静岡県","河津町"]
["223042","静岡県","南伊豆町"]
["223051","静岡県","松崎町"]
["223069","静岡県","西伊豆町"]
["223255","静岡県","函南町"]
["223417","静岡県","清水町"]
["223425","静岡県","長泉町"]
["223441","静岡県","小山町"]
["224243","静岡県","吉田町"]
["224294","静岡県","川根本町"]
["224618","静岡県","森町"]
["231002","愛知県","名古屋市"]
["232017","愛知県","豊橋市"]
["232025","愛知県","岡崎市"]
["232033","愛知県","一宮市"]
["232041","愛知県","瀬戸市"]
["232050","愛知県","半田市"]
["232068","愛知県","春日井市"]
["232076","愛知県","豊川市"]
["232084","愛知県","津島市"]
["232092","愛知県","碧南市"]
["232106","愛知県","刈谷市"]
["232114","愛知県","豊田市"]
["232122","愛知県","安城市"]
["232131","愛知県","西尾市"]
["232149","愛知県","蒲郡市"]
["232157","愛知県","犬山市"]
["232165","愛知県","常滑市"]
["232173","愛知県","江南市"]
["232190","愛知県","小牧市"]
["232203","愛知県","稲沢市"]
["232211","愛知県","新城市"]
["232220","愛知県","東海市"]
["232238","愛知県","大府市"]
["232246","愛知県","知多市"]
["232254","愛知県","知立市"]
["232262","愛知県","尾張旭市"]
["232271","愛知県","高浜市"]
["232289","愛知県","岩倉市"]
["232297","愛知県","豊明市"]
["232301","愛知県","日進市"]
["232319","愛知県","田原市"]
["232327","愛知県","愛西市"]
["232335","愛知県","清須市"]
["232343","愛知県","北名古屋市"]
["232351","愛知県","弥富市"]
["232360","愛知県","みよし市"]
["232378","愛知県","あま市"]
["232386","愛知県","長久手市"]
["233021","愛知県","東郷町"]
["233421","愛知県","豊山町"]
["233617","愛知県","大口町"]
["233625","愛知県","扶桑町"]
["234249","愛知県","大治町"]
["234257","愛知県","蟹江町"]
["234273","愛知県","飛島村"]
["234419","愛知県","阿久比町"]
["234427","愛知県","東浦町"]
["234451","愛知県","南知多町"]
["234460","愛知県","美浜町"]
["234478","愛知県","武豊町"]
["235016","愛知県","幸田町"]
["235610","愛知県","設楽町"]
["235628","愛知県","東栄町"]
["235636","愛知県","豊根村"]
["242012","三重県","津市"]
["242021","三重県","四日市市"]
["242039","三重県","伊勢市"]
["242047","三重県","松阪市"]
["242055","三重県","桑名市"]
["242071","三重県","鈴鹿市"]
["242080","三重県","名張市"]
["242098","三重県","尾鷲市"]
["242101","三重県","亀山市"]
["242110","三重県","鳥羽市"]
["242128","三重県","熊野市"]
["242144","三重県","いなべ市"]
["242152","三重県","志摩市"]
["242161","三重県","伊賀市"]
["243035","三重県","木曽岬町"]
["243248","三重県","東員町"]
["243418","三重県","菰野町"]
["243434","三重県","朝日町"]
["243442","三重県","川越町"]
["244414","三重県","多気町"]
["244422","三重県","明和町"]
["244431","三重県","大台町"]
["244619","三重県","玉城町"]
["244708","三重県","度会町"]
["244716","三重県","大紀町"]
["244724","三重県","南伊勢町"]
["245437","三重県","紀北町"]
["245615","三重県","御浜町"]
["245623","三重県","紀宝町"]
["252018","滋賀県","大津市"]
["252026","滋賀県","彦根市"]
["252034","滋賀県","長浜市"]
["252042","滋賀県","近江八幡市"]
["252069","滋賀県","草津市"]
["252077","滋賀県","守山市"]
["252085","滋賀県","栗東市"]
["252093","滋賀県","甲賀市"]
["252107","滋賀県","野洲市"]
["252115","滋賀県","湖南市"]
["252123","滋賀県","高島市"]
["252131","滋賀県","東近江市"]
["252140","滋賀県","米原市"]
["253839","滋賀県","日野町"]
["253847","滋賀県","竜王町"]
["254258","滋賀県","愛荘町"]
["254410","滋賀県","豊郷町"]
["254428","滋賀県","甲良町"]
["254436","滋賀県","多賀町"]
["261009","京都府","京都市"]
["262013","京都府","福知山市"]
["262021","京都府","舞鶴市"]
["262030","京都府","綾部市"]
["262048","京都府","宇治市"]
["262056","京都府","宮津市"]
["262064","京都府","亀岡市"]
["262072","京都府","城陽市"]
["262081","京都府","向日市"]
["262099","京都府","長岡京市"]
["262102","京都府","八幡市"]
["262111","京都府","京田辺市"]
["262129","京都府","京丹後市"]
["262137","京都府","南丹市"]
["262145","京都府","木津川市"]
["263036","京都府","大山崎町"]
["263222","京都府","久御山町"]
["263435","京都府","井手町"]
["263443","京都府","宇治田原町"]
["263648","京都府","笠置町"]
["263656","京都府","和束町"]
["263664","京都府","精華町"]
["263672","京都府","南山城村"]
["264075","京都府","京丹波町"]
["264636","京都府","伊根町"]
["264652","京都府","与謝野町"]
["271004","大阪府","大阪市"]
["271403","大阪府","堺市"]
["272027","大阪府","岸和田市"]
["272035","大阪府","豊中市"]
["272043","大阪府","池田市"]
["272051","大阪府","吹田市"]
["272060","大阪府","泉大津市"]
["272078","大阪府","高槻市"]
["272086","大阪府","貝塚市"]
["272094","大阪府","守口市"]
["272108","大阪府","枚方市"]
["272116","大阪府","茨木市"]
["272124","大阪府","八尾市"]
["272132","大阪府","泉佐野市"]
["272141","大阪府","富田林市"]
["272159","大阪府","寝屋川市"]
["272167","大阪府","河内長野市"]
["272175","大阪府","松原市"]
["272183","大阪府","大東市"]
["272191","大阪府","和泉市"]
["272205","大阪府","箕面市"]
["272213","大阪府","柏原市"]
["272221","大阪府","羽曳野市"]
["272230","大阪府","門真市"]
["272248","大阪府","摂津市"]
["272256","大阪府","高石市"]
["272264","大阪府","藤井寺市"]
["272272","大阪府","東大阪市"]
["272281","大阪府","泉南市"]
["272299","大阪府","四條畷市"]
["272302","大阪府","交野市"]
["272311","大阪府","大阪狭山市"]
["272329","大阪府","阪南市"]
["273015","大阪府","島本町"]
["273210","大阪府","豊能町"]
["273228","大阪府","能勢町"]
["273414","大阪府","忠岡町"]
["273619","大阪府","熊取町"]
["273627","大阪府","田尻町"]
["273660","大阪府","岬町"]
["273813","大阪府","太子町"]
["273821","大阪府","河南町"]
["273830","大阪府","千早赤阪村"]
["281000","兵庫県","神戸市"]
["282014","兵庫県","姫路市"]
["282022","兵庫県","尼崎市"]
["282031","兵庫県","明石市"]
["282049","兵庫県","西宮市"]
["282057","兵庫県","洲本市"]
["282065","兵庫県","芦屋市"]
["282073","兵庫県","伊丹市"]
["282081","兵庫県","相生市"]
["282090","兵庫県","豊岡市"]
["282103","兵庫県","加古川市"]
["282120","兵庫県","赤穂市"]
["282138","兵庫県","西脇市"]
["282146","兵庫県","宝塚市"]
["282154","兵庫県","三木市"]
["282162","兵庫県","高砂市"]
["282171","兵庫県","川西市"]
["282189","兵庫県","小野市"]
["282197","兵庫県","三田市"]
["282201","兵庫県","加西市"]
["282219","兵庫県","丹波篠山市"]
["282227","兵庫県","養父市"]
["282235","兵庫県","丹波市"]
["282243","兵庫県","南あわじ市"]
["282251","兵庫県","朝来市"]
["282260","兵庫県","淡路市"]
["282278","兵庫県","宍粟市"]
["282286","兵庫県","加東市"]
["282294","兵庫県","たつの市"]
["283011","兵庫県","猪名川町"]
["283657","兵庫県","多可町"]
["283819","兵庫県","稲美町"]
["283827","兵庫県","播磨町"]
["284424","兵庫県","市川町"]
["284432","兵庫県","福崎町"]
["284467","兵庫県","神河町"]
["284645","兵庫県","太子町"]
["284815","兵庫県","上郡町"]
["285013","兵庫県","佐用町"]
["285854","兵庫県","香美町"]
["285862","兵庫県","新温泉町"]
["292010","奈良県","奈良市"]
["292028","奈良県","大和高田市"]
["292036","奈良県","大和郡山市"]
["292044","奈良県","天理市"]
["292052","奈良県","橿原市"]
["292061","奈良県","桜井市"]
["292079","奈良県","五條市"]
["292087","奈良県","御所市"]
["292095","奈良県","生駒市"]
["292109","奈良県","香芝市"]
["292117","奈良県","葛城市"]
["292125","奈良県","宇陀市"]
["293229","奈良県","山添村"]
["293423","奈良県","平群町"]
["293431","奈良県","三郷町"]
["293440","奈良県","斑鳩町"]
["293458","奈良県","安堵町"]
["293610","奈良県","川西町"]
["293628","奈良県","三宅町"]
["293636","奈良県","田原本町"]
["293857","奈良県","曽爾村"]
["293865","奈良県","御杖村"]
["294012","奈良県","高取町"]
["294021","奈良県","明日香村"]
["294241","奈良県","上牧町"]
["294250","奈良県","王寺町"]
["294268","奈良県","広陵町"]
["294276","奈良県","河合町"]
["294411","奈良県","吉野町"]
["294420","奈良県","大淀町"]
["294438","奈良県","下市町"]
["294446","奈良県","黒滝村"]
["294462","奈良県","天川村"]
["294471","奈良県","野迫川村"]
["294497","奈良県","十津川村"]
["294501","奈良県","下北山村"]
["294519","奈良県","上北山村"]
["294527","奈良県","川上村"]
["294535","奈良県","東吉野村"]
["302015","和歌山県","和歌山市"]
["302023","和歌山県","海南市"]
["302031","和歌山県","橋本市"]
["302040","和歌山県","有田市"]
["302058","和歌山県","御坊市"]
["302066","和歌山県","田辺市"]
["302074","和歌山県","新宮市"]
["302082","和歌山県","紀の川市"]
["302091","和歌山県","岩出市"]
["303046","和歌山県","紀美野町"]
["303411","和歌山県","かつらぎ町"]
["303437","和歌山県","九度山町"]
["303445","和歌山県","高野町"]
["303615","和歌山県","湯浅町"]
["303623","和歌山県","広川町"]
["303666","和歌山県","有田川町"]
["303810","和歌山県","美浜町"]
["303828","和歌山県","日高町"]
["303836","和歌山県","由良町"]
["303909","和歌山県","印南町"]
["303917","和歌山県","みなべ町"]
["303925","和歌山県","日高川町"]
["304018","和歌山県","白浜町"]
["304042","和歌山県","上富田町"]
["304069","和歌山県","すさみ町"]
["304212","和歌山県","那智勝浦町"]
["304221","和歌山県","太地町"]
["304247","和歌山県","古座川町"]
["304271","和歌山県","北山村"]
["304280","和歌山県","串本町"]
["312011","鳥取県","鳥取市"]
["312029","鳥取県","米子市"]
["312037","鳥取県","倉吉市"]
["312045","鳥取県","境港市"]
["313025","鳥取県","岩美町"]
["313254","鳥取県","若桜町"]
["313289","鳥取県","智頭町"]
["313297","鳥取県","八頭町"]
["313645","鳥取県","三朝町"]
["313700","鳥取県","湯梨浜町"]
["313718","鳥取県","琴浦町"]
["313726","鳥取県","北栄町"]
["313840","鳥取県","日吉津村"]
["313866","鳥取県","大山町"]
["313891","鳥取県","南部町"]
["313904","鳥取県","伯耆町"]
["314013","鳥取県","日南町"]
["314021","鳥取県","日野町"]
["314030","鳥取県","江府町"]
["322016","島根県","松江市"]
["322024","島根県","浜田市"]
["322032","島根県","出雲市"]
["322041","島根県","益田市"]
["322059","島根県","大田市"]
["322067","島根県","安来市"]
["322075","島根県","江津市"]
["322091","島根県","雲南市"]
["323438","島根県","奥出雲町"]
["323861","島根県","飯南町"]
["324418","島根県","川本町"]
["324485","島根県","美郷町"]
["324493","島根県","邑南町"]
["325015","島根県","津和野町"]
["325058","島根県","吉賀町"]
["325252","島根県","海士町"]
["325261","島根県","西ノ島町"]
["325279","島根県","知夫村"]
["325287","島根県","隠岐の島町"]
["331007","岡山県","岡山市"]
["332020","岡山県","倉敷市"]
["332038","岡山県","津山市"]
["332046","岡山県","玉野市"]
["332054","岡山県","笠岡市"]
["332071","岡山県","井原市"]
["332089","岡山県","総社市"]
["332097","岡山県","高梁市"]
["332101","岡山県","新見市"]
["332119","岡山県","備前市"]
["332127","岡山県","瀬戸内市"]
["332135","岡山県","赤磐市"]
["332143","岡山県","真庭市"]
["332151","岡山県","美作市"]
["332160","岡山県","浅口市"]
["333468","岡山県","和気町"]
["334235","岡山県","早島町"]
["334456","岡山県","里庄町"]
["334618","岡山県","矢掛町"]
["335860","岡山県","新庄村"]
["336068","岡山県","鏡野町"]
["336220","岡山県","勝央町"]
["336238","岡山県","奈義町"]
["336432","岡山県","西粟倉村"]
["336637","岡山県","久米南町"]
["336661","岡山県","美咲町"]
["336815","岡山県","吉備中央町"]
["341002","広島県","広島市"]
["342025","広島県","呉市"]
["342033","広島県","竹原市"]
["342041","広島県","三原市"]
["342050","広島県","尾道市"]
["342076","広島県","福山市"]
["342084","広島県","府中市"]
["342092","広島県","三次市"]
["342106","広島県","庄原市"]
["342114","広島県","大竹市"]
["342122","広島県","東広島市"]
["342131","広島県","廿日市市"]
["342149","広島県","安芸高田市"]
["342157","広島県","江田島市"]
["343021","広島県","府中町"]
["343048","広島県","海田町"]
["343072","広島県","熊野町"]
["343099","広島県","坂町"]
["343684","広島県","安芸太田町"]
["343692","広島県","北広島町"]
["344311","広島県","大崎上島町"]
["344621","広島県","世羅町"]
["345458","広島県","神石高原町"]
["352012","山口県","下関市"]
["352021","山口県","宇部市"]
["352039","山口県","山口市"]
["352047","山口県","萩市"]
["352063","山口県","防府市"]
["352071","山口県","下松市"]
["352080","山口県","岩国市"]
["352101","山口県","光市"]
["352110","山口県","長門市"]
["352128","山口県","柳井市"]
["352136","山口県","美祢市"]
["352152","山口県","周南市"]
["352161","山口県","山陽小野田市"]
["353051","山口県","周防大島町"]
["353213","山口県","和木町"]
["353418","山口県","上関町"]
["353434","山口県","田布施町"]
["353442","山口県","平生町"]
["355020","山口県","阿武町"]
["362018","徳島県","徳島市"]
["362026","徳島県","鳴門市"]
["362034","徳島県","小松島市"]
["362042","徳島県","阿南市"]
["362051","徳島県","吉野川市"]
["362069","徳島県","阿波市"]
["362077","徳島県","美馬市"]
["362085","徳島県","三好市"]
["363014","徳島県","勝浦町"]
["363022","徳島県","上勝町"]
["363219","徳島県","佐那河内村"]
["363413","徳島県","石井町"]
["363421","徳島県","神山町"]
["363685","徳島県","那賀町"]
["363839","徳島県","牟岐町"]
["363871","徳島県","美波町"]
["363880","徳島県","海陽町"]
["364011","徳島県","松茂町"]
["364029","徳島県","北島町"]
["364037","徳島県","藍住町"]
["364045","徳島県","板野町"]
["364053","徳島県","上板町"]
["364681","徳島県","つるぎ町"]
["364894","徳島県","東みよし町"]
["372013","香川県","高松市"]
["372021","香川県","丸亀市"]
["372030","香川県","坂出市"]
["372048","香川県","善通寺市"]
["372056","香川県","観音寺市"]
["372064","香川県","さぬき市"]
["372072","香川県","東かがわ市"]
["372081","香川県","三豊市"]
["373222","香川県","土庄町"]
["373249","香川県","小豆島町"]
["373419","香川県","三木町"]
["373648","香川県","直島町"]
["373869","香川県","宇多津町"]
["373877","香川県","綾川町"]
["374032","香川県","琴平町"]
["374041","香川県","多度津町"]
["374067","香川県","まんのう町"]
["382019","愛媛県","松山市"]
["382027","愛媛県","今治市"]
["382035","愛媛県","宇和島市"]
["382043","愛媛県","八幡浜市"]
["382051","愛媛県","新居浜市"]
["382060","愛媛県","西条市"]
["382078","愛媛県","大洲市"]
["382108","愛媛県","伊予市"]
["382132","愛媛県","四国中央市"]
["382141","愛媛県","西予市"]
["382159","愛媛県","東温市"]
["383562","愛媛県","上島町"]
["383864","愛媛県","久万高原町"]
["384011","愛媛県","松前町"]
["384020","愛媛県","砥部町"]
["384224","愛媛県","内子町"]
["384429","愛媛県","伊方町"]
["384844","愛媛県","松野町"]
["384887","愛媛県","鬼北町"]
["385069","愛媛県","愛南町"]
["392014","高知県","高知市"]
["392022","高知県","室戸市"]
["392031","高知県","安芸市"]
["392049","高知県","南国市"]
["392057","高知県","土佐市"]
["392065","高知県","須崎市"]
["392081","高知県","宿毛市"]
["392090","高知県","土佐清水市"]
["392103","高知県","四万十市"]
["392111","高知県","香南市"]
["392120","高知県","香美市"]
["393011","高知県","東洋町"]
["393029","高知県","奈半利町"]
["393037","高知県","田野町"]
["393045","高知県","安田町"]
["393053","高知県","北川村"]
["393061","高知県","馬路村"]
["393070","高知県","芸西村"]
["393410","高知県","本山町"]
["393444","高知県","大豊町"]
["393631","高知県","土佐町"]
["393649","高知県","大川村"]
["393860","高知県","いの町"]
["393878","高知県","仁淀川町"]
["394017","高知県","中土佐町"]
["394025","高知県","佐川町"]
["394033","高知県","越知町"]
["394050","高知県","梼原町"]
["394106","高知県","日高村"]
["394114","高知県","津野町"]
["394122","高知県","四万十町"]
["394246","高知県","大月町"]
["394271","高知県","三原村"]
["394289","高知県","黒潮町"]
["401005","福岡県","北九州市"]
["401307","福岡県","福岡市"]
["402028","福岡県","大牟田市"]
["402036","福岡県","久留米市"]
["402044","福岡県","直方市"]
["402052","福岡県","飯塚市"]
["402061","福岡県","田川市"]
["402079","福岡県","柳川市"]
["402109","福岡県","八女市"]
["402117","福岡県","筑後市"]
["402125","福岡県","大川市"]
["402133","福岡県","行橋市"]
["402141","福岡県","豊前市"]
["402150","福岡県","中間市"]
["402168","福岡県","小郡市"]
["402176","福岡県","筑紫野市"]
["402184","福岡県","春日市"]
["402192","福岡県","大野城市"]
["402206","福岡県","宗像市"]
["402214","福岡県","太宰府市"]
["402231","福岡県","古賀市"]
["402249","福岡県","福津市"]
["402257","福岡県","うきは市"]
["402265","福岡県","宮若市"]
["402273","福岡県","嘉麻市"]
["402281","福岡県","朝倉市"]
["402290","福岡県","みやま市"]
["402303","福岡県","糸島市"]
["402311","福岡県","那珂川市"]
["403415","福岡県","宇美町"]
["403423","福岡県","篠栗町"]
["403431","福岡県","志免町"]
["403440","福岡県","須恵町"]
["403458","福岡県","新宮町"]
["403482","福岡県","久山町"]
["403491","福岡県","粕屋町"]
["403814","福岡県","芦屋町"]
["403822","福岡県","水巻町"]
["403831","福岡県","岡垣町"]
["403849","福岡県","遠賀町"]
["404012","福岡県","小竹町"]
["404021","福岡県","鞍手町"]
["404217","福岡県","桂川町"]
["404471","福岡県","筑前町"]
["404489","福岡県","東峰村"]
["405035","福岡県","大刀洗町"]
["405221","福岡県","大木町"]
["405442","福岡県","広川町"]
["406015","福岡県","香春町"]
["406023","福岡県","添田町"]
["406040","福岡県","糸田町"]
["406058","福岡県","川崎町"]
["406082","福岡県","大任町"]
["406091","福岡県","赤村"]
["406104","福岡県","福智町"]
["406210","福岡県","苅田町"]
["406252","福岡県","みやこ町"]
["406422","福岡県","吉富町"]
["406465","福岡県","上毛町"]
["406473","福岡県","築上町"]
["412015","佐賀県","佐賀市"]
["412023","佐賀県","唐津市"]
["412031","佐賀県","鳥栖市"]
["412040","佐賀県","多久市"]
["412058","佐賀県","伊万里市"]
["412066","佐賀県","武雄市"]
["412074","佐賀県","鹿島市"]
["412082","佐賀県","小城市"]
["412091","佐賀県","嬉野市"]
["412104","佐賀県","神埼市"]
["413275","佐賀県","吉野ヶ里町"]
["413411","佐賀県","基山町"]
["413453","佐賀県","上峰町"]
["413461","佐賀県","みやき町"]
["413879","佐賀県","玄海町"]
["414018","佐賀県","有田町"]
["414239","佐賀県","大町町"]
["414247","佐賀県","江北町"]
["414255","佐賀県","白石町"]
["414417","佐賀県","太良町"]
["422011","長崎県","長崎市"]
["422029","長崎県","佐世保市"]
["422037","長崎県","島原市"]
["422045","長崎県","諫早市"]
["422053","長崎県","大村市"]
["422070","長崎県","平戸市"]
["422088","長崎県","松浦市"]
["422096","長崎県","対馬市"]
["422100","長崎県","壱岐市"]
["422118","長崎県","五島市"]
["422126","長崎県","西海市"]
["422134","長崎県","雲仙市"]
["422142","長崎県","南島原市"]
["423076","長崎県","長与町"]
["423084","長崎県","時津町"]
["423211","長崎県","東彼杵町"]
["423220","長崎県","川棚町"]
["423238","長崎県","波佐見町"]
["423831","長崎県","小値賀町"]
["423912","長崎県","佐々町"]
["424111","長崎県","新上五島町"]
["431001","熊本県","熊本市"]
["432024","熊本県","八代市"]
["432032","熊本県","人吉市"]
["432041","熊本県","荒尾市"]
["432059","熊本県","水俣市"]
["432067","熊本県","玉名市"]
["432083","熊本県","山鹿市"]
["432105","熊本県","菊池市"]
["432113","熊本県","宇土市"]
["432121","熊本県","上天草市"]
["432130","熊本県","宇城市"]
["432148","熊本県","阿蘇市"]
["432156","熊本県","天草市"]
["432164","熊本県","合志市"]
["433489","熊本県","美里町"]
["433641","熊本県","玉東町"]
["433675","熊本県","南関町"]
["433683","熊本県","長洲町"]
["433691","熊本県","和水町"]
["434035","熊本県","大津町"]
["434043","熊本県","菊陽町"]
["434230","熊本県","南小国町"]
["434248","熊本県","小国町"]
["434256","熊本県","産山村"]
["434281","熊本県","高森町"]
["434329","熊本県","西原村"]
["434337","熊本県","南阿蘇村"]
["434418","熊本県","御船町"]
["434426","熊本県","嘉島町"]
["434434","熊本県","益城町"]
["434442","熊本県","甲佐町"]
["434477","熊本県","山都町"]
["434680","熊本県","氷川町"]
["434825","熊本県","芦北町"]
["434841","熊本県","津奈木町"]
["435015","熊本県","錦町"]
["435058","熊本県","多良木町"]
["435066","熊本県","湯前町"]
["435074","熊本県","水上村"]
["435104","熊本県","相良村"]
["435112","熊本県","五木村"]
["435121","熊本県","山江村"]
["435139","熊本県","球磨村"]
["435147","熊本県","あさぎり町"]
["435317","熊本県","苓北町"]
["442011","大分県","大分市"]
["442020","大分県","別府市"]
["442038","大分県","中津市"]
["442046","大分県","日田市"]
["442054","大分県","佐伯市"]
["442062","大分県","臼杵市"]
["442071","大分県","津久見市"]
["442089","大分県","竹田市"]
["442097","大分県","豊後高田市"]
["442101","大分県","杵築市"]
["442119","大分県","宇佐市"]
["442127","大分県","豊後大野市"]
["442135","大分県","由布市"]
["442143","大分県","国東市"]
["443221","大分県","姫島村"]
["443417","大分県","日出町"]
["444618","大分県","九重町"]
["444626","大分県","玖珠町"]
["452017","宮崎県","宮崎市"]
["452025","宮崎県","都城市"]
["452033","宮崎県","延岡市"]
["452041","宮崎県","日南市"]
["452050","宮崎県","小林市"]
["452068","宮崎県","日向市"]
["452076","宮崎県","串間市"]
["452084","宮崎県","西都市"]
["452092","宮崎県","えびの市"]
["453412","宮崎県","三股町"]
["453617","宮崎県","高原町"]
["453820","宮崎県","国富町"]
["453838","宮崎県","綾町"]
["454010","宮崎県","高鍋町"]
["454028","宮崎県","新富町"]
["454036","宮崎県","西米良村"]
["454044","宮崎県","木城町"]
["454052","宮崎県","川南町"]
["454061","宮崎県","都農町"]
["454214","宮崎県","門川町"]
["454290","宮崎県","諸塚村"]
["454303","宮崎県","椎葉村"]
["454311","宮崎県","美郷町"]
["454419","宮崎県","高千穂町"]
["454427","宮崎県","日之影町"]
["454435","宮崎県","五ヶ瀬町"]
["462012","鹿児島県","鹿児島市"]
["462039","鹿児島県","鹿屋市"]
["462047","鹿児島県","枕崎市"]
["462063","鹿児島県","阿久根市"]
["462080","鹿児島県","出水市"]
["462101","鹿児島県","指宿市"]
["462136","鹿児島県","西之表市"]
["462144","鹿児島県","垂水市"]
["462152","鹿児島県","薩摩川内市"]
["462161","鹿児島県","日置市"]
["462179","鹿児島県","曽於市"]
["462187","鹿児島県","霧島市"]
["462195","鹿児島県","いちき串木野市"]
["462209","鹿児島県","南さつま市"]
["462217","鹿児島県","志布志市"]
["462225","鹿児島県","奄美市"]
["462233","鹿児島県","南九州市"]
["462241","鹿児島県","伊佐市"]
["462250","鹿児島県","姶良市"]
["463035","鹿児島県","三島村"]
["463043","鹿児島県","十島村"]
["463922","鹿児島県","さつま町"]
["464040","鹿児島県","長島町"]
["464520","鹿児島県","湧水町"]
["464686","鹿児島県","大崎町"]
["464821","鹿児島県","東串良町"]
["464902","鹿児島県","錦江町"]
["464911","鹿児島県","南大隅町"]
["464929","鹿児島県","肝付町"]
["465011","鹿児島県","中種子町"]
["465020","鹿児島県","南種子町"]
["465054","鹿児島県","屋久島町"]
["465232","鹿児島県","大和村"]
["465241","鹿児島県","宇検村"]
["465259","鹿児島県","瀬戸内町"]
["465275","鹿児島県","龍郷町"]
["465291","鹿児島県","喜界町"]
["465305","鹿児島県","徳之島町"]
["465313","鹿児島県","天城町"]
["465321","鹿児島県","伊仙町"]
["465330","鹿児島県","和泊町"]
["465348","鹿児島県","知名町"]
["465356","鹿児島県","与論町"]
["472018","沖縄県","那覇市"]
["472051","沖縄県","宜野湾市"]
["472077","沖縄県","石垣市"]
["472085","沖縄県","浦添市"]
["472093","沖縄県","名護市"]
["472107","沖縄県","糸満市"]
["472115","沖縄県","沖縄市"]
["472123","沖縄県","豊見城市"]
["472131","沖縄県","うるま市"]
["472140","沖縄県","宮古島市"]
["472158","沖縄県","南城市"]
["473014","沖縄県","国頭村"]
["473022","沖縄県","大宜味村"]
["473031","沖縄県","東村"]
["473065","沖縄県","今帰仁村"]
["473081","沖縄県","本部町"]
["473111","沖縄県","恩納村"]
["473138","沖縄県","宜野座村"]
["473146","沖縄県","金武町"]
["473154","沖縄県","伊江村"]
["473243","沖縄県","読谷村"]
["473251","沖縄県","嘉手納町"]
["473260","沖縄県","北谷町"]
["473278","沖縄県","北中城村"]
["473286","沖縄県","中城村"]
["473294","沖縄県","西原町"]
["473481","沖縄県","与那原町"]
["473502","沖縄県","南風原町"]
["473537","沖縄県","渡嘉敷村"]
["473545","沖縄県","座間味村"]
["473553","沖縄県","粟国村"]
["473561","沖縄県","渡名喜村"]
["473570","沖縄県","南大東村"]
["473588","沖縄県","北大東村"]
["473596","沖縄県","伊平屋村"]
["473600","沖縄県","伊是名村"]
["473618","沖縄県","久米島町"]
["473626","沖縄県","八重瀬町"]
["473758","沖縄県","多良間村"]
["473812","沖縄県","竹富町"]
["473821","沖縄県","与那国町"]

{"sheet":"集計用データ","index":1,"n_rows":24,"n_cols":255,"rows_kept":24,"cut":false,"hidden":false,"merged":[]}
["バージョン","地方公共団体コード","都道府県名","市区町村名","団体区分"]
[{"$f":"総括表①!$E$3","v":"Ver.05.00"},{"$f":"総括表①!B10","v":0},{"$f":"総括表①!$C$10","v":""},{"$f":"総括表①!$D$10","v":""},{"$f":"IF(総括表①!$C$11=\"1.都道府県\",1,IF(総括表①!$C$11=\"2.政令市\",2,IF(総括表①!$C$11=\"3.市\",3,IF(総括表①!$C$11=\"4.特別区\",4,IF(総括表①!$C$11=\"5.町村\",5,0)))))","v":1},{"$f":"総括表①!E10","v":"-"},{"$f":"総括表①!F10","v":"-"},{"$f":"総括表①!G10","v":"-"},{"$f":"総括表①!H10","v":"-"},{"$f":"総括表①!B15","v":0},{"$f":"総括表①!C15","v":0},{"$f":"総括表②!D5","v":"一般会計"},{"$f":"総括表②!E5","v":0},{"$f":"総括表②!D6","v":""},{"$f":"総括表②!E6","v":""},{"$f":"総括表②!D7","v":""},{"$f":"総括表②!E7","v":""},{"$f":"総括表②!D8","v":""},{"$f":"総括表②!E8","v":""},{"$f":"総括表②!D9","v":""},{"$f":"総括表②!E9","v":""},{"$f":"総括表②!D10","v":""},{"$f":"総括表②!E10","v":""},{"$f":"総括表②!D11","v":""},{"$f":"総括表②!E11","v":""},{"$f":"総括表②!D12","v":""},{"$f":"総括表②!E12","v":""},{"$f":"総括表②!D13","v":""},{"$f":"総括表②!E13","v":""},{"$f":"総括表②!D14","v":""},{"$f":"総括表②!E14","v":""},{"$f":"総括表②!D15","v":""},{"$f":"総括表②!E15","v":""},{"$f":"総括表②!D16","v":""},{"$f":"総括表②!E16","v":""},{"$f":"総括表②!D17","v":""},{"$f":"総括表②!E17","v":""},{"$f":"総括表②!D18","v":""},{"$f":"総括表②!E18","v":""},{"$f":"総括表②!D19","v":""},{"$f":"総括表②!E19","v":""},{"$f":"総括表②!D20","v":""},{"$f":"総括表②!E20","v":""},{"$f":"総括表②!E21","v":0},{"$f":"総括表②!E23","v":"-"},{"$f":"'１①②'!B29","v":0},{"$f":"総括表②!D26","v":""},{"$f":"総括表②!E26","v":""},{"$f":"'１①②'!B30","v":0},{"$f":"総括表②!D27","v":""},{"$f":"総括表②!E27","v":""},{"$f":"'１①②'!B31","v":0},{"$f":"総括表②!D28","v":""},{"$f":"総括表②!E28","v":""},{"$f":"'１①②'!B32","v":0},{"$f":"総括表②!D29","v":""},{"$f":"総括表②!E29","v":""},{"$f":"'１①②'!B33","v":0},{"$f":"総括表②!D30","v":""},{"$f":"総括表②!E30","v":""},{"$f":"'１①②'!B34","v":0},{"$f":"総括表②!D31","v":""},{"$f":"総括表②!E31","v":""},{"$f":"'１①②'!B35","v":0},{"$f":"総括表②!D32","v":""},{"$f":"総括表②!E32","v":""},{"$f":"'１①②'!B36","v":0},{"$f":"総括表②!D33","v":""},{"$f":"総括表②!E33","v":""},{"$f":"'１①②'!B37","v":0},{"$f":"総括表②!D34","v":""},{"$f":"総括表②!E34","v":""},{"$f":"'１①②'!B38","v":0},{"$f":"総括表②!D35","v":""},{"$f":"総括表②!E35","v":""},{"$f":"'１①②'!B39","v":0},{"$f":"総括表②!D36","v":""},{"$f":"総括表②!E36","v":""},{"$f":"'１①②'!B40","v":0},{"$f":"総括表②!D37","v":""},{"$f":"総括表②!E37","v":""},{"$f":"'１①②'!B41","v":0},{"$f":"総括表②!D38","v":""},{"$f":"総括表②!E38","v":""},{"$f":"総括表②!I5","v":0},{"$f":"総括表②!J5","v":0},{"$f":"総括表②!I6","v":0},{"$f":"総括表②!J6","v":0},{"$f":"総括表②!I7","v":0},{"$f":"総括表②!J7","v":0},{"$f":"総括表②!I8","v":0},{"$f":"総括表②!J8","v":0},{"$f":"総括表②!I9","v":0},{"$f":"総括表②!J9","v":0},{"$f":"総括表②!I10","v":0},{"$f":"総括表②!J10","v":0},{"$f":"総括表②!I11","v":0},{"$f":"総括表②!J11","v":0},{"$f":"総括表②!I12","v":0},{"$f":"総括表②!J12","v":0},{"$f":"総括表②!I13","v":0},{"$f":"総括表②!J13","v":0},{"$f":"総括表②!I14","v":0},{"$f":"総括表②!J14","v":0},{"$f":"総括表②!I15","v":0},{"$f":"総括表②!J15","v":0},{"$f":"総括表②!I16","v":0},{"$f":"総括表②!J16","v":0},{"$f":"総括表②!I17","v":0},{"$f":"総括表②!J17","v":0},{"$f":"総括表②!I18","v":0},{"$f":"総括表②!J18","v":0},{"$f":"総括表②!I19","v":0},{"$f":"総括表②!J19","v":0},{"$f":"総括表②!I20","v":0},{"$f":"総括表②!J20","v":0},{"$f":"総括表②!I21","v":0},{"$f":"総括表②!J21","v":0},{"$f":"総括表②!I22","v":0},{"$f":"総括表②!J22","v":0},{"$f":"総括表②!$I23","v":0},{"$f":"総括表②!$J23","v":0},{"$f":"総括表②!$I24","v":0},{"$f":"総括表②!$J24","v":0},{"$f":"総括表②!$I25","v":0},{"$f":"総括表②!$J25","v":0},{"$f":"総括表②!$I26","v":0},{"$f":"総括表②!$J26","v":0},{"$f":"総括表②!$I27","v":0},{"$f":"総括表②!$J27","v":0},{"$f":"総括表②!$I28","v":0},{"$f":"総括表②!$J28","v":0},{"$f":"総括表②!$I29","v":0},{"$f":"総括表②!$J29","v":0},{"$f":"総括表②!$I30","v":0},{"$f":"総括表②!$J30","v":0},{"$f":"総括表②!$I31","v":0},{"$f":"総括表②!$J31","v":0},{"$f":"総括表②!$I32","v":0},{"$f":"総括表②!$J32","v":0},{"$f":"総括表②!$I33","v":0},{"$f":"総括表②!$J33","v":0},{"$f":"総括表②!$I34","v":0},{"$f":"総括表②!$J34","v":0},{"$f":"総括表②!$I35","v":0},{"$f":"総括表②!$J35","v":0},{"$f":"総括表②!$I36","v":0},{"$f":"総括表②!$J36","v":0},{"$f":"総括表②!$I37","v":0},{"$f":"総括表②!$J37","v":0},{"$f":"総括表②!$I38","v":0},{"$f":"総括表②!$J38","v":0},{"$f":"総括表②!$I39","v":0},{"$f":"総括表②!$J39","v":0},{"$f":"総括表②!$I40","v":0},{"$f":"総括表②!$J40","v":0},{"$f":"総括表②!$I41","v":0},{"$f":"総括表②!$J41","v":0},{"$f":"総括表②!$I42","v":0},{"$f":"総括表②!$J42","v":0},{"$f":"総括表②!J43","v":0},{"$f":"総括表②!J45","v":"-"},{"$f":"総括表③!L14","v":"-"},{"$f":"総括表③!L15","v":"-"},{"$f":"総括表③!L16","v":"-"},{"$f":"総括表③!N14","v":"-"},{"$f":"総括表③!D8","v":0},{"$f":"総括表③!E8","v":0},{"$f":"総括表③!F8","v":0},{"$f":"総括表③!G8","v":0},{"$f":"総括表③!H8","v":0},{"$f":"総括表③!I8","v":0},{"$f":"総括表③!J8","v":0},{"$f":"総括表③!K8","v":0},{"$f":"総括表③!L8","v":0},{"$f":"総括表③!M8","v":0},{"$f":"総括表③!N8","v":0},{"$f":"総括表③!D14","v":0},{"$f":"総括表③!E14","v":0},{"$f":"総括表③!F14","v":0},{"$f":"総括表③!I14","v":0},{"$f":"総括表③!D21","v":0},{"$f":"総括表③!E21","v":0},{"$f":"総括表③!F21","v":0},{"$f":"総括表③!G21","v":0},{"$f":"総括表③!H21","v":0},{"$f":"総括表③!I21","v":0},{"$f":"総括表③!J21","v":0},{"$f":"総括表③!K21","v":0},{"$f":"総括表③!L21","v":0},{"$f":"総括表③!D9","v":0},{"$f":"総括表③!E9","v":0},{"$f":"総括表③!F9","v":0},{"$f":"総括表③!G9","v":0},{"$f":"総括表③!H9","v":0},{"$f":"総括表③!I9","v":0},{"$f":"総括表③!J9","v":0},{"$f":"総括表③!K9","v":0},{"$f":"総括表③!L9","v":0},{"$f":"総括表③!M9","v":0},{"$f":"総括表③!N9","v":0},{"$f":"総括表③!D15","v":0},{"$f":"総括表③!E15","v":0},{"$f":"総括表③!F15","v":0},{"$f":"総括表③!I15","v":0},{"$f":"総括表③!D22","v":0},{"$f":"総括表③!E22","v":0},{"$f":"総括表③!F22","v":0},{"$f":"総括表③!G22","v":0},{"$f":"総括表③!H22","v":0},{"$f":"総括表③!I22","v":0},{"$f":"総括表③!J22","v":0},{"$f":"総括表③!K22","v":0},{"$f":"総括表③!L22","v":0},{"$f":"総括表③!D10","v":0},{"$f":"総括表③!E10","v":0},{"$f":"総括表③!F10","v":0},{"$f":"総括表③!G10","v":0},{"$f":"総括表③!H10","v":0},{"$f":"総括表③!I10","v":0},{"$f":"総括表③!J10","v":0},{"$f":"総括表③!K10","v":0},{"$f":"総括表③!L10","v":0},{"$f":"総括表③!M10","v":0},{"$f":"総括表③!N10","v":0},{"$f":"総括表③!D16","v":0},{"$f":"総括表③!E16","v":0},{"$f":"総括表③!F16","v":0},{"$f":"総括表③!I16","v":0},{"$f":"総括表③!D23","v":0},{"$f":"総括表③!E23","v":0},{"$f":"総括表③!F23","v":0},{"$f":"総括表③!G23","v":0},{"$f":"総括表③!H23","v":0},{"$f":"総括表③!I23","v":0},{"$f":"総括表③!J23","v":0},{"$f":"総括表③!K23","v":0},{"$f":"総括表③!L23","v":0}]
[{"$f":"総括表①!$E$3","v":"Ver.05.00"},{"$f":"総括表①!B10","v":0},{"$f":"総括表①!$C$10","v":""},{"$f":"総括表①!$D$10","v":""},{"$f":"IF(総括表①!$C$11=\"1.都道府県\",1,IF(総括表①!$C$11=\"2.政令市\",2,IF(総括表①!$C$11=\"3.市\",3,IF(総括表①!$C$11=\"4.特別区\",4,IF(総括表①!$C$11=\"5.町村\",5,0)))))","v":1},{"$f":"総括表④!B6","v":0},{"$f":"総括表④!C6","v":0},{"$f":"総括表④!D6","v":0},{"$f":"総括表④!E6","v":0},{"$f":"総括表④!F6","v":0},{"$f":"総括表④!G6","v":0},{"$f":"総括表④!H6","v":0},{"$f":"総括表④!I6","v":0},{"$f":"総括表④!J6","v":0},{"$f":"総括表④!K6","v":0},{"$f":"総括表④!L6","v":0},{"$f":"総括表④!M6","v":0},{"$f":"総括表④!B11","v":0},{"$f":"総括表④!C11","v":0},{"$f":"総括表④!D11","v":0},{"$f":"総括表④!E11","v":0},{"$f":"総括表④!B15","v":0},{"$f":"総括表④!E15","v":0},{"$f":"総括表④!H15","v":0},{"$f":"総括表④!E18","v":0},{"$f":"総括表④!H18","v":0},{"$f":"総括表④!L16","v":"-"},{"$f":"'４①'!M9","v":0},{"$f":"'４①'!M13","v":0},{"$f":"'４①'!M17","v":0},{"$f":"'４①'!M21","v":0},{"$f":"'４①'!M25","v":0},{"$f":"'４①'!M29","v":0},{"$f":"'４①'!M33","v":0},{"$f":"'４①'!M37","v":0},{"$f":"'４①'!M41","v":0},{"$f":"'４①'!M45","v":0},{"$f":"'４①'!K87","v":0},{"$f":"'４①'!C7","v":0},{"$f":"'４①'!D7","v":0},{"$f":"'４①'!I7","v":0},{"$f":"'４①'!K7","v":0},{"$f":"'４①'!C8","v":0},{"$f":"'４①'!D8","v":0},{"$f":"'４①'!I8","v":0},{"$f":"'４①'!K8","v":0},{"$f":"'４①'!C9","v":0},{"$f":"'４①'!D9","v":0},{"$f":"'４①'!I9","v":0},{"$f":"'４①'!K9","v":0},{"$f":"'４①'!C10","v":0},{"$f":"'４①'!D10","v":0},{"$f":"'４①'!I10","v":0},{"$f":"'４①'!K10","v":0},{"$f":"'４①'!C11","v":0},{"$f":"'４①'!D11","v":0},{"$f":"'４①'!I11","v":0},{"$f":"'４①'!K11","v":0},{"$f":"'４①'!C12","v":0},{"$f":"'４①'!D12","v":0},{"$f":"'４①'!I12","v":0},{"$f":"'４①'!K12","v":0},{"$f":"'４①'!C13","v":0},{"$f":"'４①'!D13","v":0},{"$f":"'４①'!I13","v":0},{"$f":"'４①'!K13","v":0},{"$f":"'４①'!C14","v":0},{"$f":"'４①'!D14","v":0},{"$f":"'４①'!I14","v":0},{"$f":"'４①'!K14","v":0},{"$f":"'４①'!C15","v":0},{"$f":"'４①'!D15","v":0},{"$f":"'４①'!I15","v":0},{"$f":"'４①'!K15","v":0},{"$f":"'４①'!C16","v":0},{"$f":"'４①'!D16","v":0},{"$f":"'４①'!I16","v":0},{"$f":"'４①'!K16","v":0},{"$f":"'４①'!C17","v":0},{"$f":"'４①'!D17","v":0},{"$f":"'４①'!I17","v":0},{"$f":"'４①'!K17","v":0},{"$f":"'４①'!C18","v":0},{"$f":"'４①'!D18","v":0},{"$f":"'４①'!I18","v":0},{"$f":"'４①'!K18","v":0},{"$f":"'４①'!C19","v":0},{"$f":"'４①'!D19","v":0},{"$f":"'４①'!I19","v":0},{"$f":"'４①'!K19","v":0},{"$f":"'４①'!C20","v":0},{"$f":"'４①'!D20","v":0},{"$f":"'４①'!I20","v":0},{"$f":"'４①'!K20","v":0},{"$f":"'４①'!C21","v":0},{"$f":"'４①'!D21","v":0},{"$f":"'４①'!I21","v":0},{"$f":"'４①'!K21","v":0},{"$f":"'４①'!C22","v":0},{"$f":"'４①'!D22","v":0},{"$f":"'４①'!I22","v":0},{"$f":"'４①'!K22","v":0},{"$f":"'４①'!C23","v":0},{"$f":"'４①'!D23","v":0},{"$f":"'４①'!I23","v":0},{"$f":"'４①'!K23","v":0},{"$f":"'４①'!C24","v":0},{"$f":"'４①'!D24","v":0},{"$f":"'４①'!I24","v":0},{"$f":"'４①'!K24","v":0},{"$f":"'４①'!C25","v":0},{"$f":"'４①'!D25","v":0},{"$f":"'４①'!I25","v":0},{"$f":"'４①'!K25","v":0},{"$f":"'４①'!C26","v":0},{"$f":"'４①'!D26","v":0},{"$f":"'４①'!I26","v":0},{"$f":"'４①'!K26","v":0},{"$f":"'４①'!C27","v":0},{"$f":"'４①'!D27","v":0},{"$f":"'４①'!I27","v":0},{"$f":"'４①'!K27","v":0},{"$f":"'４①'!C28","v":0},{"$f":"'４①'!D28","v":0},{"$f":"'４①'!I28","v":0},{"$f":"'４①'!K28","v":0},{"$f":"'４①'!C29","v":0},{"$f":"'４①'!D29","v":0},{"$f":"'４①'!I29","v":0},{"$f":"'４①'!K29","v":0},{"$f":"'４①'!C30","v":0},{"$f":"'４①'!D30","v":0},{"$f":"'４①'!I30","v":0},{"$f":"'４①'!K30","v":0},{"$f":"'４①'!C31","v":0},{"$f":"'４①'!D31","v":0},{"$f":"'４①'!I31","v":0},{"$f":"'４①'!K31","v":0},{"$f":"'４①'!C32","v":0},{"$f":"'４①'!D32","v":0},{"$f":"'４①'!I32","v":0},{"$f":"'４①'!K32","v":0},{"$f":"'４①'!C33","v":0},{"$f":"'４①'!D33","v":0},{"$f":"'４①'!I33","v":0},{"$f":"'４①'!K33","v":0},{"$f":"'４①'!C34","v":0},{"$f":"'４①'!D34","v":0},{"$f":"'４①'!I34","v":0},{"$f":"'４①'!K34","v":0},{"$f":"'４①'!C35","v":0},{"$f":"'４①'!D35","v":0},{"$f":"'４①'!I35","v":0},{"$f":"'４①'!K35","v":0},{"$f":"'４①'!C36","v":0},{"$f":"'４①'!D36","v":0},{"$f":"'４①'!I36","v":0},{"$f":"'４①'!K36","v":0},{"$f":"'４①'!C37","v":0},{"$f":"'４①'!D37","v":0},{"$f":"'４①'!I37","v":0},{"$f":"'４①'!K37","v":0},{"$f":"'４①'!C38","v":0},{"$f":"'４①'!D38","v":0},{"$f":"'４①'!I38","v":0},{"$f":"'４①'!K38","v":0},{"$f":"'４①'!C39","v":0},{"$f":"'４①'!D39","v":0},{"$f":"'４①'!I39","v":0},{"$f":"'４①'!K39","v":0},{"$f":"'４①'!C40","v":0},{"$f":"'４①'!D40","v":0},{"$f":"'４①'!I40","v":0},{"$f":"'４①'!K40","v":0},{"$f":"'４①'!C41","v":0},{"$f":"'４①'!D41","v":0},{"$f":"'４①'!I41","v":0},{"$f":"'４①'!K41","v":0},{"$f":"'４①'!C42","v":0},{"$f":"'４①'!D42","v":0},{"$f":"'４①'!I42","v":0},{"$f":"'４①'!K42","v":0},{"$f":"'４①'!C43","v":0},{"$f":"'４①'!D43","v":0},{"$f":"'４①'!I43","v":0},{"$f":"'４①'!K43","v":0},{"$f":"'４①'!C44","v":0},{"$f":"'４①'!D44","v":0},{"$f":"'４①'!I44","v":0},{"$f":"'４①'!K44","v":0},{"$f":"'４①'!C45","v":0},{"$f":"'４①'!D45","v":0},{"$f":"'４①'!I45","v":0},{"$f":"'４①'!K45","v":0},{"$f":"'４①'!C46","v":0},{"$f":"'４①'!D46","v":0},{"$f":"'４①'!I46","v":0},{"$f":"'４①'!K46","v":0},{"$f":"'４①'!C47","v":0},{"$f":"'４①'!D47","v":1},{"$f":"'４①'!I47","v":0},{"$f":"'４①'!K47","v":0},{"$f":"'４①'!C48","v":0},{"$f":"'４①'!D48","v":1},{"$f":"'４①'!I48","v":0},{"$f":"'４①'!K48","v":0},{"$f":"'４①'!C49","v":0},{"$f":"'４①'!D49","v":1},{"$f":"'４①'!I49","v":0},{"$f":"'４①'!K49","v":0},{"$f":"'４①'!C50","v":0},{"$f":"'４①'!D50","v":1},{"$f":"'４①'!I50","v":0},{"$f":"'４①'!K50","v":0},{"$f":"'４①'!C51","v":0},{"$f":"'４①'!D51","v":1},{"$f":"'４①'!I51","v":0},{"$f":"'４①'!K51","v":0},{"$f":"'４①'!C52","v":0},{"$f":"'４①'!D52","v":1},{"$f":"'４①'!I52","v":0},{"$f":"'４①'!K52","v":0},{"$f":"'４①'!C53","v":0},{"$f":"'４①'!D53","v":1},{"$f":"'４①'!I53","v":0},{"$f":"'４①'!K53","v":0},{"$f":"'４①'!C54","v":0},{"$f":"'４①'!D54","v":1},{"$f":"'４①'!I54","v":0},{"$f":"'４①'!K54","v":0},{"$f":"'４①'!C55","v":0},{"$f":"'４①'!D55","v":1},{"$f":"'４①'!I55","v":0},{"$f":"'４①'!K55","v":0},{"$f":"'４①'!C56","v":0},{"$f":"'４①'!D56","v":1},{"$f":"'４①'!I56","v":0},{"$f":"'４①'!K56","v":0},{"$f":"'４①'!C57","v":0},{"$f":"'４①'!D57","v":1},{"$f":"'４①'!I57","v":0},{"$f":"'４①'!K57","v":0},{"$f":"'４①'!C58","v":0},{"$f":"'４①'!D58","v":1},{"$f":"'４①'!I58","v":0},{"$f":"'４①'!K58","v":0},{"$f":"'４①'!C59","v":0},{"$f":"'４①'!D59","v":1},{"$f":"'４①'!I59","v":0},{"$f":"'４①'!K59","v":0},{"$f":"'４①'!C60","v":0},{"$f":"'４①'!D60","v":1},{"$f":"'４①'!I60","v":0},{"$f":"'４①'!K60","v":0}]
[{"$f":"総括表①!$E$3","v":"Ver.05.00"},{"$f":"総括表①!B10","v":0},{"$f":"総括表①!$C$10","v":""},{"$f":"総括表①!$D$10","v":""},{"$f":"IF(総括表①!$C$11=\"1.都道府県\",1,IF(総括表①!$C$11=\"2.政令市\",2,IF(総括表①!$C$11=\"3.市\",3,IF(総括表①!$C$11=\"4.特別区\",4,IF(総括表①!$C$11=\"5.町村\",5,0)))))","v":1},{"$f":"'４①'!C61","v":0},{"$f":"'４①'!D61","v":1},{"$f":"'４①'!I61","v":0},{"$f":"'４①'!K61","v":0},{"$f":"'４①'!C62","v":0},{"$f":"'４①'!D62","v":1},{"$f":"'４①'!I62","v":0},{"$f":"'４①'!K62","v":0},{"$f":"'４①'!C63","v":0},{"$f":"'４①'!D63","v":1},{"$f":"'４①'!I63","v":0},{"$f":"'４①'!K63","v":0},{"$f":"'４①'!C64","v":0},{"$f":"'４①'!D64","v":1},{"$f":"'４①'!I64","v":0},{"$f":"'４①'!K64","v":0},{"$f":"'４①'!C65","v":0},{"$f":"'４①'!D65","v":1},{"$f":"'４①'!I65","v":0},{"$f":"'４①'!K65","v":0},{"$f":"'４①'!C66","v":0},{"$f":"'４①'!D66","v":1},{"$f":"'４①'!I66","v":0},{"$f":"'４①'!K66","v":0},{"$f":"'４①'!C67","v":0},{"$f":"'４①'!D67","v":1},{"$f":"'４①'!I67","v":0},{"$f":"'４①'!K67","v":0},{"$f":"'４①'!C68","v":0},{"$f":"'４①'!D68","v":1},{"$f":"'４①'!I68","v":0},{"$f":"'４①'!K68","v":0},{"$f":"'４①'!C69","v":0},{"$f":"'４①'!D69","v":1},{"$f":"'４①'!I69","v":0},{"$f":"'４①'!K69","v":0},{"$f":"'４①'!C70","v":0},{"$f":"'４①'!D70","v":1},{"$f":"'４①'!I70","v":0},{"$f":"'４①'!K70","v":0},{"$f":"'４①'!C71","v":0},{"$f":"'４①'!D71","v":1},{"$f":"'４①'!I71","v":0},{"$f":"'４①'!K71","v":0},{"$f":"'４①'!C72","v":0},{"$f":"'４①'!D72","v":1},{"$f":"'４①'!I72","v":0},{"$f":"'４①'!K72","v":0},{"$f":"'４①'!C73","v":0},{"$f":"'４①'!D73","v":1},{"$f":"'４①'!I73","v":0},{"$f":"'４①'!K73","v":0},{"$f":"'４①'!C74","v":0},{"$f":"'４①'!D74","v":1},{"$f":"'４①'!I74","v":0},{"$f":"'４①'!K74","v":0},{"$f":"'４①'!C75","v":0},{"$f":"'４①'!D75","v":1},{"$f":"'４①'!I75","v":0},{"$f":"'４①'!K75","v":0},{"$f":"'４①'!C76","v":0},{"$f":"'４①'!D76","v":1},{"$f":"'４①'!I76","v":0},{"$f":"'４①'!K76","v":0},{"$f":"'４①'!C77","v":0},{"$f":"'４①'!D77","v":1},{"$f":"'４①'!I77","v":0},{"$f":"'４①'!K77","v":0},{"$f":"'４①'!C78","v":0},{"$f":"'４①'!D78","v":1},{"$f":"'４①'!I78","v":0},{"$f":"'４①'!K78","v":0},{"$f":"'４①'!C79","v":0},{"$f":"'４①'!D79","v":1},{"$f":"'４①'!I79","v":0},{"$f":"'４①'!K79","v":0},{"$f":"'４①'!C80","v":0},{"$f":"'４①'!D80","v":1},{"$f":"'４①'!I80","v":0},{"$f":"'４①'!K80","v":0},{"$f":"'４①'!C81","v":0},{"$f":"'４①'!D81","v":1},{"$f":"'４①'!I81","v":0},{"$f":"'４①'!K81","v":0},{"$f":"'４①'!C82","v":0},{"$f":"'４①'!D82","v":1},{"$f":"'４①'!I82","v":0},{"$f":"'４①'!K82","v":0},{"$f":"'４①'!C83","v":0},{"$f":"'４①'!D83","v":1},{"$f":"'４①'!I83","v":0},{"$f":"'４①'!K83","v":0},{"$f":"'４①'!C84","v":0},{"$f":"'４①'!D84","v":1},{"$f":"'４①'!I84","v":0},{"$f":"'４①'!K84","v":0},{"$f":"'４①'!C85","v":0},{"$f":"'４①'!D85","v":1},{"$f":"'４①'!I85","v":0},{"$f":"'４①'!K85","v":0},{"$f":"'４①'!C86","v":0},{"$f":"'４①'!D86","v":1},{"$f":"'４①'!I86","v":0},{"$f":"'４①'!K86","v":0},{"$f":"'４④'!C8","v":0},{"$f":"'４④'!E8","v":0},{"$f":"'４④'!F8","v":0},{"$f":"'４④'!G8","v":0},{"$f":"'４④'!M8","v":"-"},{"$f":"'４④'!E9","v":0},{"$f":"'４④'!F9","v":0},{"$f":"'４④'!G9","v":0},{"$f":"'４④'!M9","v":"-"},{"$f":"'４④'!E10","v":0},{"$f":"'４④'!F10","v":0},{"$f":"'４④'!G10","v":0},{"$f":"'４④'!M10","v":"-"},{"$f":"'４④'!E11","v":0},{"$f":"'４④'!F11","v":0},{"$f":"'４④'!G11","v":0},{"$f":"'４④'!M11","v":"-"},{"$f":"'４④'!E12","v":0},{"$f":"'４④'!F12","v":0},{"$f":"'４④'!G12","v":0},{"$f":"'４④'!M12","v":"-"},{"$f":"'４④'!E13","v":0},{"$f":"'４④'!F13","v":0},{"$f":"'４④'!G13","v":0},{"$f":"'４④'!M13","v":"-"},{"$f":"'４④'!E14","v":0},{"$f":"'４④'!F14","v":0},{"$f":"'４④'!G14","v":0},{"$f":"'４④'!M14","v":"-"},{"$f":"'４④'!E15","v":0},{"$f":"'４④'!F15","v":0},{"$f":"'４④'!G15","v":0},{"$f":"'４④'!M15","v":"-"},{"$f":"'４④'!E16","v":0},{"$f":"'４④'!F16","v":0},{"$f":"'４④'!G16","v":0},{"$f":"'４④'!M16","v":"-"},{"$f":"'４④'!E17","v":0},{"$f":"'４④'!F17","v":0},{"$f":"'４④'!G17","v":0},{"$f":"'４④'!M17","v":"-"},{"$f":"'４④'!C18","v":0},{"$f":"'４④'!E18","v":0},{"$f":"'４④'!F18","v":0},{"$f":"'４④'!G18","v":0},{"$f":"'４④'!M18","v":"-"},{"$f":"'４④'!E19","v":0},{"$f":"'４④'!F19","v":0},{"$f":"'４④'!G19","v":0},{"$f":"'４④'!M19","v":"-"},{"$f":"'４④'!E20","v":0},{"$f":"'４④'!F20","v":0},{"$f":"'４④'!G20","v":0},{"$f":"'４④'!M20","v":"-"},{"$f":"'４④'!E21","v":0},{"$f":"'４④'!F21","v":0},{"$f":"'４④'!G21","v":0},{"$f":"'４④'!M21","v":"-"},{"$f":"'４④'!E22","v":0},{"$f":"'４④'!F22","v":0},{"$f":"'４④'!G22","v":0},{"$f":"'４④'!M22","v":"-"},{"$f":"'４④'!E23","v":0},{"$f":"'４④'!F23","v":0},{"$f":"'４④'!G23","v":0},{"$f":"'４④'!M23","v":"-"},{"$f":"'４④'!E24","v":0},{"$f":"'４④'!F24","v":0},{"$f":"'４④'!G24","v":0},{"$f":"'４④'!M24","v":"-"},{"$f":"'４④'!E25","v":0},{"$f":"'４④'!F25","v":0},{"$f":"'４④'!G25","v":0},{"$f":"'４④'!M25","v":"-"},{"$f":"'４④'!E26","v":0},{"$f":"'４④'!F26","v":0},{"$f":"'４④'!G26","v":0},{"$f":"'４④'!M26","v":"-"},{"$f":"'４④'!E27","v":0},{"$f":"'４④'!F27","v":0},{"$f":"'４④'!G27","v":0},{"$f":"'４④'!M27","v":"-"},{"$f":"'４④'!C28","v":0},{"$f":"'４④'!E28","v":0},{"$f":"'４④'!F28","v":0},{"$f":"'４④'!G28","v":0},{"$f":"'４④'!M28","v":"-"},{"$f":"'４④'!E29","v":0},{"$f":"'４④'!F29","v":0},{"$f":"'４④'!G29","v":0},{"$f":"'４④'!M29","v":"-"},{"$f":"'４④'!E30","v":0},{"$f":"'４④'!F30","v":0},{"$f":"'４④'!G30","v":0},{"$f":"'４④'!M30","v":"-"},{"$f":"'４④'!E31","v":0},{"$f":"'４④'!F31","v":0},{"$f":"'４④'!G31","v":0},{"$f":"'４④'!M31","v":"-"},{"$f":"'４④'!E32","v":0},{"$f":"'４④'!F32","v":0},{"$f":"'４④'!G32","v":0},{"$f":"'４④'!M32","v":"-"},{"$f":"'４④'!E33","v":0},{"$f":"'４④'!F33","v":0},{"$f":"'４④'!G33","v":0},{"$f":"'４④'!M33","v":"-"},{"$f":"'４④'!E34","v":0},{"$f":"'４④'!F34","v":0},{"$f":"'４④'!G34","v":0},{"$f":"'４④'!M34","v":"-"},{"$f":"'４④'!E35","v":0},{"$f":"'４④'!F35","v":0},{"$f":"'４④'!G35","v":0},{"$f":"'４④'!M35","v":"-"},{"$f":"'４④'!E36","v":0},{"$f":"'４④'!F36","v":0},{"$f":"'４④'!G36","v":0},{"$f":"'４④'!M36","v":"-"},{"$f":"'４④'!E37","v":0},{"$f":"'４④'!F37","v":0},{"$f":"'４④'!G37","v":0},{"$f":"'４④'!M37","v":"-"},{"$f":"'４④'!C38","v":0},{"$f":"'４④'!E38","v":0},{"$f":"'４④'!F38","v":0},{"$f":"'４④'!G38","v":0},{"$f":"'４④'!M38","v":"-"},{"$f":"'４④'!E39","v":0},{"$f":"'４④'!F39","v":0},{"$f":"'４④'!G39","v":0},{"$f":"'４④'!M39","v":"-"},{"$f":"'４④'!E40","v":0},{"$f":"'４④'!F40","v":0},{"$f":"'４④'!G40","v":0},{"$f":"'４④'!M40","v":"-"},{"$f":"'４④'!E41","v":0},{"$f":"'４④'!F41","v":0},{"$f":"'４④'!G41","v":0},{"$f":"'４④'!M41","v":"-"},{"$f":"'４④'!E42","v":0},{"$f":"'４④'!F42","v":0},{"$f":"'４④'!G42","v":0},{"$f":"'４④'!M42","v":"-"}]
[{"$f":"総括表①!$E$3","v":"Ver.05.00"},{"$f":"総括表①!B10","v":0},{"$f":"総括表①!$C$10","v":""},{"$f":"総括表①!$D$10","v":""},{"$f":"IF(総括表①!$C$11=\"1.都道府県\",1,IF(総括表①!$C$11=\"2.政令市\",2,IF(総括表①!$C$11=\"3.市\",3,IF(総括表①!$C$11=\"4.特別区\",4,IF(総括表①!$C$11=\"5.町村\",5,0)))))","v":1},{"$f":"'４④'!E43","v":0},{"$f":"'４④'!F43","v":0},{"$f":"'４④'!G43","v":0},{"$f":"'４④'!M43","v":"-"},{"$f":"'４④'!E44","v":0},{"$f":"'４④'!F44","v":0},{"$f":"'４④'!G44","v":0},{"$f":"'４④'!M44","v":"-"},{"$f":"'４④'!E45","v":0},{"$f":"'４④'!F45","v":0},{"$f":"'４④'!G45","v":0},{"$f":"'４④'!M45","v":"-"},{"$f":"'４④'!E46","v":0},{"$f":"'４④'!F46","v":0},{"$f":"'４④'!G46","v":0},{"$f":"'４④'!M46","v":"-"},{"$f":"'４④'!E47","v":0},{"$f":"'４④'!F47","v":0},{"$f":"'４④'!G47","v":0},{"$f":"'４④'!M47","v":"-"},{"$f":"'４④'!C48","v":0},{"$f":"'４④'!E48","v":0},{"$f":"'４④'!F48","v":0},{"$f":"'４④'!G48","v":0},{"$f":"'４④'!M48","v":"-"},{"$f":"'４④'!E49","v":0},{"$f":"'４④'!F49","v":0},{"$f":"'４④'!G49","v":0},{"$f":"'４④'!M49","v":"-"},{"$f":"'４④'!E50","v":0},{"$f":"'４④'!F50","v":0},{"$f":"'４④'!G50","v":0},{"$f":"'４④'!M50","v":"-"},{"$f":"'４④'!E51","v":0},{"$f":"'４④'!F51","v":0},{"$f":"'４④'!G51","v":0},{"$f":"'４④'!M51","v":"-"},{"$f":"'４④'!E52","v":0},{"$f":"'４④'!F52","v":0},{"$f":"'４④'!G52","v":0},{"$f":"'４④'!M52","v":"-"},{"$f":"'４④'!E53","v":0},{"$f":"'４④'!F53","v":0},{"$f":"'４④'!G53","v":0},{"$f":"'４④'!M53","v":"-"},{"$f":"'４④'!E54","v":0},{"$f":"'４④'!F54","v":0},{"$f":"'４④'!G54","v":0},{"$f":"'４④'!M54","v":"-"},{"$f":"'４④'!E55","v":0},{"$f":"'４④'!F55","v":0},{"$f":"'４④'!G55","v":0},{"$f":"'４④'!M55","v":"-"},{"$f":"'４④'!E56","v":0},{"$f":"'４④'!F56","v":0},{"$f":"'４④'!G56","v":0},{"$f":"'４④'!M56","v":"-"},{"$f":"'４④'!E57","v":0},{"$f":"'４④'!F57","v":0},{"$f":"'４④'!G57","v":0},{"$f":"'４④'!M57","v":"-"},{"$f":"'４④'!C58","v":0},{"$f":"'４④'!E58","v":0},{"$f":"'４④'!F58","v":0},{"$f":"'４④'!G58","v":0},{"$f":"'４④'!M58","v":"-"},{"$f":"'４④'!E59","v":0},{"$f":"'４④'!F59","v":0},{"$f":"'４④'!G59","v":0},{"$f":"'４④'!M59","v":"-"},{"$f":"'４④'!E60","v":0},{"$f":"'４④'!F60","v":0},{"$f":"'４④'!G60","v":0},{"$f":"'４④'!M60","v":"-"},{"$f":"'４④'!E61","v":0},{"$f":"'４④'!F61","v":0},{"$f":"'４④'!G61","v":0},{"$f":"'４④'!M61","v":"-"},{"$f":"'４④'!E62","v":0},{"$f":"'４④'!F62","v":0},{"$f":"'４④'!G62","v":0},{"$f":"'４④'!M62","v":"-"},{"$f":"'４④'!E63","v":0},{"$f":"'４④'!F63","v":0},{"$f":"'４④'!G63","v":0},{"$f":"'４④'!M63","v":"-"},{"$f":"'４④'!E64","v":0},{"$f":"'４④'!F64","v":0},{"$f":"'４④'!G64","v":0},{"$f":"'４④'!M64","v":"-"},{"$f":"'４④'!E65","v":0},{"$f":"'４④'!F65","v":0},{"$f":"'４④'!G65","v":0},{"$f":"'４④'!M65","v":"-"},{"$f":"'４④'!E66","v":0},{"$f":"'４④'!F66","v":0},{"$f":"'４④'!G66","v":0},{"$f":"'４④'!M66","v":"-"},{"$f":"'４④'!E67","v":0},{"$f":"'４④'!F67","v":0},{"$f":"'４④'!G67","v":0},{"$f":"'４④'!M67","v":"-"},{"$f":"'４④'!C68","v":0},{"$f":"'４④'!E68","v":0},{"$f":"'４④'!F68","v":0},{"$f":"'４④'!G68","v":0},{"$f":"'４④'!M68","v":"-"},{"$f":"'４④'!E69","v":0},{"$f":"'４④'!F69","v":0},{"$f":"'４④'!G69","v":0},{"$f":"'４④'!M69","v":"-"},{"$f":"'４④'!E70","v":0},{"$f":"'４④'!F70","v":0},{"$f":"'４④'!G70","v":0},{"$f":"'４④'!M70","v":"-"},{"$f":"'４④'!E71","v":0},{"$f":"'４④'!F71","v":0},{"$f":"'４④'!G71","v":0},{"$f":"'４④'!M71","v":"-"},{"$f":"'４④'!E72","v":0},{"$f":"'４④'!F72","v":0},{"$f":"'４④'!G72","v":0},{"$f":"'４④'!M72","v":"-"},{"$f":"'４④'!E73","v":0},{"$f":"'４④'!F73","v":0},{"$f":"'４④'!G73","v":0},{"$f":"'４④'!M73","v":"-"},{"$f":"'４④'!E74","v":0},{"$f":"'４④'!F74","v":0},{"$f":"'４④'!G74","v":0},{"$f":"'４④'!M74","v":"-"},{"$f":"'４④'!E75","v":0},{"$f":"'４④'!F75","v":0},{"$f":"'４④'!G75","v":0},{"$f":"'４④'!M75","v":"-"},{"$f":"'４④'!E76","v":0},{"$f":"'４④'!F76","v":0},{"$f":"'４④'!G76","v":0},{"$f":"'４④'!M76","v":"-"},{"$f":"'４④'!E77","v":0},{"$f":"'４④'!F77","v":0},{"$f":"'４④'!G77","v":0},{"$f":"'４④'!M77","v":"-"},{"$f":"'４④'!C78","v":0},{"$f":"'４④'!E78","v":0},{"$f":"'４④'!F78","v":0},{"$f":"'４④'!G78","v":0},{"$f":"'４④'!M78","v":"-"},{"$f":"'４④'!E79","v":0},{"$f":"'４④'!F79","v":0},{"$f":"'４④'!G79","v":0},{"$f":"'４④'!M79","v":"-"},{"$f":"'４④'!E80","v":0},{"$f":"'４④'!F80","v":0},{"$f":"'４④'!G80","v":0},{"$f":"'４④'!M80","v":"-"},{"$f":"'４④'!E81","v":0},{"$f":"'４④'!F81","v":0},{"$f":"'４④'!G81","v":0},{"$f":"'４④'!M81","v":"-"},{"$f":"'４④'!E82","v":0},{"$f":"'４④'!F82","v":0},{"$f":"'４④'!G82","v":0},{"$f":"'４④'!M82","v":"-"},{"$f":"'４④'!E83","v":0},{"$f":"'４④'!F83","v":0},{"$f":"'４④'!G83","v":0},{"$f":"'４④'!M83","v":"-"},{"$f":"'４④'!E84","v":0},{"$f":"'４④'!F84","v":0},{"$f":"'４④'!G84","v":0},{"$f":"'４④'!M84","v":"-"},{"$f":"'４④'!E85","v":0},{"$f":"'４④'!F85","v":0},{"$f":"'４④'!G85","v":0},{"$f":"'４④'!M85","v":"-"},{"$f":"'４④'!E86","v":0},{"$f":"'４④'!F86","v":0},{"$f":"'４④'!G86","v":0},{"$f":"'４④'!M86","v":"-"},{"$f":"'４④'!E87","v":0},{"$f":"'４④'!F87","v":0},{"$f":"'４④'!G87","v":0},{"$f":"'４④'!M87","v":"-"},{"$f":"'４④'!C88","v":0},{"$f":"'４④'!E88","v":0},{"$f":"'４④'!F88","v":0},{"$f":"'４④'!G88","v":0},{"$f":"'４④'!M88","v":"-"},{"$f":"'４④'!E89","v":0},{"$f":"'４④'!F89","v":0},{"$f":"'４④'!G89","v":0},{"$f":"'４④'!M89","v":"-"},{"$f":"'４④'!E90","v":0},{"$f":"'４④'!F90","v":0},{"$f":"'４④'!G90","v":0},{"$f":"'４④'!M90","v":"-"},{"$f":"'４④'!E91","v":0},{"$f":"'４④'!F91","v":0},{"$f":"'４④'!G91","v":0},{"$f":"'４④'!M91","v":"-"},{"$f":"'４④'!E92","v":0},{"$f":"'４④'!F92","v":0},{"$f":"'４④'!G92","v":0},{"$f":"'４④'!M92","v":"-"},{"$f":"'４④'!E93","v":0},{"$f":"'４④'!F93","v":0},{"$f":"'４④'!G93","v":0},{"$f":"'４④'!M93","v":"-"},{"$f":"'４④'!E94","v":0},{"$f":"'４④'!F94","v":0},{"$f":"'４④'!G94","v":0},{"$f":"'４④'!M94","v":"-"},{"$f":"'４④'!E95","v":0},{"$f":"'４④'!F95","v":0},{"$f":"'４④'!G95","v":0},{"$f":"'４④'!M95","v":"-"},{"$f":"'４④'!E96","v":0},{"$f":"'４④'!F96","v":0},{"$f":"'４④'!G96","v":0},{"$f":"'４④'!M96","v":"-"},{"$f":"'４④'!E97","v":0},{"$f":"'４④'!F97","v":0},{"$f":"'４④'!G97","v":0},{"$f":"'４④'!M97","v":"-"},{"$f":"'４④'!C98","v":0},{"$f":"'４④'!E98","v":0},{"$f":"'４④'!F98","v":0},{"$f":"'４④'!G98","v":0},{"$f":"'４④'!M98","v":"-"},{"$f":"'４④'!E99","v":0},{"$f":"'４④'!F99","v":0},{"$f":"'４④'!G99","v":0},{"$f":"'４④'!M99","v":"-"},{"$f":"'４④'!E100","v":0},{"$f":"'４④'!F100","v":0},{"$f":"'４④'!G100","v":0},{"$f":"'４④'!M100","v":"-"},{"$f":"'４④'!E101","v":0},{"$f":"'４④'!F101","v":0},{"$f":"'４④'!G101","v":0},{"$f":"'４④'!M101","v":"-"},{"$f":"'４④'!E102","v":0},{"$f":"'４④'!F102","v":0},{"$f":"'４④'!G102","v":0},{"$f":"'４④'!M102","v":"-"}]
[{"$f":"総括表①!$E$3","v":"Ver.05.00"},{"$f":"総括表①!B10","v":0},{"$f":"総括表①!$C$10","v":""},{"$f":"総括表①!$D$10","v":""},{"$f":"IF(総括表①!$C$11=\"1.都道府県\",1,IF(総括表①!$C$11=\"2.政令市\",2,IF(総括表①!$C$11=\"3.市\",3,IF(総括表①!$C$11=\"4.特別区\",4,IF(総括表①!$C$11=\"5.町村\",5,0)))))","v":1},{"$f":"'４④'!E103","v":0},{"$f":"'４④'!F103","v":0},{"$f":"'４④'!G103","v":0},{"$f":"'４④'!M103","v":"-"},{"$f":"'４④'!E104","v":0},{"$f":"'４④'!F104","v":0},{"$f":"'４④'!G104","v":0},{"$f":"'４④'!M104","v":"-"},{"$f":"'４④'!E105","v":0},{"$f":"'４④'!F105","v":0},{"$f":"'４④'!G105","v":0},{"$f":"'４④'!M105","v":"-"},{"$f":"'４④'!E106","v":0},{"$f":"'４④'!F106","v":0},{"$f":"'４④'!G106","v":0},{"$f":"'４④'!M106","v":"-"},{"$f":"'４④'!E107","v":0},{"$f":"'４④'!F107","v":0},{"$f":"'４④'!G107","v":0},{"$f":"'４④'!M107","v":"-"},{"$f":"'４④'!C108","v":0},{"$f":"'４④'!E108","v":0},{"$f":"'４④'!F108","v":0},{"$f":"'４④'!G108","v":0},{"$f":"'４④'!M108","v":"-"},{"$f":"'４④'!E109","v":0},{"$f":"'４④'!F109","v":0},{"$f":"'４④'!G109","v":0},{"$f":"'４④'!M109","v":"-"},{"$f":"'４④'!E110","v":0},{"$f":"'４④'!F110","v":0},{"$f":"'４④'!G110","v":0},{"$f":"'４④'!M110","v":"-"},{"$f":"'４④'!E111","v":0},{"$f":"'４④'!F111","v":0},{"$f":"'４④'!G111","v":0},{"$f":"'４④'!M111","v":"-"},{"$f":"'４④'!E112","v":0},{"$f":"'４④'!F112","v":0},{"$f":"'４④'!G112","v":0},{"$f":"'４④'!M112","v":"-"},{"$f":"'４④'!E113","v":0},{"$f":"'４④'!F113","v":0},{"$f":"'４④'!G113","v":0},{"$f":"'４④'!M113","v":"-"},{"$f":"'４④'!E114","v":0},{"$f":"'４④'!F114","v":0},{"$f":"'４④'!G114","v":0},{"$f":"'４④'!M114","v":"-"},{"$f":"'４④'!E115","v":0},{"$f":"'４④'!F115","v":0},{"$f":"'４④'!G115","v":0},{"$f":"'４④'!M115","v":"-"},{"$f":"'４④'!E116","v":0},{"$f":"'４④'!F116","v":0},{"$f":"'４④'!G116","v":0},{"$f":"'４④'!M116","v":"-"},{"$f":"'４④'!E117","v":0},{"$f":"'４④'!F117","v":0},{"$f":"'４④'!G117","v":0},{"$f":"'４④'!M117","v":"-"},{"$f":"'４④'!C118","v":0},{"$f":"'４④'!E118","v":0},{"$f":"'４④'!F118","v":0},{"$f":"'４④'!G118","v":0},{"$f":"'４④'!M118","v":"-"},{"$f":"'４④'!E119","v":0},{"$f":"'４④'!F119","v":0},{"$f":"'４④'!G119","v":0},{"$f":"'４④'!M119","v":"-"},{"$f":"'４④'!E120","v":0},{"$f":"'４④'!F120","v":0},{"$f":"'４④'!G120","v":0},{"$f":"'４④'!M120","v":"-"},{"$f":"'４④'!E121","v":0},{"$f":"'４④'!F121","v":0},{"$f":"'４④'!G121","v":0},{"$f":"'４④'!M121","v":"-"},{"$f":"'４④'!E122","v":0},{"$f":"'４④'!F122","v":0},{"$f":"'４④'!G122","v":0},{"$f":"'４④'!M122","v":"-"},{"$f":"'４④'!E123","v":0},{"$f":"'４④'!F123","v":0},{"$f":"'４④'!G123","v":0},{"$f":"'４④'!M123","v":"-"},{"$f":"'４④'!E124","v":0},{"$f":"'４④'!F124","v":0},{"$f":"'４④'!G124","v":0},{"$f":"'４④'!M124","v":"-"},{"$f":"'４④'!E125","v":0},{"$f":"'４④'!F125","v":0},{"$f":"'４④'!G125","v":0},{"$f":"'４④'!M125","v":"-"},{"$f":"'４④'!E126","v":0},{"$f":"'４④'!F126","v":0},{"$f":"'４④'!G126","v":0},{"$f":"'４④'!M126","v":"-"},{"$f":"'４④'!E127","v":0},{"$f":"'４④'!F127","v":0},{"$f":"'４④'!G127","v":0},{"$f":"'４④'!M127","v":"-"},{"$f":"'４④'!C128","v":0},{"$f":"'４④'!E128","v":0},{"$f":"'４④'!F128","v":0},{"$f":"'４④'!G128","v":0},{"$f":"'４④'!M128","v":"-"},{"$f":"'４④'!E129","v":0},{"$f":"'４④'!F129","v":0},{"$f":"'４④'!G129","v":0},{"$f":"'４④'!M129","v":"-"},{"$f":"'４④'!E130","v":0},{"$f":"'４④'!F130","v":0},{"$f":"'４④'!G130","v":0},{"$f":"'４④'!M130","v":"-"},{"$f":"'４④'!E131","v":0},{"$f":"'４④'!F131","v":0},{"$f":"'４④'!G131","v":0},{"$f":"'４④'!M131","v":"-"},{"$f":"'４④'!E132","v":0},{"$f":"'４④'!F132","v":0},{"$f":"'４④'!G132","v":0},{"$f":"'４④'!M132","v":"-"},{"$f":"'４④'!E133","v":0},{"$f":"'４④'!F133","v":0},{"$f":"'４④'!G133","v":0},{"$f":"'４④'!M133","v":"-"},{"$f":"'４④'!E134","v":0},{"$f":"'４④'!F134","v":0},{"$f":"'４④'!G134","v":0},{"$f":"'４④'!M134","v":"-"},{"$f":"'４④'!E135","v":0},{"$f":"'４④'!F135","v":0},{"$f":"'４④'!G135","v":0},{"$f":"'４④'!M135","v":"-"},{"$f":"'４④'!E136","v":0},{"$f":"'４④'!F136","v":0},{"$f":"'４④'!G136","v":0},{"$f":"'４④'!M136","v":"-"},{"$f":"'４④'!E137","v":0},{"$f":"'４④'!F137","v":0},{"$f":"'４④'!G137","v":0},{"$f":"'４④'!M137","v":"-"},{"$f":"'４④'!C138","v":0},{"$f":"'４④'!E138","v":0},{"$f":"'４④'!F138","v":0},{"$f":"'４④'!G138","v":0},{"$f":"'４④'!M138","v":"-"},{"$f":"'４④'!E139","v":0},{"$f":"'４④'!F139","v":0},{"$f":"'４④'!G139","v":0},{"$f":"'４④'!M139","v":"-"},{"$f":"'４④'!E140","v":0},{"$f":"'４④'!F140","v":0},{"$f":"'４④'!G140","v":0},{"$f":"'４④'!M140","v":"-"},{"$f":"'４④'!E141","v":0},{"$f":"'４④'!F141","v":0},{"$f":"'４④'!G141","v":0},{"$f":"'４④'!M141","v":"-"},{"$f":"'４④'!E142","v":0},{"$f":"'４④'!F142","v":0},{"$f":"'４④'!G142","v":0},{"$f":"'４④'!M142","v":"-"},{"$f":"'４④'!E143","v":0},{"$f":"'４④'!F143","v":0},{"$f":"'４④'!G143","v":0},{"$f":"'４④'!M143","v":"-"},{"$f":"'４④'!E144","v":0},{"$f":"'４④'!F144","v":0},{"$f":"'４④'!G144","v":0},{"$f":"'４④'!M144","v":"-"},{"$f":"'４④'!E145","v":0},{"$f":"'４④'!F145","v":0},{"$f":"'４④'!G145","v":0},{"$f":"'４④'!M145","v":"-"},{"$f":"'４④'!E146","v":0},{"$f":"'４④'!F146","v":0},{"$f":"'４④'!G146","v":0},{"$f":"'４④'!M146","v":"-"},{"$f":"'４④'!E147","v":0},{"$f":"'４④'!F147","v":0},{"$f":"'４④'!G147","v":0},{"$f":"'４④'!M147","v":"-"},{"$f":"'４④'!C148","v":0},{"$f":"'４④'!E148","v":0},{"$f":"'４④'!F148","v":0},{"$f":"'４④'!G148","v":0},{"$f":"'４④'!M148","v":"-"},{"$f":"'４④'!E149","v":0},{"$f":"'４④'!F149","v":0},{"$f":"'４④'!G149","v":0},{"$f":"'４④'!M149","v":"-"},{"$f":"'４④'!E150","v":0},{"$f":"'４④'!F150","v":0},{"$f":"'４④'!G150","v":0},{"$f":"'４④'!M150","v":"-"},{"$f":"'４④'!E151","v":0},{"$f":"'４④'!F151","v":0},{"$f":"'４④'!G151","v":0},{"$f":"'４④'!M151","v":"-"},{"$f":"'４④'!E152","v":0},{"$f":"'４④'!F152","v":0},{"$f":"'４④'!G152","v":0},{"$f":"'４④'!M152","v":"-"},{"$f":"'４④'!E153","v":0},{"$f":"'４④'!F153","v":0},{"$f":"'４④'!G153","v":0},{"$f":"'４④'!M153","v":"-"},{"$f":"'４④'!E154","v":0},{"$f":"'４④'!F154","v":0},{"$f":"'４④'!G154","v":0},{"$f":"'４④'!M154","v":"-"},{"$f":"'４④'!E155","v":0},{"$f":"'４④'!F155","v":0},{"$f":"'４④'!G155","v":0},{"$f":"'４④'!M155","v":"-"},{"$f":"'４④'!E156","v":0},{"$f":"'４④'!F156","v":0},{"$f":"'４④'!G156","v":0},{"$f":"'４④'!M156","v":"-"},{"$f":"'４④'!E157","v":0},{"$f":"'４④'!F157","v":0},{"$f":"'４④'!G157","v":0},{"$f":"'４④'!M157","v":"-"},{"$f":"'４④'!C158","v":0},{"$f":"'４④'!E158","v":0},{"$f":"'４④'!F158","v":0},{"$f":"'４④'!G158","v":0},{"$f":"'４④'!M158","v":"-"},{"$f":"'４④'!E159","v":0},{"$f":"'４④'!F159","v":0},{"$f":"'４④'!G159","v":0},{"$f":"'４④'!M159","v":"-"},{"$f":"'４④'!E160","v":0},{"$f":"'４④'!F160","v":0},{"$f":"'４④'!G160","v":0},{"$f":"'４④'!M160","v":"-"},{"$f":"'４④'!E161","v":0},{"$f":"'４④'!F161","v":0},{"$f":"'４④'!G161","v":0},{"$f":"'４④'!M161","v":"-"},{"$f":"'４④'!E162","v":0},{"$f":"'４④'!F162","v":0},{"$f":"'４④'!G162","v":0},{"$f":"'４④'!M162","v":"-"},{"$f":"'４④'!E163","v":0},{"$f":"'４④'!F163","v":0},{"$f":"'４④'!G163","v":0},{"$f":"'４④'!M163","v":"-"}]
[{"$f":"総括表①!$E$3","v":"Ver.05.00"},{"$f":"総括表①!B10","v":0},{"$f":"総括表①!$C$10","v":""},{"$f":"総括表①!$D$10","v":""},{"$f":"IF(総括表①!$C$11=\"1.都道府県\",1,IF(総括表①!$C$11=\"2.政令市\",2,IF(総括表①!$C$11=\"3.市\",3,IF(総括表①!$C$11=\"4.特別区\",4,IF(総括表①!$C$11=\"5.町村\",5,0)))))","v":1},{"$f":"'４④'!E164","v":0},{"$f":"'４④'!F164","v":0},{"$f":"'４④'!G164","v":0},{"$f":"'４④'!M164","v":"-"},{"$f":"'４④'!E165","v":0},{"$f":"'４④'!F165","v":0},{"$f":"'４④'!G165","v":0},{"$f":"'４④'!M165","v":"-"},{"$f":"'４④'!E166","v":0},{"$f":"'４④'!F166","v":0},{"$f":"'４④'!G166","v":0},{"$f":"'４④'!M166","v":"-"},{"$f":"'４④'!E167","v":0},{"$f":"'４④'!F167","v":0},{"$f":"'４④'!G167","v":0},{"$f":"'４④'!M167","v":"-"},{"$f":"'４④'!C168","v":0},{"$f":"'４④'!E168","v":0},{"$f":"'４④'!F168","v":0},{"$f":"'４④'!G168","v":0},{"$f":"'４④'!M168","v":"-"},{"$f":"'４④'!E169","v":0},{"$f":"'４④'!F169","v":0},{"$f":"'４④'!G169","v":0},{"$f":"'４④'!M169","v":"-"},{"$f":"'４④'!E170","v":0},{"$f":"'４④'!F170","v":0},{"$f":"'４④'!G170","v":0},{"$f":"'４④'!M170","v":"-"},{"$f":"'４④'!E171","v":0},{"$f":"'４④'!F171","v":0},{"$f":"'４④'!G171","v":0},{"$f":"'４④'!M171","v":"-"},{"$f":"'４④'!E172","v":0},{"$f":"'４④'!F172","v":0},{"$f":"'４④'!G172","v":0},{"$f":"'４④'!M172","v":"-"},{"$f":"'４④'!E173","v":0},{"$f":"'４④'!F173","v":0},{"$f":"'４④'!G173","v":0},{"$f":"'４④'!M173","v":"-"},{"$f":"'４④'!E174","v":0},{"$f":"'４④'!F174","v":0},{"$f":"'４④'!G174","v":0},{"$f":"'４④'!M174","v":"-"},{"$f":"'４④'!E175","v":0},{"$f":"'４④'!F175","v":0},{"$f":"'４④'!G175","v":0},{"$f":"'４④'!M175","v":"-"},{"$f":"'４④'!E176","v":0},{"$f":"'４④'!F176","v":0},{"$f":"'４④'!G176","v":0},{"$f":"'４④'!M176","v":"-"},{"$f":"'４④'!E177","v":0},{"$f":"'４④'!F177","v":0},{"$f":"'４④'!G177","v":0},{"$f":"'４④'!M177","v":"-"},{"$f":"'４④'!C178","v":0},{"$f":"'４④'!E178","v":0},{"$f":"'４④'!F178","v":0},{"$f":"'４④'!G178","v":0},{"$f":"'４④'!M178","v":"-"},{"$f":"'４④'!E179","v":0},{"$f":"'４④'!F179","v":0},{"$f":"'４④'!G179","v":0},{"$f":"'４④'!M179","v":"-"},{"$f":"'４④'!E180","v":0},{"$f":"'４④'!F180","v":0},{"$f":"'４④'!G180","v":0},{"$f":"'４④'!M180","v":"-"},{"$f":"'４④'!E181","v":0},{"$f":"'４④'!F181","v":0},{"$f":"'４④'!G181","v":0},{"$f":"'４④'!M181","v":"-"},{"$f":"'４④'!E182","v":0},{"$f":"'４④'!F182","v":0},{"$f":"'４④'!G182","v":0},{"$f":"'４④'!M182","v":"-"},{"$f":"'４④'!E183","v":0},{"$f":"'４④'!F183","v":0},{"$f":"'４④'!G183","v":0},{"$f":"'４④'!M183","v":"-"},{"$f":"'４④'!E184","v":0},{"$f":"'４④'!F184","v":0},{"$f":"'４④'!G184","v":0},{"$f":"'４④'!M184","v":"-"},{"$f":"'４④'!E185","v":0},{"$f":"'４④'!F185","v":0},{"$f":"'４④'!G185","v":0},{"$f":"'４④'!M185","v":"-"},{"$f":"'４④'!E186","v":0},{"$f":"'４④'!F186","v":0},{"$f":"'４④'!G186","v":0},{"$f":"'４④'!M186","v":"-"},{"$f":"'４④'!E187","v":0},{"$f":"'４④'!F187","v":0},{"$f":"'４④'!G187","v":0},{"$f":"'４④'!M187","v":"-"},{"$f":"'４④'!C188","v":0},{"$f":"'４④'!E188","v":0},{"$f":"'４④'!F188","v":0},{"$f":"'４④'!G188","v":0},{"$f":"'４④'!M188","v":"-"},{"$f":"'４④'!E189","v":0},{"$f":"'４④'!F189","v":0},{"$f":"'４④'!G189","v":0},{"$f":"'４④'!M189","v":"-"},{"$f":"'４④'!E190","v":0},{"$f":"'４④'!F190","v":0},{"$f":"'４④'!G190","v":0},{"$f":"'４④'!M190","v":"-"},{"$f":"'４④'!E191","v":0},{"$f":"'４④'!F191","v":0},{"$f":"'４④'!G191","v":0},{"$f":"'４④'!M191","v":"-"},{"$f":"'４④'!E192","v":0},{"$f":"'４④'!F192","v":0},{"$f":"'４④'!G192","v":0},{"$f":"'４④'!M192","v":"-"},{"$f":"'４④'!E193","v":0},{"$f":"'４④'!F193","v":0},{"$f":"'４④'!G193","v":0},{"$f":"'４④'!M193","v":"-"},{"$f":"'４④'!E194","v":0},{"$f":"'４④'!F194","v":0},{"$f":"'４④'!G194","v":0},{"$f":"'４④'!M194","v":"-"},{"$f":"'４④'!E195","v":0},{"$f":"'４④'!F195","v":0},{"$f":"'４④'!G195","v":0},{"$f":"'４④'!M195","v":"-"},{"$f":"'４④'!E196","v":0},{"$f":"'４④'!F196","v":0},{"$f":"'４④'!G196","v":0},{"$f":"'４④'!M196","v":"-"},{"$f":"'４④'!E197","v":0},{"$f":"'４④'!F197","v":0},{"$f":"'４④'!G197","v":0},{"$f":"'４④'!M197","v":"-"},{"$f":"'４④'!C198","v":0},{"$f":"'４④'!E198","v":0},{"$f":"'４④'!F198","v":0},{"$f":"'４④'!G198","v":0},{"$f":"'４④'!M198","v":"-"},{"$f":"'４④'!E199","v":0},{"$f":"'４④'!F199","v":0},{"$f":"'４④'!G199","v":0},{"$f":"'４④'!M199","v":"-"},{"$f":"'４④'!E200","v":0},{"$f":"'４④'!F200","v":0},{"$f":"'４④'!G200","v":0},{"$f":"'４④'!M200","v":"-"},{"$f":"'４④'!E201","v":0},{"$f":"'４④'!F201","v":0},{"$f":"'４④'!G201","v":0},{"$f":"'４④'!M201","v":"-"},{"$f":"'４④'!E202","v":0},{"$f":"'４④'!F202","v":0},{"$f":"'４④'!G202","v":0},{"$f":"'４④'!M202","v":"-"},{"$f":"'４④'!E203","v":0},{"$f":"'４④'!F203","v":0},{"$f":"'４④'!G203","v":0},{"$f":"'４④'!M203","v":"-"},{"$f":"'４④'!E204","v":0},{"$f":"'４④'!F204","v":0},{"$f":"'４④'!G204","v":0},{"$f":"'４④'!M204","v":"-"},{"$f":"'４④'!E205","v":0},{"$f":"'４④'!F205","v":0},{"$f":"'４④'!G205","v":0},{"$f":"'４④'!M205","v":"-"},{"$f":"'４④'!E206","v":0},{"$f":"'４④'!F206","v":0},{"$f":"'４④'!G206","v":0},{"$f":"'４④'!M206","v":"-"},{"$f":"'４④'!E207","v":0},{"$f":"'４④'!F207","v":0},{"$f":"'４④'!G207","v":0},{"$f":"'４④'!M207","v":"-"},{"$f":"'４④'!G208","v":0},{"$f":"'４④'!M208","v":0},{"$f":"'４④'!M211","v":0},{"$f":"'４⑥Ａ'!D4","v":0},{"$f":"'４⑥Ａ'!B11","v":0},{"$f":"'４⑥Ａ'!D11","v":0},{"$f":"'４⑥Ａ'!E11","v":0},{"$f":"'４⑥Ａ'!L11","v":""},{"$f":"'４⑥Ａ'!N11","v":""},{"$f":"'４⑥Ａ'!U11","v":""},{"$f":"'４⑥Ａ'!W11","v":""},{"$f":"'４⑥Ａ'!X11","v":""},{"$f":"'４⑥Ａ'!B12","v":0},{"$f":"'４⑥Ａ'!D12","v":0},{"$f":"'４⑥Ａ'!E12","v":0},{"$f":"'４⑥Ａ'!L12","v":""},{"$f":"'４⑥Ａ'!N12","v":""},{"$f":"'４⑥Ａ'!U12","v":""},{"$f":"'４⑥Ａ'!W12","v":""},{"$f":"'４⑥Ａ'!X12","v":""},{"$f":"'４⑥Ａ'!B13","v":0},{"$f":"'４⑥Ａ'!D13","v":0},{"$f":"'４⑥Ａ'!E13","v":0},{"$f":"'４⑥Ａ'!L13","v":""},{"$f":"'４⑥Ａ'!N13","v":""},{"$f":"'４⑥Ａ'!U13","v":""},{"$f":"'４⑥Ａ'!W13","v":""},{"$f":"'４⑥Ａ'!X13","v":""},{"$f":"'４⑥Ａ'!B14","v":0},{"$f":"'４⑥Ａ'!D14","v":0},{"$f":"'４⑥Ａ'!E14","v":0},{"$f":"'４⑥Ａ'!L14","v":""},{"$f":"'４⑥Ａ'!N14","v":""},{"$f":"'４⑥Ａ'!U14","v":""},{"$f":"'４⑥Ａ'!W14","v":""},{"$f":"'４⑥Ａ'!X14","v":""},{"$f":"'４⑥Ａ'!B15","v":0},{"$f":"'４⑥Ａ'!D15","v":0},{"$f":"'４⑥Ａ'!E15","v":0},{"$f":"'４⑥Ａ'!L15","v":""},{"$f":"'４⑥Ａ'!N15","v":""},{"$f":"'４⑥Ａ'!U15","v":""},{"$f":"'４⑥Ａ'!W15","v":""},{"$f":"'４⑥Ａ'!X15","v":""},{"$f":"'４⑥Ａ'!B16","v":0},{"$f":"'４⑥Ａ'!D16","v":0},{"$f":"'４⑥Ａ'!E16","v":0},{"$f":"'４⑥Ａ'!L16","v":""},{"$f":"'４⑥Ａ'!N16","v":""},{"$f":"'４⑥Ａ'!U16","v":""},{"$f":"'４⑥Ａ'!W16","v":""},{"$f":"'４⑥Ａ'!X16","v":""},{"$f":"'４⑥Ａ'!B17","v":0},{"$f":"'４⑥Ａ'!D17","v":0},{"$f":"'４⑥Ａ'!E17","v":0},{"$f":"'４⑥Ａ'!L17","v":""},{"$f":"'４⑥Ａ'!N17","v":""},{"$f":"'４⑥Ａ'!U17","v":""},{"$f":"'４⑥Ａ'!W17","v":""},{"$f":"'４⑥Ａ'!X17","v":""},{"$f":"'４⑥Ａ'!B18","v":0},{"$f":"'４⑥Ａ'!D18","v":0},{"$f":"'４⑥Ａ'!E18","v":0},{"$f":"'４⑥Ａ'!L18","v":""},{"$f":"'４⑥Ａ'!N18","v":""},{"$f":"'４⑥Ａ'!U18","v":""},{"$f":"'４⑥Ａ'!W18","v":""},{"$f":"'４⑥Ａ'!X18","v":""}]
[{"$f":"総括表①!$E$3","v":"Ver.05.00"},{"$f":"総括表①!B10","v":0},{"$f":"総括表①!$C$10","v":""},{"$f":"総括表①!$D$10","v":""},{"$f":"IF(総括表①!$C$11=\"1.都道府県\",1,IF(総括表①!$C$11=\"2.政令市\",2,IF(総括表①!$C$11=\"3.市\",3,IF(総括表①!$C$11=\"4.特別区\",4,IF(総括表①!$C$11=\"5.町村\",5,0)))))","v":1},{"$f":"'４⑥Ａ'!B19","v":0},{"$f":"'４⑥Ａ'!D19","v":0},{"$f":"'４⑥Ａ'!E19","v":0},{"$f":"'４⑥Ａ'!L19","v":""},{"$f":"'４⑥Ａ'!N19","v":""},{"$f":"'４⑥Ａ'!U19","v":""},{"$f":"'４⑥Ａ'!W19","v":""},{"$f":"'４⑥Ａ'!X19","v":""},{"$f":"'４⑥Ａ'!B20","v":0},{"$f":"'４⑥Ａ'!D20","v":0},{"$f":"'４⑥Ａ'!E20","v":0},{"$f":"'４⑥Ａ'!L20","v":""},{"$f":"'４⑥Ａ'!N20","v":""},{"$f":"'４⑥Ａ'!U20","v":""},{"$f":"'４⑥Ａ'!W20","v":""},{"$f":"'４⑥Ａ'!X20","v":""},{"$f":"'４⑥Ａ'!B21","v":0},{"$f":"'４⑥Ａ'!D21","v":0},{"$f":"'４⑥Ａ'!E21","v":0},{"$f":"'４⑥Ａ'!L21","v":""},{"$f":"'４⑥Ａ'!N21","v":""},{"$f":"'４⑥Ａ'!U21","v":""},{"$f":"'４⑥Ａ'!W21","v":""},{"$f":"'４⑥Ａ'!X21","v":""},{"$f":"'４⑥Ａ'!B22","v":0},{"$f":"'４⑥Ａ'!D22","v":0},{"$f":"'４⑥Ａ'!E22","v":0},{"$f":"'４⑥Ａ'!L22","v":""},{"$f":"'４⑥Ａ'!N22","v":""},{"$f":"'４⑥Ａ'!U22","v":""},{"$f":"'４⑥Ａ'!W22","v":""},{"$f":"'４⑥Ａ'!X22","v":""},{"$f":"'４⑥Ａ'!B23","v":0},{"$f":"'４⑥Ａ'!D23","v":0},{"$f":"'４⑥Ａ'!E23","v":0},{"$f":"'４⑥Ａ'!L23","v":""},{"$f":"'４⑥Ａ'!N23","v":""},{"$f":"'４⑥Ａ'!U23","v":""},{"$f":"'４⑥Ａ'!W23","v":""},{"$f":"'４⑥Ａ'!X23","v":""},{"$f":"'４⑥Ａ'!B24","v":0},{"$f":"'４⑥Ａ'!D24","v":0},{"$f":"'４⑥Ａ'!E24","v":0},{"$f":"'４⑥Ａ'!L24","v":""},{"$f":"'４⑥Ａ'!N24","v":""},{"$f":"'４⑥Ａ'!U24","v":""},{"$f":"'４⑥Ａ'!W24","v":""},{"$f":"'４⑥Ａ'!X24","v":""},{"$f":"'４⑥Ａ'!B25","v":0},{"$f":"'４⑥Ａ'!D25","v":0},{"$f":"'４⑥Ａ'!E25","v":0},{"$f":"'４⑥Ａ'!L25","v":""},{"$f":"'４⑥Ａ'!N25","v":""},{"$f":"'４⑥Ａ'!U25","v":""},{"$f":"'４⑥Ａ'!W25","v":""},{"$f":"'４⑥Ａ'!X25","v":""},{"$f":"'４⑥Ａ'!D26","v":0},{"$f":"'４⑥Ａ'!E26","v":0},{"$f":"'４⑥Ａ'!M26","v":0},{"$f":"'４⑥Ａ'!N26","v":0},{"$f":"'４⑥Ａ'!V26","v":0},{"$f":"'４⑥Ａ'!W26","v":0},{"$f":"'４⑥Ａ'!X26","v":0},{"$f":"'４⑥Ａ'!B37","v":0},{"$f":"'４⑥Ａ'!D37","v":""},{"$f":"'４⑥Ａ'!H37","v":""},{"$f":"'４⑥Ａ'!L37","v":0},{"$f":"'４⑥Ａ'!Q37","v":0},{"$f":"'４⑥Ａ'!B38","v":0},{"$f":"'４⑥Ａ'!D38","v":""},{"$f":"'４⑥Ａ'!H38","v":""},{"$f":"'４⑥Ａ'!L38","v":0},{"$f":"'４⑥Ａ'!Q38","v":0},{"$f":"'４⑥Ａ'!B39","v":0},{"$f":"'４⑥Ａ'!D39","v":""},{"$f":"'４⑥Ａ'!H39","v":""},{"$f":"'４⑥Ａ'!L39","v":0},{"$f":"'４⑥Ａ'!Q39","v":0},{"$f":"'４⑥Ａ'!B40","v":0},{"$f":"'４⑥Ａ'!D40","v":""},{"$f":"'４⑥Ａ'!H40","v":""},{"$f":"'４⑥Ａ'!L40","v":0},{"$f":"'４⑥Ａ'!Q40","v":0},{"$f":"'４⑥Ａ'!B41","v":0},{"$f":"'４⑥Ａ'!D41","v":""},{"$f":"'４⑥Ａ'!H41","v":""},{"$f":"'４⑥Ａ'!L41","v":0},{"$f":"'４⑥Ａ'!Q41","v":0},{"$f":"'４⑥Ａ'!B42","v":0},{"$f":"'４⑥Ａ'!D42","v":""},{"$f":"'４⑥Ａ'!H42","v":""},{"$f":"'４⑥Ａ'!L42","v":0},{"$f":"'４⑥Ａ'!Q42","v":0},{"$f":"'４⑥Ａ'!B43","v":0},{"$f":"'４⑥Ａ'!D43","v":""},{"$f":"'４⑥Ａ'!H43","v":""},{"$f":"'４⑥Ａ'!L43","v":0},{"$f":"'４⑥Ａ'!Q43","v":0},{"$f":"'４⑥Ａ'!B44","v":0},{"$f":"'４⑥Ａ'!D44","v":""},{"$f":"'４⑥Ａ'!H44","v":""},{"$f":"'４⑥Ａ'!L44","v":0},{"$f":"'４⑥Ａ'!Q44","v":0},{"$f":"'４⑥Ａ'!B45","v":0},{"$f":"'４⑥Ａ'!D45","v":""},{"$f":"'４⑥Ａ'!H45","v":""},{"$f":"'４⑥Ａ'!L45","v":0},{"$f":"'４⑥Ａ'!Q45","v":0},{"$f":"'４⑥Ａ'!B46","v":0},{"$f":"'４⑥Ａ'!D46","v":""},{"$f":"'４⑥Ａ'!H46","v":""},{"$f":"'４⑥Ａ'!L46","v":0},{"$f":"'４⑥Ａ'!Q46","v":0},{"$f":"'４⑥Ａ'!B47","v":0},{"$f":"'４⑥Ａ'!D47","v":""},{"$f":"'４⑥Ａ'!H47","v":""},{"$f":"'４⑥Ａ'!L47","v":0},{"$f":"'４⑥Ａ'!Q47","v":0},{"$f":"'４⑥Ａ'!B48","v":0},{"$f":"'４⑥Ａ'!D48","v":""},{"$f":"'４⑥Ａ'!H48","v":""},{"$f":"'４⑥Ａ'!L48","v":0},{"$f":"'４⑥Ａ'!Q48","v":0},{"$f":"'４⑥Ａ'!B49","v":0},{"$f":"'４⑥Ａ'!D49","v":""},{"$f":"'４⑥Ａ'!H49","v":""},{"$f":"'４⑥Ａ'!L49","v":0},{"$f":"'４⑥Ａ'!Q49","v":0},{"$f":"'４⑥Ａ'!B50","v":0},{"$f":"'４⑥Ａ'!D50","v":""},{"$f":"'４⑥Ａ'!H50","v":""},{"$f":"'４⑥Ａ'!L50","v":0},{"$f":"'４⑥Ａ'!Q50","v":0},{"$f":"'４⑥Ａ'!B51","v":0},{"$f":"'４⑥Ａ'!D51","v":""},{"$f":"'４⑥Ａ'!H51","v":""},{"$f":"'４⑥Ａ'!L51","v":0},{"$f":"'４⑥Ａ'!Q51","v":0},{"$f":"'４⑥Ａ'!Q52","v":0},{"$f":"'４⑥Ａ'!S36","v":0},{"$f":"'４⑥Ａ'!U36","v":0},{"$f":"'４⑥Ａ'!S40","v":0},{"$f":"'４⑥Ａ'!U40","v":0},{"$f":"'４⑥Ａ'!W40","v":0},{"$f":"'４⑥Ａ'!S45","v":0},{"$f":"'４⑥Ａ'!U45","v":0},{"$f":"'４⑥Ａ'!W45","v":0},{"$f":"'４⑥Ａ'!W48","v":0},{"$f":"'４⑥Ａ'!S55","v":""},{"$f":"'４⑥Ａ'!W55","v":0},{"$f":"'４⑥Ａ'!S56","v":0},{"$f":"'４⑥Ａ'!W56","v":0},{"$f":"'４⑥Ａ'!S57","v":0},{"$f":"'４⑥Ａ'!W57","v":0},{"$f":"'４⑥Ａ'!S58","v":0},{"$f":"'４⑥Ａ'!W58","v":0},{"$f":"'４⑥Ｂ・C'!A6","v":0},{"$f":"'４⑥Ｂ・C'!C6","v":0},{"$f":"'４⑥Ｂ・C'!D6","v":0},{"$f":"'４⑥Ｂ・C'!E6","v":0},{"$f":"'４⑥Ｂ・C'!F6","v":0},{"$f":"'４⑥Ｂ・C'!H6","v":0},{"$f":"'４⑥Ｂ・C'!I6","v":0},{"$f":"'４⑥Ｂ・C'!L6","v":0},{"$f":"'４⑥Ｂ・C'!M6","v":0},{"$f":"'４⑥Ｂ・C'!A9","v":0},{"$f":"'４⑥Ｂ・C'!C9","v":0},{"$f":"'４⑥Ｂ・C'!D9","v":0},{"$f":"'４⑥Ｂ・C'!E9","v":0},{"$f":"'４⑥Ｂ・C'!F9","v":0},{"$f":"'４⑥Ｂ・C'!H9","v":0},{"$f":"'４⑥Ｂ・C'!I9","v":0},{"$f":"'４⑥Ｂ・C'!J9","v":0},{"$f":"'４⑥Ｂ・C'!K9","v":0},{"$f":"'４⑥Ｂ・C'!L9","v":0},{"$f":"'４⑥Ｂ・C'!M9","v":1},{"$f":"'４⑥Ｂ・C'!N9","v":0},{"$f":"'４⑥C・E'!C25","v":0},{"$f":"'４⑥C・E'!D25","v":0},{"$f":"'４⑥C・E'!E25","v":1},{"$f":"'４⑥C・E'!G25","v":0},{"$f":"'４⑥C・E'!C26","v":0},{"$f":"'４⑥C・E'!D26","v":0},{"$f":"'４⑥C・E'!E26","v":1},{"$f":"'４⑥C・E'!G26","v":0},{"$f":"'４⑥C・E'!C27","v":0},{"$f":"'４⑥C・E'!D27","v":0},{"$f":"'４⑥C・E'!E27","v":1},{"$f":"'４⑥C・E'!G27","v":0},{"$f":"'４⑥C・E'!C28","v":0},{"$f":"'４⑥C・E'!D28","v":0},{"$f":"'４⑥C・E'!E28","v":1},{"$f":"'４⑥C・E'!G28","v":0},{"$f":"'４⑥C・E'!G29","v":0},{"$f":"'４⑥C・E'!C33","v":""},{"$f":"'４⑥C・E'!D33","v":0},{"$f":"'４⑥C・E'!C34","v":0},{"$f":"'４⑥C・E'!D34","v":0},{"$f":"'４⑥C・E'!C35","v":0},{"$f":"'４⑥C・E'!D35","v":0},{"$f":"'４⑥C・E'!C36","v":0},{"$f":"'４⑥C・E'!D36","v":0},{"$f":"'４⑥C・E'!C37","v":0},{"$f":"'４⑥C・E'!D37","v":0},{"$f":"'４⑥C・E'!D38","v":0},{"$f":"'４⑥C・E'!G33","v":""},{"$f":"'４⑥C・E'!H33","v":0},{"$f":"'４⑥C・E'!G34","v":0},{"$f":"'４⑥C・E'!H34","v":0},{"$f":"'４⑥C・E'!G35","v":0},{"$f":"'４⑥C・E'!H35","v":0},{"$f":"'４⑥C・E'!G36","v":0},{"$f":"'４⑥C・E'!H36","v":0},{"$f":"'４⑥C・E'!G37","v":0},{"$f":"'４⑥C・E'!H37","v":0},{"$f":"'４⑥C・E'!H38","v":0},{"$f":"'４⑥C・E'!K33","v":""},{"$f":"'４⑥C・E'!M33","v":0},{"$f":"'４⑥C・E'!K34","v":0},{"$f":"'４⑥C・E'!M34","v":0},{"$f":"'４⑥C・E'!K35","v":0},{"$f":"'４⑥C・E'!M35","v":0},{"$f":"'４⑥C・E'!K36","v":0},{"$f":"'４⑥C・E'!M36","v":0},{"$f":"'４⑥C・E'!K37","v":0},{"$f":"'４⑥C・E'!M37","v":0},{"$f":"'４⑥C・E'!M38","v":0},{"$f":"'４⑥C・E'!P33","v":""},{"$f":"'４⑥C・E'!R33","v":0},{"$f":"'４⑥C・E'!P34","v":0},{"$f":"'４⑥C・E'!R34","v":0},{"$f":"'４⑥C・E'!P35","v":0},{"$f":"'４⑥C・E'!R35","v":0},{"$f":"'４⑥C・E'!P36","v":0},{"$f":"'４⑥C・E'!R36","v":0},{"$f":"'４⑥C・E'!P37","v":0},{"$f":"'４⑥C・E'!R37","v":0},{"$f":"'４⑥C・E'!R38","v":0},{"$f":"'４⑥Ｄ'!C6","v":0},{"$f":"'４⑥Ｄ'!D6","v":0},{"$f":"'４⑥Ｄ'!E6","v":0}]
[{"$f":"総括表①!$E$3","v":"Ver.05.00"},{"$f":"総括表①!B10","v":0},{"$f":"総括表①!$C$10","v":""},{"$f":"総括表①!$D$10","v":""},{"$f":"IF(総括表①!$C$11=\"1.都道府県\",1,IF(総括表①!$C$11=\"2.政令市\",2,IF(総括表①!$C$11=\"3.市\",3,IF(総括表①!$C$11=\"4.特別区\",4,IF(総括表①!$C$11=\"5.町村\",5,0)))))","v":1},{"$f":"'４⑥Ｆ'!B10","v":0},{"$f":"'４⑥Ｆ'!C10","v":0},{"$f":"'４⑥Ｆ'!D10","v":0},{"$f":"'４⑥Ｆ'!E10","v":0},{"$f":"'４⑥Ｆ'!F10","v":0},{"$f":"'４⑥Ｆ'!G10","v":0},{"$f":"'４⑥Ｆ'!H10","v":0},{"$f":"'４⑥Ｆ'!I10","v":0},{"$f":"'４⑥Ｆ'!B11","v":0},{"$f":"'４⑥Ｆ'!C11","v":0},{"$f":"'４⑥Ｆ'!D11","v":0},{"$f":"'４⑥Ｆ'!E11","v":0},{"$f":"'４⑥Ｆ'!F11","v":0},{"$f":"'４⑥Ｆ'!G11","v":0},{"$f":"'４⑥Ｆ'!H11","v":0},{"$f":"'４⑥Ｆ'!I11","v":0},{"$f":"'４⑥Ｆ'!B12","v":0},{"$f":"'４⑥Ｆ'!C12","v":0},{"$f":"'４⑥Ｆ'!D12","v":0},{"$f":"'４⑥Ｆ'!E12","v":0},{"$f":"'４⑥Ｆ'!F12","v":0},{"$f":"'４⑥Ｆ'!G12","v":0},{"$f":"'４⑥Ｆ'!H12","v":0},{"$f":"'４⑥Ｆ'!I12","v":0},{"$f":"'４⑥Ｆ'!B13","v":0},{"$f":"'４⑥Ｆ'!C13","v":0},{"$f":"'４⑥Ｆ'!D13","v":0},{"$f":"'４⑥Ｆ'!E13","v":0},{"$f":"'４⑥Ｆ'!F13","v":0},{"$f":"'４⑥Ｆ'!G13","v":0},{"$f":"'４⑥Ｆ'!H13","v":0},{"$f":"'４⑥Ｆ'!I13","v":0},{"$f":"'４⑥Ｆ'!B14","v":0},{"$f":"'４⑥Ｆ'!C14","v":0},{"$f":"'４⑥Ｆ'!D14","v":0},{"$f":"'４⑥Ｆ'!E14","v":0},{"$f":"'４⑥Ｆ'!F14","v":0},{"$f":"'４⑥Ｆ'!G14","v":0},{"$f":"'４⑥Ｆ'!H14","v":0},{"$f":"'４⑥Ｆ'!I14","v":0},{"$f":"'４⑥Ｆ'!B15","v":0},{"$f":"'４⑥Ｆ'!C15","v":0},{"$f":"'４⑥Ｆ'!D15","v":0},{"$f":"'４⑥Ｆ'!E15","v":0},{"$f":"'４⑥Ｆ'!F15","v":0},{"$f":"'４⑥Ｆ'!G15","v":0},{"$f":"'４⑥Ｆ'!H15","v":0},{"$f":"'４⑥Ｆ'!I15","v":0},{"$f":"'４⑥Ｆ'!B16","v":0},{"$f":"'４⑥Ｆ'!C16","v":0},{"$f":"'４⑥Ｆ'!D16","v":0},{"$f":"'４⑥Ｆ'!E16","v":0},{"$f":"'４⑥Ｆ'!F16","v":0},{"$f":"'４⑥Ｆ'!G16","v":0},{"$f":"'４⑥Ｆ'!H16","v":0},{"$f":"'４⑥Ｆ'!I16","v":0},{"$f":"'４⑥Ｆ'!B17","v":0},{"$f":"'４⑥Ｆ'!C17","v":0},{"$f":"'４⑥Ｆ'!D17","v":0},{"$f":"'４⑥Ｆ'!E17","v":0},{"$f":"'４⑥Ｆ'!F17","v":0},{"$f":"'４⑥Ｆ'!G17","v":0},{"$f":"'４⑥Ｆ'!H17","v":0},{"$f":"'４⑥Ｆ'!I17","v":0},{"$f":"'４⑥Ｆ'!B18","v":0},{"$f":"'４⑥Ｆ'!C18","v":0},{"$f":"'４⑥Ｆ'!D18","v":0},{"$f":"'４⑥Ｆ'!E18","v":0},{"$f":"'４⑥Ｆ'!F18","v":0},{"$f":"'４⑥Ｆ'!G18","v":0},{"$f":"'４⑥Ｆ'!H18","v":0},{"$f":"'４⑥Ｆ'!I18","v":0},{"$f":"'４⑥Ｆ'!B19","v":0},{"$f":"'４⑥Ｆ'!C19","v":0},{"$f":"'４⑥Ｆ'!D19","v":0},{"$f":"'４⑥Ｆ'!E19","v":0},{"$f":"'４⑥Ｆ'!F19","v":0},{"$f":"'４⑥Ｆ'!G19","v":0},{"$f":"'４⑥Ｆ'!H19","v":0},{"$f":"'４⑥Ｆ'!I19","v":0},{"$f":"'４⑥Ｆ'!B20","v":0},{"$f":"'４⑥Ｆ'!C20","v":0},{"$f":"'４⑥Ｆ'!D20","v":0},{"$f":"'４⑥Ｆ'!E20","v":0},{"$f":"'４⑥Ｆ'!F20","v":0},{"$f":"'４⑥Ｆ'!G20","v":0},{"$f":"'４⑥Ｆ'!H20","v":0},{"$f":"'４⑥Ｆ'!I20","v":0},{"$f":"'４⑥Ｆ'!B21","v":0},{"$f":"'４⑥Ｆ'!C21","v":0},{"$f":"'４⑥Ｆ'!D21","v":0},{"$f":"'４⑥Ｆ'!E21","v":0},{"$f":"'４⑥Ｆ'!F21","v":0},{"$f":"'４⑥Ｆ'!G21","v":0},{"$f":"'４⑥Ｆ'!H21","v":0},{"$f":"'４⑥Ｆ'!I21","v":0},{"$f":"'４⑥Ｆ'!B22","v":0},{"$f":"'４⑥Ｆ'!C22","v":0},{"$f":"'４⑥Ｆ'!D22","v":0},{"$f":"'４⑥Ｆ'!E22","v":0},{"$f":"'４⑥Ｆ'!F22","v":0},{"$f":"'４⑥Ｆ'!G22","v":0},{"$f":"'４⑥Ｆ'!H22","v":0},{"$f":"'４⑥Ｆ'!I22","v":0},{"$f":"'４⑥Ｆ'!B23","v":0},{"$f":"'４⑥Ｆ'!C23","v":0},{"$f":"'４⑥Ｆ'!D23","v":0},{"$f":"'４⑥Ｆ'!E23","v":0},{"$f":"'４⑥Ｆ'!F23","v":0},{"$f":"'４⑥Ｆ'!G23","v":0},{"$f":"'４⑥Ｆ'!H23","v":0},{"$f":"'４⑥Ｆ'!I23","v":0},{"$f":"'４⑥Ｆ'!B24","v":0},{"$f":"'４⑥Ｆ'!C24","v":0},{"$f":"'４⑥Ｆ'!D24","v":0},{"$f":"'４⑥Ｆ'!E24","v":0},{"$f":"'４⑥Ｆ'!F24","v":0},{"$f":"'４⑥Ｆ'!G24","v":0},{"$f":"'４⑥Ｆ'!H24","v":0},{"$f":"'４⑥Ｆ'!I24","v":0},{"$f":"'４⑥Ｆ'!B25","v":0},{"$f":"'４⑥Ｆ'!C25","v":0},{"$f":"'４⑥Ｆ'!D25","v":0},{"$f":"'４⑥Ｆ'!E25","v":0},{"$f":"'４⑥Ｆ'!F25","v":0},{"$f":"'４⑥Ｆ'!G25","v":0},{"$f":"'４⑥Ｆ'!H25","v":0},{"$f":"'４⑥Ｆ'!I25","v":0},{"$f":"'４⑥Ｆ'!B26","v":0},{"$f":"'４⑥Ｆ'!C26","v":0},{"$f":"'４⑥Ｆ'!D26","v":0},{"$f":"'４⑥Ｆ'!E26","v":0},{"$f":"'４⑥Ｆ'!F26","v":0},{"$f":"'４⑥Ｆ'!G26","v":0},{"$f":"'４⑥Ｆ'!H26","v":0},{"$f":"'４⑥Ｆ'!I26","v":0},{"$f":"'４⑥Ｆ'!B27","v":0},{"$f":"'４⑥Ｆ'!C27","v":0},{"$f":"'４⑥Ｆ'!D27","v":0},{"$f":"'４⑥Ｆ'!E27","v":0},{"$f":"'４⑥Ｆ'!F27","v":0},{"$f":"'４⑥Ｆ'!G27","v":0},{"$f":"'４⑥Ｆ'!H27","v":0},{"$f":"'４⑥Ｆ'!I27","v":0},{"$f":"'４⑥Ｆ'!B28","v":0},{"$f":"'４⑥Ｆ'!C28","v":0},{"$f":"'４⑥Ｆ'!D28","v":0},{"$f":"'４⑥Ｆ'!E28","v":0},{"$f":"'４⑥Ｆ'!F28","v":0},{"$f":"'４⑥Ｆ'!G28","v":0},{"$f":"'４⑥Ｆ'!H28","v":0},{"$f":"'４⑥Ｆ'!I28","v":0},{"$f":"'４⑥Ｆ'!B29","v":0},{"$f":"'４⑥Ｆ'!C29","v":0},{"$f":"'４⑥Ｆ'!D29","v":0},{"$f":"'４⑥Ｆ'!E29","v":0},{"$f":"'４⑥Ｆ'!F29","v":0},{"$f":"'４⑥Ｆ'!G29","v":0},{"$f":"'４⑥Ｆ'!H29","v":0},{"$f":"'４⑥Ｆ'!I29","v":0},{"$f":"'４⑥Ｆ'!G30","v":0},{"$f":"'４⑥Ｆ'!B36","v":0},{"$f":"'４⑥Ｆ'!C36","v":0},{"$f":"'４⑥Ｆ'!D36","v":0},{"$f":"'４⑥Ｆ'!E36","v":0},{"$f":"'４⑥Ｆ'!B37","v":0},{"$f":"'４⑥Ｆ'!C37","v":0},{"$f":"'４⑥Ｆ'!D37","v":0},{"$f":"'４⑥Ｆ'!E37","v":0},{"$f":"'４⑥Ｆ'!B38","v":0},{"$f":"'４⑥Ｆ'!C38","v":0},{"$f":"'４⑥Ｆ'!D38","v":0},{"$f":"'４⑥Ｆ'!E38","v":0},{"$f":"'４⑥Ｆ'!B39","v":0},{"$f":"'４⑥Ｆ'!C39","v":0},{"$f":"'４⑥Ｆ'!D39","v":0},{"$f":"'４⑥Ｆ'!E39","v":0},{"$f":"'４⑥Ｆ'!B40","v":0},{"$f":"'４⑥Ｆ'!C40","v":0},{"$f":"'４⑥Ｆ'!D40","v":0},{"$f":"'４⑥Ｆ'!E40","v":0},{"$f":"'４⑥Ｆ'!B41","v":0},{"$f":"'４⑥Ｆ'!C41","v":0},{"$f":"'４⑥Ｆ'!D41","v":0},{"$f":"'４⑥Ｆ'!E41","v":0},{"$f":"'４⑥Ｆ'!B42","v":0},{"$f":"'４⑥Ｆ'!C42","v":0},{"$f":"'４⑥Ｆ'!D42","v":0},{"$f":"'４⑥Ｆ'!E42","v":0},{"$f":"'４⑥Ｆ'!B43","v":0},{"$f":"'４⑥Ｆ'!C43","v":0},{"$f":"'４⑥Ｆ'!D43","v":0},{"$f":"'４⑥Ｆ'!E43","v":0},{"$f":"'４⑥Ｆ'!B44","v":0},{"$f":"'４⑥Ｆ'!C44","v":0},{"$f":"'４⑥Ｆ'!D44","v":0},{"$f":"'４⑥Ｆ'!E44","v":0},{"$f":"'４⑥Ｆ'!B45","v":0},{"$f":"'４⑥Ｆ'!C45","v":0},{"$f":"'４⑥Ｆ'!D45","v":0},{"$f":"'４⑥Ｆ'!E45","v":0},{"$f":"'４⑥Ｆ'!B46","v":0},{"$f":"'４⑥Ｆ'!C46","v":0},{"$f":"'４⑥Ｆ'!D46","v":0},{"$f":"'４⑥Ｆ'!E46","v":0},{"$f":"'４⑥Ｆ'!B47","v":0},{"$f":"'４⑥Ｆ'!C47","v":0},{"$f":"'４⑥Ｆ'!D47","v":0},{"$f":"'４⑥Ｆ'!E47","v":0},{"$f":"'４⑥Ｆ'!B48","v":0},{"$f":"'４⑥Ｆ'!C48","v":0},{"$f":"'４⑥Ｆ'!D48","v":0},{"$f":"'４⑥Ｆ'!E48","v":0},{"$f":"'４⑥Ｆ'!B49","v":0},{"$f":"'４⑥Ｆ'!C49","v":0},{"$f":"'４⑥Ｆ'!D49","v":0},{"$f":"'４⑥Ｆ'!E49","v":0},{"$f":"'４⑥Ｆ'!B50","v":0},{"$f":"'４⑥Ｆ'!C50","v":0},{"$f":"'４⑥Ｆ'!D50","v":0},{"$f":"'４⑥Ｆ'!E50","v":0},{"$f":"'４⑥Ｆ'!B51","v":0},{"$f":"'４⑥Ｆ'!C51","v":0},{"$f":"'４⑥Ｆ'!D51","v":0},{"$f":"'４⑥Ｆ'!E51","v":0},{"$f":"'４⑥Ｆ'!B52","v":0},{"$f":"'４⑥Ｆ'!C52","v":0},{"$f":"'４⑥Ｆ'!D52","v":0},{"$f":"'４⑥Ｆ'!E52","v":0},{"$f":"'４⑥Ｆ'!B53","v":0},{"$f":"'４⑥Ｆ'!C53","v":0},{"$f":"'４⑥Ｆ'!D53","v":0},{"$f":"'４⑥Ｆ'!E53","v":0},{"$f":"'４⑥Ｆ'!B54","v":0},{"$f":"'４⑥Ｆ'!C54","v":0},{"$f":"'４⑥Ｆ'!D54","v":0},{"$f":"'４⑥Ｆ'!E54","v":0},{"$f":"'４⑥Ｆ'!B55","v":0},{"$f":"'４⑥Ｆ'!C55","v":0},{"$f":"'４⑥Ｆ'!D55","v":0},{"$f":"'４⑥Ｆ'!E55","v":0},{"$f":"'４⑥Ｆ'!C56","v":0},{"$f":"'４⑥Ｆ'!B64","v":0},{"$f":"'４⑥Ｆ'!C64","v":0},{"$f":"'４⑥Ｆ'!D64","v":0},{"$f":"'４⑥Ｆ'!E64","v":0}]
[{"$f":"総括表①!$E$3","v":"Ver.05.00"},{"$f":"総括表①!B10","v":0},{"$f":"総括表①!$C$10","v":""},{"$f":"総括表①!$D$10","v":""},{"$f":"IF(総括表①!$C$11=\"1.都道府県\",1,IF(総括表①!$C$11=\"2.政令市\",2,IF(総括表①!$C$11=\"3.市\",3,IF(総括表①!$C$11=\"4.特別区\",4,IF(総括表①!$C$11=\"5.町村\",5,0)))))","v":1},{"$f":"'４⑥Ｆ'!B65","v":0},{"$f":"'４⑥Ｆ'!C65","v":0},{"$f":"'４⑥Ｆ'!D65","v":0},{"$f":"'４⑥Ｆ'!E65","v":0},{"$f":"'４⑥Ｆ'!B66","v":0},{"$f":"'４⑥Ｆ'!C66","v":0},{"$f":"'４⑥Ｆ'!D66","v":0},{"$f":"'４⑥Ｆ'!E66","v":0},{"$f":"'４⑥Ｆ'!B67","v":0},{"$f":"'４⑥Ｆ'!C67","v":0},{"$f":"'４⑥Ｆ'!D67","v":0},{"$f":"'４⑥Ｆ'!E67","v":0},{"$f":"'４⑥Ｆ'!B68","v":0},{"$f":"'４⑥Ｆ'!C68","v":0},{"$f":"'４⑥Ｆ'!D68","v":0},{"$f":"'４⑥Ｆ'!E68","v":0},{"$f":"'４⑥Ｆ'!B69","v":0},{"$f":"'４⑥Ｆ'!C69","v":0},{"$f":"'４⑥Ｆ'!D69","v":0},{"$f":"'４⑥Ｆ'!E69","v":0},{"$f":"'４⑥Ｆ'!B70","v":0},{"$f":"'４⑥Ｆ'!C70","v":0},{"$f":"'４⑥Ｆ'!D70","v":0},{"$f":"'４⑥Ｆ'!E70","v":0},{"$f":"'４⑥Ｆ'!B71","v":0},{"$f":"'４⑥Ｆ'!C71","v":0},{"$f":"'４⑥Ｆ'!D71","v":0},{"$f":"'４⑥Ｆ'!E71","v":0},{"$f":"'４⑥Ｆ'!B72","v":0},{"$f":"'４⑥Ｆ'!C72","v":0},{"$f":"'４⑥Ｆ'!D72","v":0},{"$f":"'４⑥Ｆ'!E72","v":0},{"$f":"'４⑥Ｆ'!B73","v":0},{"$f":"'４⑥Ｆ'!C73","v":0},{"$f":"'４⑥Ｆ'!D73","v":0},{"$f":"'４⑥Ｆ'!E73","v":0},{"$f":"'４⑥Ｆ'!B74","v":0},{"$f":"'４⑥Ｆ'!C74","v":0},{"$f":"'４⑥Ｆ'!D74","v":0},{"$f":"'４⑥Ｆ'!E74","v":0},{"$f":"'４⑥Ｆ'!B75","v":0},{"$f":"'４⑥Ｆ'!C75","v":0},{"$f":"'４⑥Ｆ'!D75","v":0},{"$f":"'４⑥Ｆ'!E75","v":0},{"$f":"'４⑥Ｆ'!B76","v":0},{"$f":"'４⑥Ｆ'!C76","v":0},{"$f":"'４⑥Ｆ'!D76","v":0},{"$f":"'４⑥Ｆ'!E76","v":0},{"$f":"'４⑥Ｆ'!B77","v":0},{"$f":"'４⑥Ｆ'!C77","v":0},{"$f":"'４⑥Ｆ'!D77","v":0},{"$f":"'４⑥Ｆ'!E77","v":0},{"$f":"'４⑥Ｆ'!B78","v":0},{"$f":"'４⑥Ｆ'!C78","v":0},{"$f":"'４⑥Ｆ'!D78","v":0},{"$f":"'４⑥Ｆ'!E78","v":0},{"$f":"'４⑥Ｆ'!B79","v":0},{"$f":"'４⑥Ｆ'!C79","v":0},{"$f":"'４⑥Ｆ'!D79","v":0},{"$f":"'４⑥Ｆ'!E79","v":0},{"$f":"'４⑥Ｆ'!B80","v":0},{"$f":"'４⑥Ｆ'!C80","v":0},{"$f":"'４⑥Ｆ'!D80","v":0},{"$f":"'４⑥Ｆ'!E80","v":0},{"$f":"'４⑥Ｆ'!B81","v":0},{"$f":"'４⑥Ｆ'!C81","v":0},{"$f":"'４⑥Ｆ'!D81","v":0},{"$f":"'４⑥Ｆ'!E81","v":0},{"$f":"'４⑥Ｆ'!B82","v":0},{"$f":"'４⑥Ｆ'!C82","v":0},{"$f":"'４⑥Ｆ'!D82","v":0},{"$f":"'４⑥Ｆ'!E82","v":0},{"$f":"'４⑥Ｆ'!B83","v":0},{"$f":"'４⑥Ｆ'!C83","v":0},{"$f":"'４⑥Ｆ'!D83","v":0},{"$f":"'４⑥Ｆ'!E83","v":0},{"$f":"'４⑥Ｆ'!C84","v":0},{"$f":"'４⑥Ｆ'!B92","v":0},{"$f":"'４⑥Ｆ'!C92","v":0},{"$f":"'４⑥Ｆ'!D92","v":0},{"$f":"'４⑥Ｆ'!E92","v":0},{"$f":"'４⑥Ｆ'!B93","v":0},{"$f":"'４⑥Ｆ'!C93","v":0},{"$f":"'４⑥Ｆ'!D93","v":0},{"$f":"'４⑥Ｆ'!E93","v":0},{"$f":"'４⑥Ｆ'!B94","v":0},{"$f":"'４⑥Ｆ'!C94","v":0},{"$f":"'４⑥Ｆ'!D94","v":0},{"$f":"'４⑥Ｆ'!E94","v":0},{"$f":"'４⑥Ｆ'!B95","v":0},{"$f":"'４⑥Ｆ'!C95","v":0},{"$f":"'４⑥Ｆ'!D95","v":0},{"$f":"'４⑥Ｆ'!E95","v":0},{"$f":"'４⑥Ｆ'!B96","v":0},{"$f":"'４⑥Ｆ'!C96","v":0},{"$f":"'４⑥Ｆ'!D96","v":0},{"$f":"'４⑥Ｆ'!E96","v":0},{"$f":"'４⑥Ｆ'!B97","v":0},{"$f":"'４⑥Ｆ'!C97","v":0},{"$f":"'４⑥Ｆ'!D97","v":0},{"$f":"'４⑥Ｆ'!E97","v":0},{"$f":"'４⑥Ｆ'!B98","v":0},{"$f":"'４⑥Ｆ'!C98","v":0},{"$f":"'４⑥Ｆ'!D98","v":0},{"$f":"'４⑥Ｆ'!E98","v":0},{"$f":"'４⑥Ｆ'!B99","v":0},{"$f":"'４⑥Ｆ'!C99","v":0},{"$f":"'４⑥Ｆ'!D99","v":0},{"$f":"'４⑥Ｆ'!E99","v":0},{"$f":"'４⑥Ｆ'!B100","v":0},{"$f":"'４⑥Ｆ'!C100","v":0},{"$f":"'４⑥Ｆ'!D100","v":0},{"$f":"'４⑥Ｆ'!E100","v":0},{"$f":"'４⑥Ｆ'!B101","v":0},{"$f":"'４⑥Ｆ'!C101","v":0},{"$f":"'４⑥Ｆ'!D101","v":0},{"$f":"'４⑥Ｆ'!E101","v":0},{"$f":"'４⑥Ｆ'!B102","v":0},{"$f":"'４⑥Ｆ'!C102","v":0},{"$f":"'４⑥Ｆ'!D102","v":0},{"$f":"'４⑥Ｆ'!E102","v":0},{"$f":"'４⑥Ｆ'!B103","v":0},{"$f":"'４⑥Ｆ'!C103","v":0},{"$f":"'４⑥Ｆ'!D103","v":0},{"$f":"'４⑥Ｆ'!E103","v":0},{"$f":"'４⑥Ｆ'!B104","v":0},{"$f":"'４⑥Ｆ'!C104","v":0},{"$f":"'４⑥Ｆ'!D104","v":0},{"$f":"'４⑥Ｆ'!E104","v":0},{"$f":"'４⑥Ｆ'!B105","v":0},{"$f":"'４⑥Ｆ'!C105","v":0},{"$f":"'４⑥Ｆ'!D105","v":0},{"$f":"'４⑥Ｆ'!E105","v":0},{"$f":"'４⑥Ｆ'!B106","v":0},{"$f":"'４⑥Ｆ'!C106","v":0},{"$f":"'４⑥Ｆ'!D106","v":0},{"$f":"'４⑥Ｆ'!E106","v":0},{"$f":"'４⑥Ｆ'!B107","v":0},{"$f":"'４⑥Ｆ'!C107","v":0},{"$f":"'４⑥Ｆ'!D107","v":0},{"$f":"'４⑥Ｆ'!E107","v":0},{"$f":"'４⑥Ｆ'!B108","v":0},{"$f":"'４⑥Ｆ'!C108","v":0},{"$f":"'４⑥Ｆ'!D108","v":0},{"$f":"'４⑥Ｆ'!E108","v":0},{"$f":"'４⑥Ｆ'!B109","v":0},{"$f":"'４⑥Ｆ'!C109","v":0},{"$f":"'４⑥Ｆ'!D109","v":0},{"$f":"'４⑥Ｆ'!E109","v":0},{"$f":"'４⑥Ｆ'!B110","v":0},{"$f":"'４⑥Ｆ'!C110","v":0},{"$f":"'４⑥Ｆ'!D110","v":0},{"$f":"'４⑥Ｆ'!E110","v":0},{"$f":"'４⑥Ｆ'!B111","v":0},{"$f":"'４⑥Ｆ'!C111","v":0},{"$f":"'４⑥Ｆ'!D111","v":0},{"$f":"'４⑥Ｆ'!E111","v":0},{"$f":"'４⑥Ｆ'!C112","v":0},{"$f":"'４⑥Ｆ'!B120","v":0},{"$f":"'４⑥Ｆ'!C120","v":0},{"$f":"'４⑥Ｆ'!D120","v":0},{"$f":"'４⑥Ｆ'!E120","v":0},{"$f":"'４⑥Ｆ'!F120","v":0},{"$f":"'４⑥Ｆ'!G120","v":0},{"$f":"'４⑥Ｆ'!H120","v":0},{"$f":"'４⑥Ｆ'!B121","v":0},{"$f":"'４⑥Ｆ'!C121","v":0},{"$f":"'４⑥Ｆ'!D121","v":0},{"$f":"'４⑥Ｆ'!E121","v":0},{"$f":"'４⑥Ｆ'!F121","v":0},{"$f":"'４⑥Ｆ'!G121","v":0},{"$f":"'４⑥Ｆ'!H121","v":0},{"$f":"'４⑥Ｆ'!B122","v":0},{"$f":"'４⑥Ｆ'!C122","v":0},{"$f":"'４⑥Ｆ'!D122","v":0},{"$f":"'４⑥Ｆ'!E122","v":0},{"$f":"'４⑥Ｆ'!F122","v":0},{"$f":"'４⑥Ｆ'!G122","v":0},{"$f":"'４⑥Ｆ'!H122","v":0},{"$f":"'４⑥Ｆ'!B123","v":0},{"$f":"'４⑥Ｆ'!C123","v":0},{"$f":"'４⑥Ｆ'!D123","v":0},{"$f":"'４⑥Ｆ'!E123","v":0},{"$f":"'４⑥Ｆ'!F123","v":0},{"$f":"'４⑥Ｆ'!G123","v":0},{"$f":"'４⑥Ｆ'!H123","v":0},{"$f":"'４⑥Ｆ'!B124","v":0},{"$f":"'４⑥Ｆ'!C124","v":0},{"$f":"'４⑥Ｆ'!D124","v":0},{"$f":"'４⑥Ｆ'!E124","v":0},{"$f":"'４⑥Ｆ'!F124","v":0},{"$f":"'４⑥Ｆ'!G124","v":0},{"$f":"'４⑥Ｆ'!H124","v":0},{"$f":"'４⑥Ｆ'!B125","v":0},{"$f":"'４⑥Ｆ'!C125","v":0},{"$f":"'４⑥Ｆ'!D125","v":0},{"$f":"'４⑥Ｆ'!E125","v":0},{"$f":"'４⑥Ｆ'!F125","v":0},{"$f":"'４⑥Ｆ'!G125","v":0},{"$f":"'４⑥Ｆ'!H125","v":0},{"$f":"'４⑥Ｆ'!B126","v":0},{"$f":"'４⑥Ｆ'!C126","v":0},{"$f":"'４⑥Ｆ'!D126","v":0},{"$f":"'４⑥Ｆ'!E126","v":0},{"$f":"'４⑥Ｆ'!F126","v":0},{"$f":"'４⑥Ｆ'!G126","v":0},{"$f":"'４⑥Ｆ'!H126","v":0},{"$f":"'４⑥Ｆ'!B127","v":0},{"$f":"'４⑥Ｆ'!C127","v":0},{"$f":"'４⑥Ｆ'!D127","v":0},{"$f":"'４⑥Ｆ'!E127","v":0},{"$f":"'４⑥Ｆ'!F127","v":0},{"$f":"'４⑥Ｆ'!G127","v":0},{"$f":"'４⑥Ｆ'!H127","v":0},{"$f":"'４⑥Ｆ'!B128","v":0},{"$f":"'４⑥Ｆ'!C128","v":0},{"$f":"'４⑥Ｆ'!D128","v":0},{"$f":"'４⑥Ｆ'!E128","v":0},{"$f":"'４⑥Ｆ'!F128","v":0},{"$f":"'４⑥Ｆ'!G128","v":0},{"$f":"'４⑥Ｆ'!H128","v":0},{"$f":"'４⑥Ｆ'!B129","v":0},{"$f":"'４⑥Ｆ'!C129","v":0},{"$f":"'４⑥Ｆ'!D129","v":0},{"$f":"'４⑥Ｆ'!E129","v":0},{"$f":"'４⑥Ｆ'!F129","v":0},{"$f":"'４⑥Ｆ'!G129","v":0},{"$f":"'４⑥Ｆ'!H129","v":0},{"$f":"'４⑥Ｆ'!B130","v":0},{"$f":"'４⑥Ｆ'!C130","v":0},{"$f":"'４⑥Ｆ'!D130","v":0},{"$f":"'４⑥Ｆ'!E130","v":0},{"$f":"'４⑥Ｆ'!F130","v":0},{"$f":"'４⑥Ｆ'!G130","v":0},{"$f":"'４⑥Ｆ'!H130","v":0},{"$f":"'４⑥Ｆ'!B131","v":0},{"$f":"'４⑥Ｆ'!C131","v":0},{"$f":"'４⑥Ｆ'!D131","v":0},{"$f":"'４⑥Ｆ'!E131","v":0},{"$f":"'４⑥Ｆ'!F131","v":0},{"$f":"'４⑥Ｆ'!G131","v":0},{"$f":"'４⑥Ｆ'!H131","v":0},{"$f":"'４⑥Ｆ'!B132","v":0},{"$f":"'４⑥Ｆ'!C132","v":0},{"$f":"'４⑥Ｆ'!D132","v":0},{"$f":"'４⑥Ｆ'!E132","v":0},{"$f":"'４⑥Ｆ'!F132","v":0},{"$f":"'４⑥Ｆ'!G132","v":0},{"$f":"'４⑥Ｆ'!H132","v":0},{"$f":"'４⑥Ｆ'!B133","v":0}]
[{"$f":"総括表①!$E$3","v":"Ver.05.00"},{"$f":"総括表①!B10","v":0},{"$f":"総括表①!$C$10","v":""},{"$f":"総括表①!$D$10","v":""},{"$f":"IF(総括表①!$C$11=\"1.都道府県\",1,IF(総括表①!$C$11=\"2.政令市\",2,IF(総括表①!$C$11=\"3.市\",3,IF(総括表①!$C$11=\"4.特別区\",4,IF(総括表①!$C$11=\"5.町村\",5,0)))))","v":1},{"$f":"'４⑥Ｆ'!C133","v":0},{"$f":"'４⑥Ｆ'!D133","v":0},{"$f":"'４⑥Ｆ'!E133","v":0},{"$f":"'４⑥Ｆ'!F133","v":0},{"$f":"'４⑥Ｆ'!G133","v":0},{"$f":"'４⑥Ｆ'!H133","v":0},{"$f":"'４⑥Ｆ'!B134","v":0},{"$f":"'４⑥Ｆ'!C134","v":0},{"$f":"'４⑥Ｆ'!D134","v":0},{"$f":"'４⑥Ｆ'!E134","v":0},{"$f":"'４⑥Ｆ'!F134","v":0},{"$f":"'４⑥Ｆ'!G134","v":0},{"$f":"'４⑥Ｆ'!H134","v":0},{"$f":"'４⑥Ｆ'!B135","v":0},{"$f":"'４⑥Ｆ'!C135","v":0},{"$f":"'４⑥Ｆ'!D135","v":0},{"$f":"'４⑥Ｆ'!E135","v":0},{"$f":"'４⑥Ｆ'!F135","v":0},{"$f":"'４⑥Ｆ'!G135","v":0},{"$f":"'４⑥Ｆ'!H135","v":0},{"$f":"'４⑥Ｆ'!B136","v":0},{"$f":"'４⑥Ｆ'!C136","v":0},{"$f":"'４⑥Ｆ'!D136","v":0},{"$f":"'４⑥Ｆ'!E136","v":0},{"$f":"'４⑥Ｆ'!F136","v":0},{"$f":"'４⑥Ｆ'!G136","v":0},{"$f":"'４⑥Ｆ'!H136","v":0},{"$f":"'４⑥Ｆ'!B137","v":0},{"$f":"'４⑥Ｆ'!C137","v":0},{"$f":"'４⑥Ｆ'!D137","v":0},{"$f":"'４⑥Ｆ'!E137","v":0},{"$f":"'４⑥Ｆ'!F137","v":0},{"$f":"'４⑥Ｆ'!G137","v":0},{"$f":"'４⑥Ｆ'!H137","v":0},{"$f":"'４⑥Ｆ'!B138","v":0},{"$f":"'４⑥Ｆ'!C138","v":0},{"$f":"'４⑥Ｆ'!D138","v":0},{"$f":"'４⑥Ｆ'!E138","v":0},{"$f":"'４⑥Ｆ'!F138","v":0},{"$f":"'４⑥Ｆ'!G138","v":0},{"$f":"'４⑥Ｆ'!H138","v":0},{"$f":"'４⑥Ｆ'!B139","v":0},{"$f":"'４⑥Ｆ'!C139","v":0},{"$f":"'４⑥Ｆ'!D139","v":0},{"$f":"'４⑥Ｆ'!E139","v":0},{"$f":"'４⑥Ｆ'!F139","v":0},{"$f":"'４⑥Ｆ'!G139","v":0},{"$f":"'４⑥Ｆ'!H139","v":0},{"$f":"'４⑥Ｆ'!F140","v":0},{"$f":"'４⑥Ｆ'!B146","v":0},{"$f":"'４⑥Ｆ'!C146","v":0},{"$f":"'４⑥Ｆ'!D146","v":0},{"$f":"'４⑥Ｆ'!E146","v":0},{"$f":"'４⑥Ｆ'!F146","v":0},{"$f":"'４⑥Ｆ'!G146","v":0},{"$f":"'４⑥Ｆ'!H146","v":0},{"$f":"'４⑥Ｆ'!B147","v":0},{"$f":"'４⑥Ｆ'!C147","v":0},{"$f":"'４⑥Ｆ'!D147","v":0},{"$f":"'４⑥Ｆ'!E147","v":0},{"$f":"'４⑥Ｆ'!F147","v":0},{"$f":"'４⑥Ｆ'!G147","v":0},{"$f":"'４⑥Ｆ'!H147","v":0},{"$f":"'４⑥Ｆ'!B148","v":0},{"$f":"'４⑥Ｆ'!C148","v":0},{"$f":"'４⑥Ｆ'!D148","v":0},{"$f":"'４⑥Ｆ'!E148","v":0},{"$f":"'４⑥Ｆ'!F148","v":0},{"$f":"'４⑥Ｆ'!G148","v":0},{"$f":"'４⑥Ｆ'!H148","v":0},{"$f":"'４⑥Ｆ'!B149","v":0},{"$f":"'４⑥Ｆ'!C149","v":0},{"$f":"'４⑥Ｆ'!D149","v":0},{"$f":"'４⑥Ｆ'!E149","v":0},{"$f":"'４⑥Ｆ'!F149","v":0},{"$f":"'４⑥Ｆ'!G149","v":0},{"$f":"'４⑥Ｆ'!H149","v":0},{"$f":"'４⑥Ｆ'!B150","v":0},{"$f":"'４⑥Ｆ'!C150","v":0},{"$f":"'４⑥Ｆ'!D150","v":0},{"$f":"'４⑥Ｆ'!E150","v":0},{"$f":"'４⑥Ｆ'!F150","v":0},{"$f":"'４⑥Ｆ'!G150","v":0},{"$f":"'４⑥Ｆ'!H150","v":0},{"$f":"'４⑥Ｆ'!B151","v":0},{"$f":"'４⑥Ｆ'!C151","v":0},{"$f":"'４⑥Ｆ'!D151","v":0},{"$f":"'４⑥Ｆ'!E151","v":0},{"$f":"'４⑥Ｆ'!F151","v":0},{"$f":"'４⑥Ｆ'!G151","v":0},{"$f":"'４⑥Ｆ'!H151","v":0},{"$f":"'４⑥Ｆ'!B152","v":0},{"$f":"'４⑥Ｆ'!C152","v":0},{"$f":"'４⑥Ｆ'!D152","v":0},{"$f":"'４⑥Ｆ'!E152","v":0},{"$f":"'４⑥Ｆ'!F152","v":0},{"$f":"'４⑥Ｆ'!G152","v":0},{"$f":"'４⑥Ｆ'!H152","v":0},{"$f":"'４⑥Ｆ'!B153","v":0},{"$f":"'４⑥Ｆ'!C153","v":0},{"$f":"'４⑥Ｆ'!D153","v":0},{"$f":"'４⑥Ｆ'!E153","v":0},{"$f":"'４⑥Ｆ'!F153","v":0},{"$f":"'４⑥Ｆ'!G153","v":0},{"$f":"'４⑥Ｆ'!H153","v":0},{"$f":"'４⑥Ｆ'!B154","v":0},{"$f":"'４⑥Ｆ'!C154","v":0},{"$f":"'４⑥Ｆ'!D154","v":0},{"$f":"'４⑥Ｆ'!E154","v":0},{"$f":"'４⑥Ｆ'!F154","v":0},{"$f":"'４⑥Ｆ'!G154","v":0},{"$f":"'４⑥Ｆ'!H154","v":0},{"$f":"'４⑥Ｆ'!B155","v":0},{"$f":"'４⑥Ｆ'!C155","v":0},{"$f":"'４⑥Ｆ'!D155","v":0},{"$f":"'４⑥Ｆ'!E155","v":0},{"$f":"'４⑥Ｆ'!F155","v":0},{"$f":"'４⑥Ｆ'!G155","v":0},{"$f":"'４⑥Ｆ'!H155","v":0},{"$f":"'４⑥Ｆ'!B156","v":0},{"$f":"'４⑥Ｆ'!C156","v":0},{"$f":"'４⑥Ｆ'!D156","v":0},{"$f":"'４⑥Ｆ'!E156","v":0},{"$f":"'４⑥Ｆ'!F156","v":0},{"$f":"'４⑥Ｆ'!G156","v":0},{"$f":"'４⑥Ｆ'!H156","v":0},{"$f":"'４⑥Ｆ'!B157","v":0},{"$f":"'４⑥Ｆ'!C157","v":0},{"$f":"'４⑥Ｆ'!D157","v":0},{"$f":"'４⑥Ｆ'!E157","v":0},{"$f":"'４⑥Ｆ'!F157","v":0},{"$f":"'４⑥Ｆ'!G157","v":0},{"$f":"'４⑥Ｆ'!H157","v":0},{"$f":"'４⑥Ｆ'!B158","v":0},{"$f":"'４⑥Ｆ'!C158","v":0},{"$f":"'４⑥Ｆ'!D158","v":0},{"$f":"'４⑥Ｆ'!E158","v":0},{"$f":"'４⑥Ｆ'!F158","v":0},{"$f":"'４⑥Ｆ'!G158","v":0},{"$f":"'４⑥Ｆ'!H158","v":0},{"$f":"'４⑥Ｆ'!B159","v":0},{"$f":"'４⑥Ｆ'!C159","v":0},{"$f":"'４⑥Ｆ'!D159","v":0},{"$f":"'４⑥Ｆ'!E159","v":0},{"$f":"'４⑥Ｆ'!F159","v":0},{"$f":"'４⑥Ｆ'!G159","v":0},{"$f":"'４⑥Ｆ'!H159","v":0},{"$f":"'４⑥Ｆ'!B160","v":0},{"$f":"'４⑥Ｆ'!C160","v":0},{"$f":"'４⑥Ｆ'!D160","v":0},{"$f":"'４⑥Ｆ'!E160","v":0},{"$f":"'４⑥Ｆ'!F160","v":0},{"$f":"'４⑥Ｆ'!G160","v":0},{"$f":"'４⑥Ｆ'!H160","v":0},{"$f":"'４⑥Ｆ'!B161","v":0},{"$f":"'４⑥Ｆ'!C161","v":0},{"$f":"'４⑥Ｆ'!D161","v":0},{"$f":"'４⑥Ｆ'!E161","v":0},{"$f":"'４⑥Ｆ'!F161","v":0},{"$f":"'４⑥Ｆ'!G161","v":0},{"$f":"'４⑥Ｆ'!H161","v":0},{"$f":"'４⑥Ｆ'!B162","v":0},{"$f":"'４⑥Ｆ'!C162","v":0},{"$f":"'４⑥Ｆ'!D162","v":0},{"$f":"'４⑥Ｆ'!E162","v":0},{"$f":"'４⑥Ｆ'!F162","v":0},{"$f":"'４⑥Ｆ'!G162","v":0},{"$f":"'４⑥Ｆ'!H162","v":0},{"$f":"'４⑥Ｆ'!B163","v":0},{"$f":"'４⑥Ｆ'!C163","v":0},{"$f":"'４⑥Ｆ'!D163","v":0},{"$f":"'４⑥Ｆ'!E163","v":0},{"$f":"'４⑥Ｆ'!F163","v":0},{"$f":"'４⑥Ｆ'!G163","v":0},{"$f":"'４⑥Ｆ'!H163","v":0},{"$f":"'４⑥Ｆ'!B164","v":0},{"$f":"'４⑥Ｆ'!C164","v":0},{"$f":"'４⑥Ｆ'!D164","v":0},{"$f":"'４⑥Ｆ'!E164","v":0},{"$f":"'４⑥Ｆ'!F164","v":0},{"$f":"'４⑥Ｆ'!G164","v":0},{"$f":"'４⑥Ｆ'!H164","v":0},{"$f":"'４⑥Ｆ'!B165","v":0},{"$f":"'４⑥Ｆ'!C165","v":0},{"$f":"'４⑥Ｆ'!D165","v":0},{"$f":"'４⑥Ｆ'!E165","v":0},{"$f":"'４⑥Ｆ'!F165","v":0},{"$f":"'４⑥Ｆ'!G165","v":0},{"$f":"'４⑥Ｆ'!H165","v":0},{"$f":"'４⑥Ｆ'!F166","v":0},{"$f":"'４⑥Ｆ'!B174","v":0},{"$f":"'４⑥Ｆ'!C174","v":0},{"$f":"'４⑥Ｆ'!D174","v":0},{"$f":"'４⑥Ｆ'!E174","v":0},{"$f":"'４⑥Ｆ'!B175","v":0},{"$f":"'４⑥Ｆ'!C175","v":0},{"$f":"'４⑥Ｆ'!D175","v":0},{"$f":"'４⑥Ｆ'!E175","v":0},{"$f":"'４⑥Ｆ'!B176","v":0},{"$f":"'４⑥Ｆ'!C176","v":0},{"$f":"'４⑥Ｆ'!D176","v":0},{"$f":"'４⑥Ｆ'!E176","v":0},{"$f":"'４⑥Ｆ'!B177","v":0},{"$f":"'４⑥Ｆ'!C177","v":0},{"$f":"'４⑥Ｆ'!D177","v":0},{"$f":"'４⑥Ｆ'!E177","v":0},{"$f":"'４⑥Ｆ'!B178","v":0},{"$f":"'４⑥Ｆ'!C178","v":0},{"$f":"'４⑥Ｆ'!D178","v":0},{"$f":"'４⑥Ｆ'!E178","v":0},{"$f":"'４⑥Ｆ'!B179","v":0},{"$f":"'４⑥Ｆ'!C179","v":0},{"$f":"'４⑥Ｆ'!D179","v":0},{"$f":"'４⑥Ｆ'!E179","v":0},{"$f":"'４⑥Ｆ'!B180","v":0},{"$f":"'４⑥Ｆ'!C180","v":0},{"$f":"'４⑥Ｆ'!D180","v":0},{"$f":"'４⑥Ｆ'!E180","v":0},{"$f":"'４⑥Ｆ'!B181","v":0},{"$f":"'４⑥Ｆ'!C181","v":0},{"$f":"'４⑥Ｆ'!D181","v":0},{"$f":"'４⑥Ｆ'!E181","v":0},{"$f":"'４⑥Ｆ'!B182","v":0},{"$f":"'４⑥Ｆ'!C182","v":0},{"$f":"'４⑥Ｆ'!D182","v":0},{"$f":"'４⑥Ｆ'!E182","v":0},{"$f":"'４⑥Ｆ'!B183","v":0},{"$f":"'４⑥Ｆ'!C183","v":0},{"$f":"'４⑥Ｆ'!D183","v":0},{"$f":"'４⑥Ｆ'!E183","v":0},{"$f":"'４⑥Ｆ'!B184","v":0},{"$f":"'４⑥Ｆ'!C184","v":0},{"$f":"'４⑥Ｆ'!D184","v":0},{"$f":"'４⑥Ｆ'!E184","v":0},{"$f":"'４⑥Ｆ'!B185","v":0},{"$f":"'４⑥Ｆ'!C185","v":0},{"$f":"'４⑥Ｆ'!D185","v":0},{"$f":"'４⑥Ｆ'!E185","v":0},{"$f":"'４⑥Ｆ'!B186","v":0},{"$f":"'４⑥Ｆ'!C186","v":0},{"$f":"'４⑥Ｆ'!D186","v":0},{"$f":"'４⑥Ｆ'!E186","v":0},{"$f":"'４⑥Ｆ'!B187","v":0},{"$f":"'４⑥Ｆ'!C187","v":0},{"$f":"'４⑥Ｆ'!D187","v":0},{"$f":"'４⑥Ｆ'!E187","v":0}]
[{"$f":"総括表①!$E$3","v":"Ver.05.00"},{"$f":"総括表①!B10","v":0},{"$f":"総括表①!$C$10","v":""},{"$f":"総括表①!$D$10","v":""},{"$f":"IF(総括表①!$C$11=\"1.都道府県\",1,IF(総括表①!$C$11=\"2.政令市\",2,IF(総括表①!$C$11=\"3.市\",3,IF(総括表①!$C$11=\"4.特別区\",4,IF(総括表①!$C$11=\"5.町村\",5,0)))))","v":1},{"$f":"'４⑥Ｆ'!B188","v":0},{"$f":"'４⑥Ｆ'!C188","v":0},{"$f":"'４⑥Ｆ'!D188","v":0},{"$f":"'４⑥Ｆ'!E188","v":0},{"$f":"'４⑥Ｆ'!B189","v":0},{"$f":"'４⑥Ｆ'!C189","v":0},{"$f":"'４⑥Ｆ'!D189","v":0},{"$f":"'４⑥Ｆ'!E189","v":0},{"$f":"'４⑥Ｆ'!B190","v":0},{"$f":"'４⑥Ｆ'!C190","v":0},{"$f":"'４⑥Ｆ'!D190","v":0},{"$f":"'４⑥Ｆ'!E190","v":0},{"$f":"'４⑥Ｆ'!B191","v":0},{"$f":"'４⑥Ｆ'!C191","v":0},{"$f":"'４⑥Ｆ'!D191","v":0},{"$f":"'４⑥Ｆ'!E191","v":0},{"$f":"'４⑥Ｆ'!B192","v":0},{"$f":"'４⑥Ｆ'!C192","v":0},{"$f":"'４⑥Ｆ'!D192","v":0},{"$f":"'４⑥Ｆ'!E192","v":0},{"$f":"'４⑥Ｆ'!B193","v":0},{"$f":"'４⑥Ｆ'!C193","v":0},{"$f":"'４⑥Ｆ'!D193","v":0},{"$f":"'４⑥Ｆ'!E193","v":0},{"$f":"'４⑥Ｆ'!C194","v":0},{"$f":"'４⑥Ｆ'!B199","v":0},{"$f":"'４⑥G'!C9","v":0},{"$f":"'４⑥G'!D9","v":0},{"$f":"'４⑥G'!E9","v":0},{"$f":"'４⑥G'!F9","v":"S  .  .  ～H  .  .  "},{"$f":"'４⑥G'!G9","v":0},{"$f":"'４⑥G'!H9","v":0},{"$f":"'４⑥G'!C10","v":0},{"$f":"'４⑥G'!D10","v":0},{"$f":"'４⑥G'!E10","v":0},{"$f":"'４⑥G'!F10","v":"S  .  .  ～H  .  .  "},{"$f":"'４⑥G'!G10","v":0},{"$f":"'４⑥G'!H10","v":0},{"$f":"'４⑥G'!C11","v":0},{"$f":"'４⑥G'!D11","v":0},{"$f":"'４⑥G'!E11","v":0},{"$f":"'４⑥G'!F11","v":"S  .  .  ～H  .  .  "},{"$f":"'４⑥G'!G11","v":0},{"$f":"'４⑥G'!H11","v":0},{"$f":"'４⑥G'!C12","v":0},{"$f":"'４⑥G'!D12","v":0},{"$f":"'４⑥G'!E12","v":0},{"$f":"'４⑥G'!F12","v":"S  .  .  ～H  .  .  "},{"$f":"'４⑥G'!G12","v":0},{"$f":"'４⑥G'!H12","v":0},{"$f":"'４⑥G'!C13","v":0},{"$f":"'４⑥G'!D13","v":0},{"$f":"'４⑥G'!E13","v":0},{"$f":"'４⑥G'!F13","v":"S  .  .  ～H  .  .  "},{"$f":"'４⑥G'!G13","v":0},{"$f":"'４⑥G'!H13","v":0},{"$f":"'４⑥G'!D14","v":0},{"$f":"'４⑥G'!C19","v":0},{"$f":"'４⑥G'!D19","v":0},{"$f":"'４⑥G'!E19","v":0},{"$f":"'４⑥G'!F19","v":"H  .  .  ～H  .  .  "},{"$f":"'４⑥G'!G19","v":0},{"$f":"'４⑥G'!H19","v":0},{"$f":"'４⑥G'!C20","v":0},{"$f":"'４⑥G'!D20","v":0},{"$f":"'４⑥G'!E20","v":0},{"$f":"'４⑥G'!F20","v":"H  .  .  ～H  .  .  "},{"$f":"'４⑥G'!G20","v":0},{"$f":"'４⑥G'!H20","v":0},{"$f":"'４⑥G'!C21","v":0},{"$f":"'４⑥G'!D21","v":0},{"$f":"'４⑥G'!E21","v":0},{"$f":"'４⑥G'!F21","v":"H  .  .  ～H  .  .  "},{"$f":"'４⑥G'!G21","v":0},{"$f":"'４⑥G'!H21","v":0},{"$f":"'４⑥G'!C22","v":0},{"$f":"'４⑥G'!D22","v":0},{"$f":"'４⑥G'!E22","v":0},{"$f":"'４⑥G'!F22","v":"H  .  .  ～H  .  .  "},{"$f":"'４⑥G'!G22","v":0},{"$f":"'４⑥G'!H22","v":0},{"$f":"'４⑥G'!C23","v":0},{"$f":"'４⑥G'!D23","v":0},{"$f":"'４⑥G'!E23","v":0},{"$f":"'４⑥G'!F23","v":"H  .  .  ～H  .  .  "},{"$f":"'４⑥G'!G23","v":0},{"$f":"'４⑥G'!H23","v":0},{"$f":"'４⑥G'!D24","v":0},{"$f":"'４⑥G'!C29","v":0},{"$f":"'４⑥G'!D29","v":0},{"$f":"'４⑥G'!E29","v":0},{"$f":"'４⑥G'!F29","v":0},{"$f":"'４⑥G'!G29","v":0},{"$f":"'４⑥G'!C30","v":0},{"$f":"'４⑥G'!D30","v":0},{"$f":"'４⑥G'!E30","v":0},{"$f":"'４⑥G'!F30","v":0},{"$f":"'４⑥G'!G30","v":0},{"$f":"'４⑥G'!C31","v":0},{"$f":"'４⑥G'!D31","v":0},{"$f":"'４⑥G'!E31","v":0},{"$f":"'４⑥G'!F31","v":0},{"$f":"'４⑥G'!G31","v":0},{"$f":"'４⑥G'!C32","v":0},{"$f":"'４⑥G'!D32","v":0},{"$f":"'４⑥G'!E32","v":0},{"$f":"'４⑥G'!F32","v":0},{"$f":"'４⑥G'!G32","v":0},{"$f":"'４⑥G'!C33","v":0},{"$f":"'４⑥G'!D33","v":0},{"$f":"'４⑥G'!E33","v":0},{"$f":"'４⑥G'!F33","v":0},{"$f":"'４⑥G'!G33","v":0},{"$f":"'４⑥G'!D34","v":0},{"$f":"'４⑥G'!C40","v":0}]
[{"$f":"総括表①!$E$3","v":"Ver.05.00"},{"$f":"総括表①!B10","v":0},{"$f":"総括表①!$C$10","v":""},{"$f":"総括表①!$D$10","v":""},{"$f":"IF(総括表①!$C$11=\"1.都道府県\",1,IF(総括表①!$C$11=\"2.政令市\",2,IF(総括表①!$C$11=\"3.市\",3,IF(総括表①!$C$11=\"4.特別区\",4,IF(総括表①!$C$11=\"5.町村\",5,0)))))","v":1},{"$f":"'４⑥H'!B10","v":0},{"$f":"'４⑥H'!C10","v":0},{"$f":"'４⑥H'!D10","v":0},{"$f":"'４⑥H'!E10","v":0},{"$f":"'４⑥H'!F10","v":0},{"$f":"'４⑥H'!G10","v":0},{"$f":"'４⑥H'!H10","v":0},{"$f":"'４⑥H'!I10","v":0},{"$f":"'４⑥H'!J10","v":0},{"$f":"'４⑥H'!K10","v":0},{"$f":"'４⑥H'!B11","v":0},{"$f":"'４⑥H'!C11","v":0},{"$f":"'４⑥H'!D11","v":0},{"$f":"'４⑥H'!E11","v":0},{"$f":"'４⑥H'!F11","v":0},{"$f":"'４⑥H'!G11","v":0},{"$f":"'４⑥H'!H11","v":0},{"$f":"'４⑥H'!I11","v":0},{"$f":"'４⑥H'!J11","v":0},{"$f":"'４⑥H'!K11","v":0},{"$f":"'４⑥H'!B12","v":0},{"$f":"'４⑥H'!C12","v":0},{"$f":"'４⑥H'!D12","v":0},{"$f":"'４⑥H'!E12","v":0},{"$f":"'４⑥H'!F12","v":0},{"$f":"'４⑥H'!G12","v":0},{"$f":"'４⑥H'!H12","v":0},{"$f":"'４⑥H'!I12","v":0},{"$f":"'４⑥H'!J12","v":0},{"$f":"'４⑥H'!K12","v":0},{"$f":"'４⑥H'!B13","v":0},{"$f":"'４⑥H'!C13","v":0},{"$f":"'４⑥H'!D13","v":0},{"$f":"'４⑥H'!E13","v":0},{"$f":"'４⑥H'!F13","v":0},{"$f":"'４⑥H'!G13","v":0},{"$f":"'４⑥H'!H13","v":0},{"$f":"'４⑥H'!I13","v":0},{"$f":"'４⑥H'!J13","v":0},{"$f":"'４⑥H'!K13","v":0},{"$f":"'４⑥H'!B14","v":0},{"$f":"'４⑥H'!C14","v":0},{"$f":"'４⑥H'!D14","v":0},{"$f":"'４⑥H'!E14","v":0},{"$f":"'４⑥H'!F14","v":0},{"$f":"'４⑥H'!G14","v":0},{"$f":"'４⑥H'!H14","v":0},{"$f":"'４⑥H'!I14","v":0},{"$f":"'４⑥H'!J14","v":0},{"$f":"'４⑥H'!K14","v":0},{"$f":"'４⑥H'!B15","v":0},{"$f":"'４⑥H'!C15","v":0},{"$f":"'４⑥H'!D15","v":0},{"$f":"'４⑥H'!E15","v":0},{"$f":"'４⑥H'!F15","v":0},{"$f":"'４⑥H'!G15","v":0},{"$f":"'４⑥H'!H15","v":0},{"$f":"'４⑥H'!I15","v":0},{"$f":"'４⑥H'!J15","v":0},{"$f":"'４⑥H'!K15","v":0},{"$f":"'４⑥H'!B16","v":0},{"$f":"'４⑥H'!C16","v":0},{"$f":"'４⑥H'!D16","v":0},{"$f":"'４⑥H'!E16","v":0},{"$f":"'４⑥H'!F16","v":0},{"$f":"'４⑥H'!G16","v":0},{"$f":"'４⑥H'!H16","v":0},{"$f":"'４⑥H'!I16","v":0},{"$f":"'４⑥H'!J16","v":0},{"$f":"'４⑥H'!K16","v":0},{"$f":"'４⑥H'!B17","v":0},{"$f":"'４⑥H'!C17","v":0},{"$f":"'４⑥H'!D17","v":0},{"$f":"'４⑥H'!E17","v":0},{"$f":"'４⑥H'!F17","v":0},{"$f":"'４⑥H'!G17","v":0},{"$f":"'４⑥H'!H17","v":0},{"$f":"'４⑥H'!I17","v":0},{"$f":"'４⑥H'!J17","v":0},{"$f":"'４⑥H'!K17","v":0},{"$f":"'４⑥H'!B18","v":0},{"$f":"'４⑥H'!C18","v":0},{"$f":"'４⑥H'!D18","v":0},{"$f":"'４⑥H'!E18","v":0},{"$f":"'４⑥H'!F18","v":0},{"$f":"'４⑥H'!G18","v":0},{"$f":"'４⑥H'!H18","v":0},{"$f":"'４⑥H'!I18","v":0},{"$f":"'４⑥H'!J18","v":0},{"$f":"'４⑥H'!K18","v":0},{"$f":"'４⑥H'!B19","v":0},{"$f":"'４⑥H'!C19","v":0},{"$f":"'４⑥H'!D19","v":0},{"$f":"'４⑥H'!E19","v":0},{"$f":"'４⑥H'!F19","v":0},{"$f":"'４⑥H'!G19","v":0},{"$f":"'４⑥H'!H19","v":0},{"$f":"'４⑥H'!I19","v":0},{"$f":"'４⑥H'!J19","v":0},{"$f":"'４⑥H'!K19","v":0},{"$f":"'４⑥H'!B20","v":0},{"$f":"'４⑥H'!C20","v":0},{"$f":"'４⑥H'!D20","v":0},{"$f":"'４⑥H'!E20","v":0},{"$f":"'４⑥H'!F20","v":0},{"$f":"'４⑥H'!G20","v":0},{"$f":"'４⑥H'!H20","v":0},{"$f":"'４⑥H'!I20","v":0},{"$f":"'４⑥H'!J20","v":0},{"$f":"'４⑥H'!K20","v":0},{"$f":"'４⑥H'!B21","v":0},{"$f":"'４⑥H'!C21","v":0},{"$f":"'４⑥H'!D21","v":0},{"$f":"'４⑥H'!E21","v":0},{"$f":"'４⑥H'!F21","v":0},{"$f":"'４⑥H'!G21","v":0},{"$f":"'４⑥H'!H21","v":0},{"$f":"'４⑥H'!I21","v":0},{"$f":"'４⑥H'!J21","v":0},{"$f":"'４⑥H'!K21","v":0},{"$f":"'４⑥H'!B22","v":0},{"$f":"'４⑥H'!C22","v":0},{"$f":"'４⑥H'!D22","v":0},{"$f":"'４⑥H'!E22","v":0},{"$f":"'４⑥H'!F22","v":0},{"$f":"'４⑥H'!G22","v":0},{"$f":"'４⑥H'!H22","v":0},{"$f":"'４⑥H'!I22","v":0},{"$f":"'４⑥H'!J22","v":0},{"$f":"'４⑥H'!K22","v":0},{"$f":"'４⑥H'!B23","v":0},{"$f":"'４⑥H'!C23","v":0},{"$f":"'４⑥H'!D23","v":0},{"$f":"'４⑥H'!E23","v":0},{"$f":"'４⑥H'!F23","v":0},{"$f":"'４⑥H'!G23","v":0},{"$f":"'４⑥H'!H23","v":0},{"$f":"'４⑥H'!I23","v":0},{"$f":"'４⑥H'!J23","v":0},{"$f":"'４⑥H'!K23","v":0},{"$f":"'４⑥H'!B24","v":0},{"$f":"'４⑥H'!C24","v":0},{"$f":"'４⑥H'!D24","v":0},{"$f":"'４⑥H'!E24","v":0},{"$f":"'４⑥H'!F24","v":0},{"$f":"'４⑥H'!G24","v":0},{"$f":"'４⑥H'!H24","v":0},{"$f":"'４⑥H'!I24","v":0},{"$f":"'４⑥H'!J24","v":0},{"$f":"'４⑥H'!K24","v":0},{"$f":"'４⑥H'!B25","v":0},{"$f":"'４⑥H'!C25","v":0},{"$f":"'４⑥H'!D25","v":0},{"$f":"'４⑥H'!E25","v":0},{"$f":"'４⑥H'!F25","v":0},{"$f":"'４⑥H'!G25","v":0},{"$f":"'４⑥H'!H25","v":0},{"$f":"'４⑥H'!I25","v":0},{"$f":"'４⑥H'!J25","v":0},{"$f":"'４⑥H'!K25","v":0},{"$f":"'４⑥H'!B26","v":0},{"$f":"'４⑥H'!C26","v":0},{"$f":"'４⑥H'!D26","v":0},{"$f":"'４⑥H'!E26","v":0},{"$f":"'４⑥H'!F26","v":0},{"$f":"'４⑥H'!G26","v":0},{"$f":"'４⑥H'!H26","v":0},{"$f":"'４⑥H'!I26","v":0},{"$f":"'４⑥H'!J26","v":0},{"$f":"'４⑥H'!K26","v":0},{"$f":"'４⑥H'!B27","v":0},{"$f":"'４⑥H'!C27","v":0},{"$f":"'４⑥H'!D27","v":0},{"$f":"'４⑥H'!E27","v":0},{"$f":"'４⑥H'!F27","v":0},{"$f":"'４⑥H'!G27","v":0},{"$f":"'４⑥H'!H27","v":0},{"$f":"'４⑥H'!I27","v":0},{"$f":"'４⑥H'!J27","v":0},{"$f":"'４⑥H'!K27","v":0},{"$f":"'４⑥H'!B28","v":0},{"$f":"'４⑥H'!C28","v":0},{"$f":"'４⑥H'!D28","v":0},{"$f":"'４⑥H'!E28","v":0},{"$f":"'４⑥H'!F28","v":0},{"$f":"'４⑥H'!G28","v":0},{"$f":"'４⑥H'!H28","v":0},{"$f":"'４⑥H'!I28","v":0},{"$f":"'４⑥H'!J28","v":0},{"$f":"'４⑥H'!K28","v":0},{"$f":"'４⑥H'!B29","v":0},{"$f":"'４⑥H'!C29","v":0},{"$f":"'４⑥H'!D29","v":0},{"$f":"'４⑥H'!E29","v":0},{"$f":"'４⑥H'!F29","v":0},{"$f":"'４⑥H'!G29","v":0},{"$f":"'４⑥H'!H29","v":0},{"$f":"'４⑥H'!I29","v":0},{"$f":"'４⑥H'!J29","v":0},{"$f":"'４⑥H'!K29","v":0},{"$f":"'４⑥H'!H30","v":0},{"$f":"'４⑥H'!B36","v":0},{"$f":"'４⑥H'!C36","v":0},{"$f":"'４⑥H'!D36","v":0},{"$f":"'４⑥H'!E36","v":0},{"$f":"'４⑥H'!F36","v":0},{"$f":"'４⑥H'!G36","v":0},{"$f":"'４⑥H'!B37","v":0},{"$f":"'４⑥H'!C37","v":0},{"$f":"'４⑥H'!D37","v":0},{"$f":"'４⑥H'!E37","v":0},{"$f":"'４⑥H'!F37","v":0},{"$f":"'４⑥H'!G37","v":0},{"$f":"'４⑥H'!B38","v":0},{"$f":"'４⑥H'!C38","v":0},{"$f":"'４⑥H'!D38","v":0},{"$f":"'４⑥H'!E38","v":0},{"$f":"'４⑥H'!F38","v":0},{"$f":"'４⑥H'!G38","v":0},{"$f":"'４⑥H'!B39","v":0},{"$f":"'４⑥H'!C39","v":0},{"$f":"'４⑥H'!D39","v":0},{"$f":"'４⑥H'!E39","v":0},{"$f":"'４⑥H'!F39","v":0},{"$f":"'４⑥H'!G39","v":0},{"$f":"'４⑥H'!B40","v":0},{"$f":"'４⑥H'!C40","v":0},{"$f":"'４⑥H'!D40","v":0},{"$f":"'４⑥H'!E40","v":0},{"$f":"'４⑥H'!F40","v":0},{"$f":"'４⑥H'!G40","v":0},{"$f":"'４⑥H'!B41","v":0},{"$f":"'４⑥H'!C41","v":0},{"$f":"'４⑥H'!D41","v":0},{"$f":"'４⑥H'!E41","v":0},{"$f":"'４⑥H'!F41","v":0},{"$f":"'４⑥H'!G41","v":0},{"$f":"'４⑥H'!B42","v":0},{"$f":"'４⑥H'!C42","v":0},{"$f":"'４⑥H'!D42","v":0},{"$f":"'４⑥H'!E42","v":0},{"$f":"'４⑥H'!F42","v":0},{"$f":"'４⑥H'!G42","v":0},{"$f":"'４⑥H'!B43","v":0},{"$f":"'４⑥H'!C43","v":0},{"$f":"'４⑥H'!D43","v":0},{"$f":"'４⑥H'!E43","v":0},{"$f":"'４⑥H'!F43","v":0},{"$f":"'４⑥H'!G43","v":0}]
[{"$f":"総括表①!$E$3","v":"Ver.05.00"},{"$f":"総括表①!B10","v":0},{"$f":"総括表①!$C$10","v":""},{"$f":"総括表①!$D$10","v":""},{"$f":"IF(総括表①!$C$11=\"1.都道府県\",1,IF(総括表①!$C$11=\"2.政令市\",2,IF(総括表①!$C$11=\"3.市\",3,IF(総括表①!$C$11=\"4.特別区\",4,IF(総括表①!$C$11=\"5.町村\",5,0)))))","v":1},{"$f":"'４⑥H'!B44","v":0},{"$f":"'４⑥H'!C44","v":0},{"$f":"'４⑥H'!D44","v":0},{"$f":"'４⑥H'!E44","v":0},{"$f":"'４⑥H'!F44","v":0},{"$f":"'４⑥H'!G44","v":0},{"$f":"'４⑥H'!B45","v":0},{"$f":"'４⑥H'!C45","v":0},{"$f":"'４⑥H'!D45","v":0},{"$f":"'４⑥H'!E45","v":0},{"$f":"'４⑥H'!F45","v":0},{"$f":"'４⑥H'!G45","v":0},{"$f":"'４⑥H'!B46","v":0},{"$f":"'４⑥H'!C46","v":0},{"$f":"'４⑥H'!D46","v":0},{"$f":"'４⑥H'!E46","v":0},{"$f":"'４⑥H'!F46","v":0},{"$f":"'４⑥H'!G46","v":0},{"$f":"'４⑥H'!B47","v":0},{"$f":"'４⑥H'!C47","v":0},{"$f":"'４⑥H'!D47","v":0},{"$f":"'４⑥H'!E47","v":0},{"$f":"'４⑥H'!F47","v":0},{"$f":"'４⑥H'!G47","v":0},{"$f":"'４⑥H'!B48","v":0},{"$f":"'４⑥H'!C48","v":0},{"$f":"'４⑥H'!D48","v":0},{"$f":"'４⑥H'!E48","v":0},{"$f":"'４⑥H'!F48","v":0},{"$f":"'４⑥H'!G48","v":0},{"$f":"'４⑥H'!B49","v":0},{"$f":"'４⑥H'!C49","v":0},{"$f":"'４⑥H'!D49","v":0},{"$f":"'４⑥H'!E49","v":0},{"$f":"'４⑥H'!F49","v":0},{"$f":"'４⑥H'!G49","v":0},{"$f":"'４⑥H'!B50","v":0},{"$f":"'４⑥H'!C50","v":0},{"$f":"'４⑥H'!D50","v":0},{"$f":"'４⑥H'!E50","v":0},{"$f":"'４⑥H'!F50","v":0},{"$f":"'４⑥H'!G50","v":0},{"$f":"'４⑥H'!B51","v":0},{"$f":"'４⑥H'!C51","v":0},{"$f":"'４⑥H'!D51","v":0},{"$f":"'４⑥H'!E51","v":0},{"$f":"'４⑥H'!F51","v":0},{"$f":"'４⑥H'!G51","v":0},{"$f":"'４⑥H'!B52","v":0},{"$f":"'４⑥H'!C52","v":0},{"$f":"'４⑥H'!D52","v":0},{"$f":"'４⑥H'!E52","v":0},{"$f":"'４⑥H'!F52","v":0},{"$f":"'４⑥H'!G52","v":0},{"$f":"'４⑥H'!B53","v":0},{"$f":"'４⑥H'!C53","v":0},{"$f":"'４⑥H'!D53","v":0},{"$f":"'４⑥H'!E53","v":0},{"$f":"'４⑥H'!F53","v":0},{"$f":"'４⑥H'!G53","v":0},{"$f":"'４⑥H'!B54","v":0},{"$f":"'４⑥H'!C54","v":0},{"$f":"'４⑥H'!D54","v":0},{"$f":"'４⑥H'!E54","v":0},{"$f":"'４⑥H'!F54","v":0},{"$f":"'４⑥H'!G54","v":0},{"$f":"'４⑥H'!B55","v":0},{"$f":"'４⑥H'!C55","v":0},{"$f":"'４⑥H'!D55","v":0},{"$f":"'４⑥H'!E55","v":0},{"$f":"'４⑥H'!F55","v":0},{"$f":"'４⑥H'!G55","v":0},{"$f":"'４⑥H'!C56","v":0},{"$f":"'４⑥H'!B64","v":0},{"$f":"'４⑥H'!C64","v":0},{"$f":"'４⑥H'!D64","v":0},{"$f":"'４⑥H'!E64","v":0},{"$f":"'４⑥H'!F64","v":0},{"$f":"'４⑥H'!G64","v":0},{"$f":"'４⑥H'!B65","v":0},{"$f":"'４⑥H'!C65","v":0},{"$f":"'４⑥H'!D65","v":0},{"$f":"'４⑥H'!E65","v":0},{"$f":"'４⑥H'!F65","v":0},{"$f":"'４⑥H'!G65","v":0},{"$f":"'４⑥H'!B66","v":0},{"$f":"'４⑥H'!C66","v":0},{"$f":"'４⑥H'!D66","v":0},{"$f":"'４⑥H'!E66","v":0},{"$f":"'４⑥H'!F66","v":0},{"$f":"'４⑥H'!G66","v":0},{"$f":"'４⑥H'!B67","v":0},{"$f":"'４⑥H'!C67","v":0},{"$f":"'４⑥H'!D67","v":0},{"$f":"'４⑥H'!E67","v":0},{"$f":"'４⑥H'!F67","v":0},{"$f":"'４⑥H'!G67","v":0},{"$f":"'４⑥H'!B68","v":0},{"$f":"'４⑥H'!C68","v":0},{"$f":"'４⑥H'!D68","v":0},{"$f":"'４⑥H'!E68","v":0},{"$f":"'４⑥H'!F68","v":0},{"$f":"'４⑥H'!G68","v":0},{"$f":"'４⑥H'!B69","v":0},{"$f":"'４⑥H'!C69","v":0},{"$f":"'４⑥H'!D69","v":0},{"$f":"'４⑥H'!E69","v":0},{"$f":"'４⑥H'!F69","v":0},{"$f":"'４⑥H'!G69","v":0},{"$f":"'４⑥H'!B70","v":0},{"$f":"'４⑥H'!C70","v":0},{"$f":"'４⑥H'!D70","v":0},{"$f":"'４⑥H'!E70","v":0},{"$f":"'４⑥H'!F70","v":0},{"$f":"'４⑥H'!G70","v":0},{"$f":"'４⑥H'!B71","v":0},{"$f":"'４⑥H'!C71","v":0},{"$f":"'４⑥H'!D71","v":0},{"$f":"'４⑥H'!E71","v":0},{"$f":"'４⑥H'!F71","v":0},{"$f":"'４⑥H'!G71","v":0},{"$f":"'４⑥H'!B72","v":0},{"$f":"'４⑥H'!C72","v":0},{"$f":"'４⑥H'!D72","v":0},{"$f":"'４⑥H'!E72","v":0},{"$f":"'４⑥H'!F72","v":0},{"$f":"'４⑥H'!G72","v":0},{"$f":"'４⑥H'!B73","v":0},{"$f":"'４⑥H'!C73","v":0},{"$f":"'４⑥H'!D73","v":0},{"$f":"'４⑥H'!E73","v":0},{"$f":"'４⑥H'!F73","v":0},{"$f":"'４⑥H'!G73","v":0},{"$f":"'４⑥H'!B74","v":0},{"$f":"'４⑥H'!C74","v":0},{"$f":"'４⑥H'!D74","v":0},{"$f":"'４⑥H'!E74","v":0},{"$f":"'４⑥H'!F74","v":0},{"$f":"'４⑥H'!G74","v":0},{"$f":"'４⑥H'!B75","v":0},{"$f":"'４⑥H'!C75","v":0},{"$f":"'４⑥H'!D75","v":0},{"$f":"'４⑥H'!E75","v":0},{"$f":"'４⑥H'!F75","v":0},{"$f":"'４⑥H'!G75","v":0},{"$f":"'４⑥H'!B76","v":0},{"$f":"'４⑥H'!C76","v":0},{"$f":"'４⑥H'!D76","v":0},{"$f":"'４⑥H'!E76","v":0},{"$f":"'４⑥H'!F76","v":0},{"$f":"'４⑥H'!G76","v":0},{"$f":"'４⑥H'!B77","v":0},{"$f":"'４⑥H'!C77","v":0},{"$f":"'４⑥H'!D77","v":0},{"$f":"'４⑥H'!E77","v":0},{"$f":"'４⑥H'!F77","v":0},{"$f":"'４⑥H'!G77","v":0},{"$f":"'４⑥H'!B78","v":0},{"$f":"'４⑥H'!C78","v":0},{"$f":"'４⑥H'!D78","v":0},{"$f":"'４⑥H'!E78","v":0},{"$f":"'４⑥H'!F78","v":0},{"$f":"'４⑥H'!G78","v":0},{"$f":"'４⑥H'!B79","v":0},{"$f":"'４⑥H'!C79","v":0},{"$f":"'４⑥H'!D79","v":0},{"$f":"'４⑥H'!E79","v":0},{"$f":"'４⑥H'!F79","v":0},{"$f":"'４⑥H'!G79","v":0},{"$f":"'４⑥H'!B80","v":0},{"$f":"'４⑥H'!C80","v":0},{"$f":"'４⑥H'!D80","v":0},{"$f":"'４⑥H'!E80","v":0},{"$f":"'４⑥H'!F80","v":0},{"$f":"'４⑥H'!G80","v":0},{"$f":"'４⑥H'!B81","v":0},{"$f":"'４⑥H'!C81","v":0},{"$f":"'４⑥H'!D81","v":0},{"$f":"'４⑥H'!E81","v":0},{"$f":"'４⑥H'!F81","v":0},{"$f":"'４⑥H'!G81","v":0},{"$f":"'４⑥H'!B82","v":0},{"$f":"'４⑥H'!C82","v":0},{"$f":"'４⑥H'!D82","v":0},{"$f":"'４⑥H'!E82","v":0},{"$f":"'４⑥H'!F82","v":0},{"$f":"'４⑥H'!G82","v":0},{"$f":"'４⑥H'!B83","v":0},{"$f":"'４⑥H'!C83","v":0},{"$f":"'４⑥H'!D83","v":0},{"$f":"'４⑥H'!E83","v":0},{"$f":"'４⑥H'!F83","v":0},{"$f":"'４⑥H'!G83","v":0},{"$f":"'４⑥H'!C84","v":0},{"$f":"'４⑥H'!B92","v":0},{"$f":"'４⑥H'!C92","v":0},{"$f":"'４⑥H'!D92","v":0},{"$f":"'４⑥H'!E92","v":0},{"$f":"'４⑥H'!F92","v":0},{"$f":"'４⑥H'!G92","v":0},{"$f":"'４⑥H'!H92","v":0},{"$f":"'４⑥H'!I92","v":0},{"$f":"'４⑥H'!J92","v":0},{"$f":"'４⑥H'!B93","v":0},{"$f":"'４⑥H'!C93","v":0},{"$f":"'４⑥H'!D93","v":0},{"$f":"'４⑥H'!E93","v":0},{"$f":"'４⑥H'!F93","v":0},{"$f":"'４⑥H'!G93","v":0},{"$f":"'４⑥H'!H93","v":0},{"$f":"'４⑥H'!I93","v":0},{"$f":"'４⑥H'!J93","v":0},{"$f":"'４⑥H'!B94","v":0},{"$f":"'４⑥H'!C94","v":0},{"$f":"'４⑥H'!D94","v":0},{"$f":"'４⑥H'!E94","v":0},{"$f":"'４⑥H'!F94","v":0},{"$f":"'４⑥H'!G94","v":0},{"$f":"'４⑥H'!H94","v":0},{"$f":"'４⑥H'!I94","v":0},{"$f":"'４⑥H'!J94","v":0},{"$f":"'４⑥H'!B95","v":0},{"$f":"'４⑥H'!C95","v":0},{"$f":"'４⑥H'!D95","v":0},{"$f":"'４⑥H'!E95","v":0},{"$f":"'４⑥H'!F95","v":0},{"$f":"'４⑥H'!G95","v":0},{"$f":"'４⑥H'!H95","v":0},{"$f":"'４⑥H'!I95","v":0},{"$f":"'４⑥H'!J95","v":0},{"$f":"'４⑥H'!B96","v":0},{"$f":"'４⑥H'!C96","v":0},{"$f":"'４⑥H'!D96","v":0},{"$f":"'４⑥H'!E96","v":0},{"$f":"'４⑥H'!F96","v":0},{"$f":"'４⑥H'!G96","v":0},{"$f":"'４⑥H'!H96","v":0},{"$f":"'４⑥H'!I96","v":0},{"$f":"'４⑥H'!J96","v":0},{"$f":"'４⑥H'!B97","v":0},{"$f":"'４⑥H'!C97","v":0},{"$f":"'４⑥H'!D97","v":0},{"$f":"'４⑥H'!E97","v":0},{"$f":"'４⑥H'!F97","v":0},{"$f":"'４⑥H'!G97","v":0},{"$f":"'４⑥H'!H97","v":0},{"$f":"'４⑥H'!I97","v":0},{"$f":"'４⑥H'!J97","v":0}]
[{"$f":"総括表①!$E$3","v":"Ver.05.00"},{"$f":"総括表①!B10","v":0},{"$f":"総括表①!$C$10","v":""},{"$f":"総括表①!$D$10","v":""},{"$f":"IF(総括表①!$C$11=\"1.都道府県\",1,IF(総括表①!$C$11=\"2.政令市\",2,IF(総括表①!$C$11=\"3.市\",3,IF(総括表①!$C$11=\"4.特別区\",4,IF(総括表①!$C$11=\"5.町村\",5,0)))))","v":1},{"$f":"'４⑥H'!B98","v":0},{"$f":"'４⑥H'!C98","v":0},{"$f":"'４⑥H'!D98","v":0},{"$f":"'４⑥H'!E98","v":0},{"$f":"'４⑥H'!F98","v":0},{"$f":"'４⑥H'!G98","v":0},{"$f":"'４⑥H'!H98","v":0},{"$f":"'４⑥H'!I98","v":0},{"$f":"'４⑥H'!J98","v":0},{"$f":"'４⑥H'!B99","v":0},{"$f":"'４⑥H'!C99","v":0},{"$f":"'４⑥H'!D99","v":0},{"$f":"'４⑥H'!E99","v":0},{"$f":"'４⑥H'!F99","v":0},{"$f":"'４⑥H'!G99","v":0},{"$f":"'４⑥H'!H99","v":0},{"$f":"'４⑥H'!I99","v":0},{"$f":"'４⑥H'!J99","v":0},{"$f":"'４⑥H'!B100","v":0},{"$f":"'４⑥H'!C100","v":0},{"$f":"'４⑥H'!D100","v":0},{"$f":"'４⑥H'!E100","v":0},{"$f":"'４⑥H'!F100","v":0},{"$f":"'４⑥H'!G100","v":0},{"$f":"'４⑥H'!H100","v":0},{"$f":"'４⑥H'!I100","v":0},{"$f":"'４⑥H'!J100","v":0},{"$f":"'４⑥H'!B101","v":0},{"$f":"'４⑥H'!C101","v":0},{"$f":"'４⑥H'!D101","v":0},{"$f":"'４⑥H'!E101","v":0},{"$f":"'４⑥H'!F101","v":0},{"$f":"'４⑥H'!G101","v":0},{"$f":"'４⑥H'!H101","v":0},{"$f":"'４⑥H'!I101","v":0},{"$f":"'４⑥H'!J101","v":0},{"$f":"'４⑥H'!B102","v":0},{"$f":"'４⑥H'!C102","v":0},{"$f":"'４⑥H'!D102","v":0},{"$f":"'４⑥H'!E102","v":0},{"$f":"'４⑥H'!F102","v":0},{"$f":"'４⑥H'!G102","v":0},{"$f":"'４⑥H'!H102","v":0},{"$f":"'４⑥H'!I102","v":0},{"$f":"'４⑥H'!J102","v":0},{"$f":"'４⑥H'!B103","v":0},{"$f":"'４⑥H'!C103","v":0},{"$f":"'４⑥H'!D103","v":0},{"$f":"'４⑥H'!E103","v":0},{"$f":"'４⑥H'!F103","v":0},{"$f":"'４⑥H'!G103","v":0},{"$f":"'４⑥H'!H103","v":0},{"$f":"'４⑥H'!I103","v":0},{"$f":"'４⑥H'!J103","v":0},{"$f":"'４⑥H'!B104","v":0},{"$f":"'４⑥H'!C104","v":0},{"$f":"'４⑥H'!D104","v":0},{"$f":"'４⑥H'!E104","v":0},{"$f":"'４⑥H'!F104","v":0},{"$f":"'４⑥H'!G104","v":0},{"$f":"'４⑥H'!H104","v":0},{"$f":"'４⑥H'!I104","v":0},{"$f":"'４⑥H'!J104","v":0},{"$f":"'４⑥H'!B105","v":0},{"$f":"'４⑥H'!C105","v":0},{"$f":"'４⑥H'!D105","v":0},{"$f":"'４⑥H'!E105","v":0},{"$f":"'４⑥H'!F105","v":0},{"$f":"'４⑥H'!G105","v":0},{"$f":"'４⑥H'!H105","v":0},{"$f":"'４⑥H'!I105","v":0},{"$f":"'４⑥H'!J105","v":0},{"$f":"'４⑥H'!B106","v":0},{"$f":"'４⑥H'!C106","v":0},{"$f":"'４⑥H'!D106","v":0},{"$f":"'４⑥H'!E106","v":0},{"$f":"'４⑥H'!F106","v":0},{"$f":"'４⑥H'!G106","v":0},{"$f":"'４⑥H'!H106","v":0},{"$f":"'４⑥H'!I106","v":0},{"$f":"'４⑥H'!J106","v":0},{"$f":"'４⑥H'!B107","v":0},{"$f":"'４⑥H'!C107","v":0},{"$f":"'４⑥H'!D107","v":0},{"$f":"'４⑥H'!E107","v":0},{"$f":"'４⑥H'!F107","v":0},{"$f":"'４⑥H'!G107","v":0},{"$f":"'４⑥H'!H107","v":0},{"$f":"'４⑥H'!I107","v":0},{"$f":"'４⑥H'!J107","v":0},{"$f":"'４⑥H'!B108","v":0},{"$f":"'４⑥H'!C108","v":0},{"$f":"'４⑥H'!D108","v":0},{"$f":"'４⑥H'!E108","v":0},{"$f":"'４⑥H'!F108","v":0},{"$f":"'４⑥H'!G108","v":0},{"$f":"'４⑥H'!H108","v":0},{"$f":"'４⑥H'!I108","v":0},{"$f":"'４⑥H'!J108","v":0},{"$f":"'４⑥H'!B109","v":0},{"$f":"'４⑥H'!C109","v":0},{"$f":"'４⑥H'!D109","v":0},{"$f":"'４⑥H'!E109","v":0},{"$f":"'４⑥H'!F109","v":0},{"$f":"'４⑥H'!G109","v":0},{"$f":"'４⑥H'!H109","v":0},{"$f":"'４⑥H'!I109","v":0},{"$f":"'４⑥H'!J109","v":0},{"$f":"'４⑥H'!B110","v":0},{"$f":"'４⑥H'!C110","v":0},{"$f":"'４⑥H'!D110","v":0},{"$f":"'４⑥H'!E110","v":0},{"$f":"'４⑥H'!F110","v":0},{"$f":"'４⑥H'!G110","v":0},{"$f":"'４⑥H'!H110","v":0},{"$f":"'４⑥H'!I110","v":0},{"$f":"'４⑥H'!J110","v":0},{"$f":"'４⑥H'!B111","v":0},{"$f":"'４⑥H'!C111","v":0},{"$f":"'４⑥H'!D111","v":0},{"$f":"'４⑥H'!E111","v":0},{"$f":"'４⑥H'!F111","v":0},{"$f":"'４⑥H'!G111","v":0},{"$f":"'４⑥H'!H111","v":0},{"$f":"'４⑥H'!I111","v":0},{"$f":"'４⑥H'!J111","v":0},{"$f":"'４⑥H'!G112","v":0},{"$f":"'４⑥H'!B118","v":0},{"$f":"'４⑥H'!C118","v":0},{"$f":"'４⑥H'!D118","v":0},{"$f":"'４⑥H'!E118","v":0},{"$f":"'４⑥H'!F118","v":0},{"$f":"'４⑥H'!G118","v":0},{"$f":"'４⑥H'!B119","v":0},{"$f":"'４⑥H'!C119","v":0},{"$f":"'４⑥H'!D119","v":0},{"$f":"'４⑥H'!E119","v":0},{"$f":"'４⑥H'!F119","v":0},{"$f":"'４⑥H'!G119","v":0},{"$f":"'４⑥H'!B120","v":0},{"$f":"'４⑥H'!C120","v":0},{"$f":"'４⑥H'!D120","v":0},{"$f":"'４⑥H'!E120","v":0},{"$f":"'４⑥H'!F120","v":0},{"$f":"'４⑥H'!G120","v":0},{"$f":"'４⑥H'!B121","v":0},{"$f":"'４⑥H'!C121","v":0},{"$f":"'４⑥H'!D121","v":0},{"$f":"'４⑥H'!E121","v":0},{"$f":"'４⑥H'!F121","v":0},{"$f":"'４⑥H'!G121","v":0},{"$f":"'４⑥H'!B122","v":0},{"$f":"'４⑥H'!C122","v":0},{"$f":"'４⑥H'!D122","v":0},{"$f":"'４⑥H'!E122","v":0},{"$f":"'４⑥H'!F122","v":0},{"$f":"'４⑥H'!G122","v":0},{"$f":"'４⑥H'!B123","v":0},{"$f":"'４⑥H'!C123","v":0},{"$f":"'４⑥H'!D123","v":0},{"$f":"'４⑥H'!E123","v":0},{"$f":"'４⑥H'!F123","v":0},{"$f":"'４⑥H'!G123","v":0},{"$f":"'４⑥H'!B124","v":0},{"$f":"'４⑥H'!C124","v":0},{"$f":"'４⑥H'!D124","v":0},{"$f":"'４⑥H'!E124","v":0},{"$f":"'４⑥H'!F124","v":0},{"$f":"'４⑥H'!G124","v":0},{"$f":"'４⑥H'!B125","v":0},{"$f":"'４⑥H'!C125","v":0},{"$f":"'４⑥H'!D125","v":0},{"$f":"'４⑥H'!E125","v":0},{"$f":"'４⑥H'!F125","v":0},{"$f":"'４⑥H'!G125","v":0},{"$f":"'４⑥H'!B126","v":0},{"$f":"'４⑥H'!C126","v":0},{"$f":"'４⑥H'!D126","v":0},{"$f":"'４⑥H'!E126","v":0},{"$f":"'４⑥H'!F126","v":0},{"$f":"'４⑥H'!G126","v":0},{"$f":"'４⑥H'!B127","v":0},{"$f":"'４⑥H'!C127","v":0},{"$f":"'４⑥H'!D127","v":0},{"$f":"'４⑥H'!E127","v":0},{"$f":"'４⑥H'!F127","v":0},{"$f":"'４⑥H'!G127","v":0},{"$f":"'４⑥H'!B128","v":0},{"$f":"'４⑥H'!C128","v":0},{"$f":"'４⑥H'!D128","v":0},{"$f":"'４⑥H'!E128","v":0},{"$f":"'４⑥H'!F128","v":0},{"$f":"'４⑥H'!G128","v":0},{"$f":"'４⑥H'!B129","v":0},{"$f":"'４⑥H'!C129","v":0},{"$f":"'４⑥H'!D129","v":0},{"$f":"'４⑥H'!E129","v":0},{"$f":"'４⑥H'!F129","v":0},{"$f":"'４⑥H'!G129","v":0},{"$f":"'４⑥H'!B130","v":0},{"$f":"'４⑥H'!C130","v":0},{"$f":"'４⑥H'!D130","v":0},{"$f":"'４⑥H'!E130","v":0},{"$f":"'４⑥H'!F130","v":0},{"$f":"'４⑥H'!G130","v":0},{"$f":"'４⑥H'!B131","v":0},{"$f":"'４⑥H'!C131","v":0},{"$f":"'４⑥H'!D131","v":0},{"$f":"'４⑥H'!E131","v":0},{"$f":"'４⑥H'!F131","v":0},{"$f":"'４⑥H'!G131","v":0},{"$f":"'４⑥H'!B132","v":0},{"$f":"'４⑥H'!C132","v":0},{"$f":"'４⑥H'!D132","v":0},{"$f":"'４⑥H'!E132","v":0},{"$f":"'４⑥H'!F132","v":0},{"$f":"'４⑥H'!G132","v":0},{"$f":"'４⑥H'!B133","v":0},{"$f":"'４⑥H'!C133","v":0},{"$f":"'４⑥H'!D133","v":0},{"$f":"'４⑥H'!E133","v":0},{"$f":"'４⑥H'!F133","v":0},{"$f":"'４⑥H'!G133","v":0},{"$f":"'４⑥H'!B134","v":0},{"$f":"'４⑥H'!C134","v":0},{"$f":"'４⑥H'!D134","v":0},{"$f":"'４⑥H'!E134","v":0},{"$f":"'４⑥H'!F134","v":0},{"$f":"'４⑥H'!G134","v":0},{"$f":"'４⑥H'!B135","v":0},{"$f":"'４⑥H'!C135","v":0},{"$f":"'４⑥H'!D135","v":0},{"$f":"'４⑥H'!E135","v":0},{"$f":"'４⑥H'!F135","v":0},{"$f":"'４⑥H'!G135","v":0},{"$f":"'４⑥H'!B136","v":0},{"$f":"'４⑥H'!C136","v":0},{"$f":"'４⑥H'!D136","v":0},{"$f":"'４⑥H'!E136","v":0},{"$f":"'４⑥H'!F136","v":0},{"$f":"'４⑥H'!G136","v":0},{"$f":"'４⑥H'!B137","v":0},{"$f":"'４⑥H'!C137","v":0},{"$f":"'４⑥H'!D137","v":0},{"$f":"'４⑥H'!E137","v":0},{"$f":"'４⑥H'!F137","v":0},{"$f":"'４⑥H'!G137","v":0},{"$f":"'４⑥H'!C138","v":0},{"$f":"'４⑥H'!B144","v":0}]
[{"$f":"総括表①!$E$3","v":"Ver.05.00"},{"$f":"総括表①!B10","v":0},{"$f":"総括表①!$C$10","v":""},{"$f":"総括表①!$D$10","v":""},{"$f":"IF(総括表①!$C$11=\"1.都道府県\",1,IF(総括表①!$C$11=\"2.政令市\",2,IF(総括表①!$C$11=\"3.市\",3,IF(総括表①!$C$11=\"4.特別区\",4,IF(総括表①!$C$11=\"5.町村\",5,0)))))","v":1},{"$f":"'４⑧'!B7","v":"財政調整基金"},{"$f":"'４⑧'!D7","v":0},{"$f":"'４⑧'!L7","v":0},{"$f":"'４⑧'!B8","v":"減債基金"},{"$f":"'４⑧'!D8","v":0},{"$f":"'４⑧'!L8","v":0},{"$f":"'４⑧'!B9","v":0},{"$f":"'４⑧'!D9","v":0},{"$f":"'４⑧'!L9","v":0},{"$f":"'４⑧'!B10","v":0},{"$f":"'４⑧'!D10","v":0},{"$f":"'４⑧'!L10","v":0},{"$f":"'４⑧'!B11","v":0},{"$f":"'４⑧'!D11","v":0},{"$f":"'４⑧'!L11","v":0},{"$f":"'４⑧'!B12","v":0},{"$f":"'４⑧'!D12","v":0},{"$f":"'４⑧'!L12","v":0},{"$f":"'４⑧'!B13","v":0},{"$f":"'４⑧'!D13","v":0},{"$f":"'４⑧'!L13","v":0},{"$f":"'４⑧'!B14","v":0},{"$f":"'４⑧'!D14","v":0},{"$f":"'４⑧'!L14","v":0},{"$f":"'４⑧'!B15","v":0},{"$f":"'４⑧'!D15","v":0},{"$f":"'４⑧'!L15","v":0},{"$f":"'４⑧'!B16","v":0},{"$f":"'４⑧'!D16","v":0},{"$f":"'４⑧'!L16","v":0},{"$f":"'４⑧'!B17","v":0},{"$f":"'４⑧'!D17","v":0},{"$f":"'４⑧'!L17","v":0},{"$f":"'４⑧'!B18","v":0},{"$f":"'４⑧'!D18","v":0},{"$f":"'４⑧'!L18","v":0},{"$f":"'４⑧'!B19","v":0},{"$f":"'４⑧'!D19","v":0},{"$f":"'４⑧'!L19","v":0},{"$f":"'４⑧'!B20","v":0},{"$f":"'４⑧'!D20","v":0},{"$f":"'４⑧'!L20","v":0},{"$f":"'４⑧'!B21","v":0},{"$f":"'４⑧'!D21","v":0},{"$f":"'４⑧'!L21","v":0},{"$f":"'４⑧'!B22","v":0},{"$f":"'４⑧'!D22","v":0},{"$f":"'４⑧'!L22","v":0},{"$f":"'４⑧'!B23","v":0},{"$f":"'４⑧'!D23","v":0},{"$f":"'４⑧'!L23","v":0},{"$f":"'４⑧'!B24","v":0},{"$f":"'４⑧'!D24","v":0},{"$f":"'４⑧'!L24","v":0},{"$f":"'４⑧'!B25","v":0},{"$f":"'４⑧'!D25","v":0},{"$f":"'４⑧'!L25","v":0},{"$f":"'４⑧'!B26","v":0},{"$f":"'４⑧'!D26","v":0},{"$f":"'４⑧'!L26","v":0},{"$f":"'４⑧'!B27","v":0},{"$f":"'４⑧'!D27","v":0},{"$f":"'４⑧'!L27","v":0},{"$f":"'４⑧'!B28","v":0},{"$f":"'４⑧'!D28","v":0},{"$f":"'４⑧'!L28","v":0},{"$f":"'４⑧'!B29","v":0},{"$f":"'４⑧'!D29","v":0},{"$f":"'４⑧'!L29","v":0},{"$f":"'４⑧'!B30","v":0},{"$f":"'４⑧'!D30","v":0},{"$f":"'４⑧'!L30","v":0},{"$f":"'４⑧'!B31","v":0},{"$f":"'４⑧'!D31","v":0},{"$f":"'４⑧'!L31","v":0},{"$f":"'４⑧'!B32","v":0},{"$f":"'４⑧'!D32","v":0},{"$f":"'４⑧'!L32","v":0},{"$f":"'４⑧'!B33","v":0},{"$f":"'４⑧'!D33","v":0},{"$f":"'４⑧'!L33","v":0},{"$f":"'４⑧'!B34","v":0},{"$f":"'４⑧'!D34","v":0},{"$f":"'４⑧'!L34","v":0},{"$f":"'４⑧'!B35","v":0},{"$f":"'４⑧'!D35","v":0},{"$f":"'４⑧'!L35","v":0},{"$f":"'４⑧'!B36","v":0},{"$f":"'４⑧'!D36","v":0},{"$f":"'４⑧'!L36","v":0},{"$f":"'４⑧'!B37","v":0},{"$f":"'４⑧'!D37","v":0},{"$f":"'４⑧'!L37","v":0},{"$f":"'４⑧'!B38","v":0},{"$f":"'４⑧'!D38","v":0},{"$f":"'４⑧'!L38","v":0},{"$f":"'４⑧'!B39","v":0},{"$f":"'４⑧'!D39","v":0},{"$f":"'４⑧'!L39","v":0},{"$f":"'４⑧'!B40","v":0},{"$f":"'４⑧'!D40","v":0},{"$f":"'４⑧'!L40","v":0},{"$f":"'４⑧'!B41","v":0},{"$f":"'４⑧'!D41","v":0},{"$f":"'４⑧'!L41","v":0},{"$f":"'４⑧'!B42","v":0},{"$f":"'４⑧'!D42","v":0},{"$f":"'４⑧'!L42","v":0},{"$f":"'４⑧'!B43","v":0},{"$f":"'４⑧'!D43","v":0},{"$f":"'４⑧'!L43","v":0},{"$f":"'４⑧'!B44","v":0},{"$f":"'４⑧'!D44","v":0},{"$f":"'４⑧'!L44","v":0},{"$f":"'４⑧'!B45","v":0},{"$f":"'４⑧'!D45","v":0},{"$f":"'４⑧'!L45","v":0},{"$f":"'４⑧'!B46","v":0},{"$f":"'４⑧'!D46","v":0},{"$f":"'４⑧'!L46","v":0},{"$f":"'４⑧'!B47","v":0},{"$f":"'４⑧'!D47","v":0},{"$f":"'４⑧'!L47","v":0},{"$f":"'４⑧'!B48","v":0},{"$f":"'４⑧'!D48","v":0},{"$f":"'４⑧'!L48","v":0},{"$f":"'４⑧'!B49","v":0},{"$f":"'４⑧'!D49","v":0},{"$f":"'４⑧'!L49","v":0},{"$f":"'４⑧'!B50","v":0},{"$f":"'４⑧'!D50","v":0},{"$f":"'４⑧'!L50","v":0},{"$f":"'４⑧'!B51","v":0},{"$f":"'４⑧'!D51","v":0},{"$f":"'４⑧'!L51","v":0},{"$f":"'４⑧'!D78","v":0},{"$f":"'４⑧'!L78","v":0},{"$f":"'４⑧'!D98","v":0}]
[]
[null,"（都道府県市区町村担当課のみ）"]
[null,"※２行目から16行目までの15行を地方公共団体コードの順番にエクセルファイル「データ集計ファイル.xls」のシート「貼付用シート」に「値」で貼り付けてください。"]
[null,null,"【H28年度決算から追加】",null,null,"・・・４⑥E"]
[null,null,null,null,null,"・・・４⑥G"]
[null,null,null,null,null,"・・・４⑥H"]
[null,null,"【H28年度決算から移動】",null,null,"・・・４⑥Ｄ"]
[null,null,null,null,null,"・・・４⑧"]

{"sheet":"総括表①","index":2,"n_rows":16,"n_cols":22,"rows_kept":16,"cut":false,"hidden":false,"merged":[]}
[]
[null,null,null,null,null,null,null,null,null,"団体区分（セルC11）の凡例・・・リストから該当する団体区分を選択してください。",null,null,null,null,null,null,null,null,null,null,null,3]
[null,null,null,null,"Ver.05.00",null,null,null,null,"1.都道府県",null,null,null,null,null,null,null,null,null,null,null,4]
[null,null,null,null,null,null,null,null,null,"2.政令市",null,null,null,null,null,null,null,null,null,null,null,5]
[null,null,null,null,null,null,null,null,null,"3.市"]
[null,null,null,null,null,null,null,null,null,"4.特別区",null,null,null,null,null,null,null,null,null,null,null,{"$f":"\"総括表①　健全化判断比率の状況　（令和\"&V4&\"年度決算）\"","v":"総括表①　健全化判断比率の状況　（令和5年度決算）"}]
[null,null,null,null,null,null,null,null,null,"5.町村"]
[null,null,null,null,null,null,null,"（単位：％）"]
[null,"地方公共団体\nコード","都道府県名","市区町村名","実質赤字比率","連結実質赤字比率","実質公債費比率","将来負担比率"]
[null,null,{"$f":"IF(B10=\"\",\"\",VLOOKUP(B10,コード!A2:C1789,2,FALSE))","v":""},{"$f":"IF(B10=\"\",\"\",VLOOKUP(B10,コード!A2:C1789,3,FALSE))","v":""},{"$f":"IF(総括表②!E23<0,\"-\",総括表②!E23)","v":"-"},{"$f":"IF(総括表②!J45<=0,\"-\",総括表②!J45)","v":"-"},{"$f":"総括表③!N14","v":"-"},{"$f":"総括表④!L16","v":"-"}]
[null,"団体区分","1.都道府県"]
[null,null,"↑※必ず選択して下さい。"]
[null,null,null,null,null,null,null,"（単位：％）"]
[null,"標準財政規模\n（千円）","うち臨時財政対策債\n発行可能額","早期健全化基準",{"$f":"IF(B15=\"\",\"-\",IF(E15=5,3.75,IF(B15>=50000000,((B15*100)/(40*B15)+20)/2,IF(B15>=20000000,((B15+100000000)*100/(120*B15)+20)/2,IF(B15>=5000000,((B15+10000000)*100/(30*B15)+20)/2,(B15*100/(10*B15)+20)/2)))))","v":"-"},{"$f":"IF(E14=\"-\",\"-\",E14+5)","v":"-"},{"$f":"IF(AND(C10=\"\",D10=\"\")=TRUE,\"-\",25)","v":"-"},{"$f":"IF(AND(C10=\"\",D10=\"\")=TRUE,\"-\",IF(E15=5,400,IF(OR(D10=\"札幌市\",D10=\"仙台市\",D10=\"さいたま市\",D10=\"千葉市\",D10=\"横浜市\",D10=\"川崎市\",D10=\"相模原市\",D10=\"新潟市\",D10=\"静岡市\",D10=\"浜松市\",D10=\"名古屋市\",D10=\"京都市\",D10=\"大阪市\",D10=\"堺市\",D10=\"神戸市\",D10=\"岡山市\",D10=\"広島市\",D10=\"北九州市\",D10=\"福岡市\",D10=\"熊本市\")=TRUE,400,350)))","v":"-"}]
[null,null,{"$f":"総括表③!F16","v":0},"財政再生基準",{"$f":"IF(AND(C10=\"\",D10=\"\")=TRUE,\"-\",IF(D10<>\"-\",20,5))","v":"-"},{"$f":"IF(E15=\"-\",\"-\",E15+10)","v":"-"},{"$f":"IF(AND(C10=\"\",D10=\"\")=TRUE,\"-\",35)","v":"-"}]
[null,{"$f":"IF(C15>B15,\"！臨財債発行可能額を再度確認してください。\",\"\")","v":""}]

{"sheet":"総括表②","index":3,"n_rows":45,"n_cols":13,"rows_kept":45,"cut":false,"hidden":false,"merged":[[5,2,19,2],[25,1,37,2],[0,9,0,10],[19,7,22,7],[38,7,41,7],[4,7,18,7],[23,7,37,7]]}
[null,null,null,null,{"$f":"総括表①!E3","v":"Ver.05.00"},null,null,null,"団体名",{"$f":"IF(総括表①!$D$10=\"-\",総括表①!$C$10,総括表①!$C$10&総括表①!$D$10)","v":""},null,null,{"$f":"\"総括表②　連結実質赤字比率等の状況　（令和\"&総括表①!V4&\"年度決算）\"","v":"総括表②　連結実質赤字比率等の状況　（令和5年度決算）"}]
[]
[null,null,null,null,null,null,null,null,null,"（単位：千円）"]
[null,"会　　計　　名",null,null,"実質収支額","（分母比）","会　　計　　名",null,null,"資金不足・剰余額","（分母比）"]
[null,null,null,"一般会計",{"$f":"IF('１①②'!N6=\"\",\"\",'１①②'!N6)","v":0},{"$f":"IF(OR(E5=0,E5=\"\")=TRUE,\"\",ROUND(E5/$E$22*100,1))","v":""},null,"宅地造成事業以外",null,null,{"$f":"IF(OR(J5=0,J5=\"\")=TRUE,\"\",ROUND(J5/$J$44*100,1))","v":""}]
[null,null,"一般会計等に属する特別会計",{"$f":"IF('１①②'!C7=\"\",\"\",'１①②'!C7)","v":""},{"$f":"IF(OR('１①②'!N7=\"\",D6=\"\")=TRUE,\"\",'１①②'!N7)","v":""},{"$f":"IF(OR(E6=0,E6=\"\")=TRUE,\"\",ROUND(E6/$E$22*100,1))","v":""},null,null,null,null,""]
[null,null,null,{"$f":"IF('１①②'!C8=\"\",\"\",'１①②'!C8)","v":""},{"$f":"IF(OR('１①②'!N8=\"\",D7=\"\")=TRUE,\"\",'１①②'!N8)","v":""},{"$f":"IF(OR(E7=0,E7=\"\")=TRUE,\"\",ROUND(E7/$E$22*100,1))","v":""},null,null,null,null,""]
[null,"一",null,{"$f":"IF('１①②'!C9=\"\",\"\",'１①②'!C9)","v":""},{"$f":"IF(OR('１①②'!N9=\"\",D8=\"\")=TRUE,\"\",'１①②'!N9)","v":""},"",null,null,null,null,""]
[null,null,null,{"$f":"IF('１①②'!C10=\"\",\"\",'１①②'!C10)","v":""},{"$f":"IF(OR('１①②'!N10=\"\",D9=\"\")=TRUE,\"\",'１①②'!N10)","v":""},"","法",null,null,null,""]
[null,"般",null,{"$f":"IF('１①②'!C11=\"\",\"\",'１①②'!C11)","v":""},{"$f":"IF(OR('１①②'!N11=\"\",D10=\"\")=TRUE,\"\",'１①②'!N11)","v":""},"",null,null,null,null,""]
[null,null,null,{"$f":"IF('１①②'!C12=\"\",\"\",'１①②'!C12)","v":""},{"$f":"IF(OR('１①②'!N12=\"\",D11=\"\")=TRUE,\"\",'１①②'!N12)","v":""},"","適",null,null,null,""]
[null,"会",null,{"$f":"IF('１①②'!C13=\"\",\"\",'１①②'!C13)","v":""},{"$f":"IF(OR('１①②'!N13=\"\",D12=\"\")=TRUE,\"\",'１①②'!N13)","v":""},"",null,null,null,null,""]
[null,null,null,{"$f":"IF('１①②'!C14=\"\",\"\",'１①②'!C14)","v":""},{"$f":"IF(OR('１①②'!N14=\"\",D13=\"\")=TRUE,\"\",'１①②'!N14)","v":""},"","用",null,null,null,""]
[null,"計",null,{"$f":"IF('１①②'!C15=\"\",\"\",'１①②'!C15)","v":""},{"$f":"IF(OR('１①②'!N15=\"\",D14=\"\")=TRUE,\"\",'１①②'!N15)","v":""},{"$f":"IF(OR(E14=0,E14=\"\")=TRUE,\"\",ROUND(E14/$E$22*100,1))","v":""},null,null,null,null,""]
[null,null,null,{"$f":"IF('１①②'!C16=\"\",\"\",'１①②'!C16)","v":""},{"$f":"IF(OR('１①②'!N16=\"\",D15=\"\")=TRUE,\"\",'１①②'!N16)","v":""},"","企",null,null,null,""]
[null,"等",null,{"$f":"IF('１①②'!C17=\"\",\"\",'１①②'!C17)","v":""},{"$f":"IF(OR('１①②'!N17=\"\",D16=\"\")=TRUE,\"\",'１①②'!N17)","v":""},"",null,null,null,null,""]
[null,null,null,{"$f":"IF('１①②'!C18=\"\",\"\",'１①②'!C18)","v":""},{"$f":"IF(OR('１①②'!N18=\"\",D17=\"\")=TRUE,\"\",'１①②'!N18)","v":""},"","業",null,null,null,""]
[null,null,null,{"$f":"IF('１①②'!C19=\"\",\"\",'１①②'!C19)","v":""},{"$f":"IF(OR('１①②'!N19=\"\",D18=\"\")=TRUE,\"\",'１①②'!N19)","v":""},"",null,null,null,null,""]
[null,null,null,{"$f":"IF('１①②'!C20=\"\",\"\",'１①②'!C20)","v":""},{"$f":"IF(OR('１①②'!N20=\"\",D19=\"\")=TRUE,\"\",'１①②'!N20)","v":""},"",null,null,null,null,""]
[null,null,null,{"$f":"IF('１①②'!C21=\"\",\"\",'１①②'!C21)","v":""},{"$f":"IF(OR('１①②'!N21=\"\",D20=\"\")=TRUE,\"\",'１①②'!N21)","v":""},"",null,"宅地造成事業",null,null,""]
[null,"小　　　計",null,null,{"$f":"SUM(E5:E20)","v":0},"",null,null,null,null,""]
[null,"標準財政規模",null,null,{"$f":"総括表①!B15","v":0},"",null,null,null,null,""]
[null,"実質赤字比率　（％）",null,null,{"$f":"IF(E22=0,\"-\",ROUNDDOWN(E21*-1/E22*100,2))","v":"-"},"※",null,null,null,null,""]
[null,null,null,null,null,null,null,"宅地造成事業以外",null,null,""]
[null,"会　　計　　名",null,null,"実質収支額",null,null,null,null,null,""]
[null,"一般会計等以外の特別会計のうち\n公営企業に係る特別会計以外の会計",null,{"$f":"IF('１①②'!C29=\"\",\"\",'１①②'!C29)","v":""},{"$f":"IF(OR('１①②'!N29=\"\",D26=\"\")=TRUE,\"\",'１①②'!N29)","v":""},{"$f":"IF(OR(E26=0,E26=\"\")=TRUE,\"\",ROUND(E26/$J$44*100,1))","v":""},null,null,null,null,""]
[null,null,null,{"$f":"IF('１①②'!C30=\"\",\"\",'１①②'!C30)","v":""},{"$f":"IF(OR('１①②'!N30=\"\",D27=\"\")=TRUE,\"\",'１①②'!N30)","v":""},{"$f":"IF(OR(E27=0,E27=\"\")=TRUE,\"\",ROUND(E27/$J$44*100,1))","v":""},null,null,null,null,""]
[null,null,null,{"$f":"IF('１①②'!C31=\"\",\"\",'１①②'!C31)","v":""},{"$f":"IF(OR('１①②'!N31=\"\",D28=\"\")=TRUE,\"\",'１①②'!N31)","v":""},"","法",null,null,null,""]
[null,null,null,{"$f":"IF('１①②'!C32=\"\",\"\",'１①②'!C32)","v":""},{"$f":"IF(OR('１①②'!N32=\"\",D29=\"\")=TRUE,\"\",'１①②'!N32)","v":""},"",null,null,null,null,""]
[null,null,null,{"$f":"IF('１①②'!C33=\"\",\"\",'１①②'!C33)","v":""},{"$f":"IF(OR('１①②'!N33=\"\",D30=\"\")=TRUE,\"\",'１①②'!N33)","v":""},"","非",null,null,null,""]
[null,null,null,{"$f":"IF('１①②'!C34=\"\",\"\",'１①②'!C34)","v":""},{"$f":"IF(OR('１①②'!N34=\"\",D31=\"\")=TRUE,\"\",'１①②'!N34)","v":""},"",null,null,null,null,""]
[null,null,null,{"$f":"IF('１①②'!C35=\"\",\"\",'１①②'!C35)","v":""},{"$f":"IF(OR('１①②'!N35=\"\",D32=\"\")=TRUE,\"\",'１①②'!N35)","v":""},"","適",null,null,null,""]
[null,null,null,{"$f":"IF('１①②'!C36=\"\",\"\",'１①②'!C36)","v":""},{"$f":"IF(OR('１①②'!N36=\"\",D33=\"\")=TRUE,\"\",'１①②'!N36)","v":""},"",null,null,null,null,""]
[null,null,null,{"$f":"IF('１①②'!C37=\"\",\"\",'１①②'!C37)","v":""},{"$f":"IF(OR('１①②'!N37=\"\",D34=\"\")=TRUE,\"\",'１①②'!N37)","v":""},"","用",null,null,null,""]
[null,null,null,{"$f":"IF('１①②'!C38=\"\",\"\",'１①②'!C38)","v":""},{"$f":"IF(OR('１①②'!N38=\"\",D35=\"\")=TRUE,\"\",'１①②'!N38)","v":""},"",null,null,null,null,""]
[null,null,null,{"$f":"IF('１①②'!C39=\"\",\"\",'１①②'!C39)","v":""},{"$f":"IF(OR('１①②'!N39=\"\",D36=\"\")=TRUE,\"\",'１①②'!N39)","v":""},"","企",null,null,null,""]
[null,null,null,{"$f":"IF('１①②'!C40=\"\",\"\",'１①②'!C40)","v":""},{"$f":"IF(OR('１①②'!N40=\"\",D37=\"\")=TRUE,\"\",'１①②'!N40)","v":""},"",null,null,null,null,""]
[null,null,null,{"$f":"IF('１①②'!C41=\"\",\"\",'１①②'!C41)","v":""},{"$f":"IF(OR('１①②'!N41=\"\",D38=\"\")=TRUE,\"\",'１①②'!N41)","v":""},"","業",null,null,null,""]
[null,null,null,null,null,null,null,"宅地造成事業",null,null,""]
[null,null,null,null,null,null,null,null,null,null,""]
[null,null,null,null,null,null,null,null,null,null,""]
[null,"※　実質収支又は連結実質収支が黒字である場合、",null,null,null,null,null,null,null,null,""]
[null,"　「実質赤字比率（％）」又は「連結実質赤字比率（％）」は負の値で表示されます。",null,null,null,null,"合　　　　　計",null,null,{"$f":"SUM(E5:E20,E26:E38,J5:J42)","v":0},""]
[null,null,null,null,null,null,"標準財政規模（再掲）",null,null,{"$f":"E22","v":0},""]
[null,null,null,null,null,null,"連結実質赤字比率　（％）",null,null,{"$f":"IF(J44=0,\"-\",ROUNDDOWN(J43*-1/J44*100,2))","v":"-"},"※"]

{"sheet":"総括表③","index":4,"n_rows":23,"n_cols":17,"rows_kept":23,"cut":false,"hidden":false,"merged":[[13,13,15,13],[18,2,19,2],[18,3,18,11],[0,12,0,13],[5,2,6,2],[11,2,12,2],[11,10,12,10],[11,11,12,11],[11,13,12,13]]}
[null,null,null,null,null,null,null,null,null,null,null,"団体名",{"$f":"IF(総括表①!$D$10=\"-\",総括表①!$C$10,総括表①!$C$10&総括表①!$D$10)","v":""},null,null,null,{"$f":"\"総括表③　実質公債費比率の状況（令和\"&総括表①!V4&\"年度決算）\"","v":"総括表③　実質公債費比率の状況（令和5年度決算）"}]
[null,null,null,null,null,null,{"$f":"総括表①!E3","v":"Ver.05.00"}]
[]
[]
[null,null,null,null,null,null,null,null,null,null,null,null,null,"（単位：千円）"]
[null,null,null,"①","②","③","④","⑤","⑥","⑦","⑧","⑨","⑩","⑪"]
[null,null,null,"元利償還金の額（繰上償還額等を除く）（３③Ａ表「元利償還金」欄の数値を転記）","積立不足額を考慮して算定した額（３①表「エ」欄の数値を転記）","満期一括償還地方債の１年当たりの元金償還金に相当するもの（年度割相当額）（３①表「ウ」欄の数値を転記）","公営企業に要する経費の財源とする地方債の償還の財源に充てたと認められる繰入金（３②表「合計※」欄の数値を転記）","一部事務組合等の起こした地方債に充てたと認められる補助金又は負担金","公債費に準ずる債務負担行為に係るもの","一時借入金の利子","特定財源の額（３③Ａ表「特定財源計」欄の数値を転記）","事業費補正により基準財政需要額に算入された公債費","災害復旧費等に係る基準財政需要額","密度補正により基準財政需要額に算入された元利償還金及び準元利償還金(ただし、④～⑦に係るものは、地方債の元利償還額を基礎として算入されたものに限る)"]
[null,null,{"$f":"\"令和\"&総括表①!V2&\"年度\"","v":"令和3年度"},null,null,null,null,null,{"$f":"SUM(D21:L21)","v":0}]
[null,null,{"$f":"\"令和\"&総括表①!V3&\"年度\"","v":"令和4年度"},null,null,null,null,null,{"$f":"SUM(D22:L22)","v":0}]
[null,null,{"$f":"\"令和\"&総括表①!V4&\"年度\"","v":"令和5年度"},null,null,null,null,null,{"$f":"SUM(D23:L23)","v":0}]
[]
[null,null,null,"⑫","⑬","⑭",null,null,"⑮",null,null,"実質公債費比率（単年度）",null,"実質公債費比率（３カ年平均）"]
[null,null,null,"標準税収入額等","普通交付税額","臨時財政対策債発行可能額",null,null,"地方財政法第５条の３第４項第１号の規定に基づき総務大臣が定める額\n（特別区のみ記入）"]
[null,null,{"$f":"$C$8","v":"令和3年度"},null,null,null,null,null,null,null,{"$f":"$C$8","v":"令和3年度"},{"$f":"IF((SUM(D14:F14)-SUM(L8:N8))=0,\"-\",((SUM(D8:J8)-SUM(K8:N8,I14))/(SUM(D14:F14)-SUM(L8:N8,I14)))*100)","v":"-"},null,{"$f":"IF(OR(L14=\"-\",L15=\"-\",L16=\"-\")=TRUE,\"-\",ROUNDDOWN((L14+L15+L16)/3,1))","v":"-"}]
[null,null,{"$f":"$C$9","v":"令和4年度"},null,null,null,null,null,null,null,{"$f":"$C$9","v":"令和4年度"},{"$f":"IF((SUM(D15:F15)-SUM(L9:N9))=0,\"-\",((SUM(D9:J9)-SUM(K9:N9,I15))/(SUM(D15:F15)-SUM(L9:N9,I15)))*100)","v":"-"}]
[null,null,{"$f":"$C$10","v":"令和5年度"},null,null,null,null,null,null,null,{"$f":"$C$10","v":"令和5年度"},{"$f":"IF((SUM(D16:F16)-SUM(L10:N10))=0,\"-\",((SUM(D10:J10)-SUM(K10:N10,I16))/(SUM(D16:F16)-SUM(L10:N10,I16)))*100)","v":"-"}]
[]
[null,null,"（参考）"]
[null,null,null,"⑥の内訳"]
[null,null,null,"ＰＦＩ事業に係る債務負担行為に係るもの（省令第７条第１号）","いわゆる五省協定等により、利便施設及び公共施設を買い取るために行った債務負担行為に係るもの（省令第７条第２号）","国営土地改良事業並びに独立行政法人森林総合研究所、独立行政法人水資源機構及び独立行政法人環境再生保全機構の行う事業に対する負担金（省令第７条第３号）","地方公務員等共済組合が建設した職員住宅等の無償譲渡を受けるために支払う賃借料（省令第７条第４号）","社会福祉法人が施設の建設のために借り入れた借入金の償還に対する補助（省令第７条第５号）","損失補償又は保証に係る債務の履行に要する経費の支出（省令第７条第６号）","地方公共団体以外の者の債務を引き受けた場合における当該債務の履行に要する経費の支出（省令第７条第７号）","その他これらに準ずると認められるもの（省令第７条第８号）","利子補給に係るもの（政令第12条第４号）"]
[null,null,{"$f":"C8","v":"令和3年度"}]
[null,null,{"$f":"C9","v":"令和4年度"}]
[null,null,{"$f":"C10","v":"令和5年度"}]

{"sheet":"総括表④","index":5,"n_rows":19,"n_cols":15,"rows_kept":19,"cut":false,"hidden":false,"merged":[[3,2,4,2],[3,3,4,3],[3,4,4,4],[3,5,4,5],[0,11,0,12],[3,12,4,12],[3,11,4,11],[13,7,13,8],[16,7,16,8],[8,1,9,1],[8,2,9,2],[3,6,4,6],[8,4,9,4],[3,1,4,1],[13,1,13,2],[16,1,16,2],[13,4,13,5],[14,1,14,2],[17,1,17,2],[15,11,15,12],[14,11,14,12],[17,7,17,8],[14,7,14,8],[17,4,17,5],[14,4,14,5],[16,4,16,5]]}
[null,null,null,null,null,{"$f":"総括表①!E3","v":"Ver.05.00"},null,null,null,null,"団体名",{"$f":"IF(総括表①!$D$10=\"-\",総括表①!$C$10,総括表①!$C$10&総括表①!$D$10)","v":""},null,null,{"$f":"\"総括表④　将来負担比率の状況 （令和\"&総括表①!V4&\"年度決算）\"","v":"総括表④　将来負担比率の状況 （令和5年度決算）"}]
[]
[null,"将来負担額",null,null,null,null,null,null,null,null,null,null,"（単位：千円）"]
[null,"地方債の現在高","債務負担行為に\n基づく支出予定額","公営企業債等\n繰入見込額","組合\n負担等見込額","退職手当\n負担見込額","設立法人の\n負債額等\n負担見込額",null,null,null,null,"連結実質\n赤字額","組合連結実質\n赤字額負担見込額"]
[null,null,null,null,null,null,null,"地方道路公社","土地開発公社","地方独立行政法人","第三セクター等\n(損失補償、信託、貸付)"]
[null,{"$f":"'１①②'!O22","v":0},{"$f":"'４①'!K87","v":0},null,{"$f":"'４④'!M211","v":0},{"$f":"'４⑤A'!G6","v":0},{"$f":"SUM(H6:K6)","v":0},{"$f":"'４⑥Ａ'!W48","v":0},{"$f":"'４⑥Ｂ・C'!N9+'４⑥Ｄ'!E6","v":0},{"$f":"'４⑥C・E'!G29","v":0},{"$f":"'４⑥Ｆ'!B199+'４⑥G'!C40+'４⑥H'!B144","v":0},{"$f":"IF(総括表②!J43>=0,0,総括表②!J43*-1)","v":0},{"$f":"'４⑦'!T614","v":0}]
["（分母比）",{"$f":"IF(B6=0,\"\",IF($H$18=0,\"-\",ROUND(B6/$H$18*100,1)))","v":""},{"$f":"IF(C6=0,\"\",IF($H$18=0,\"-\",ROUND(C6/$H$18*100,1)))","v":""},"","","",{"$f":"IF(G6=0,\"\",IF($H$18=0,\"-\",ROUND(G6/$H$18*100,1)))","v":""},"","",null,{"$f":"IF(K6=0,\"\",IF($H$18=0,\"-\",ROUND(K6/$H$18*100,1)))","v":""},"",""]
[null,"充当可能財源等",null,null,"（単位：千円）"]
[null,"充当可能基金","充当可能\n特定歳入",null,"基準財政需要額\n算入見込額"]
[null,null,null,"うち都市計画税"]
[null,{"$f":"'４⑧'!L78","v":0},{"$f":"'４⑨Ｃ'!O32","v":0},{"$f":"'４⑨Ｂ'!M16","v":0}]
["（分母比）",{"$f":"IF(B11=0,\"\",IF($H$18=0,\"-\",ROUND(B11/$H$18*100,1)))","v":""},{"$f":"IF(C11=0,\"\",IF($H$18=0,\"-\",ROUND(C11/$H$18*100,1)))","v":""},{"$f":"IF(D11=0,\"\",IF($H$18=0,\"-\",ROUND(D11/$H$18*100,1)))","v":""},{"$f":"IF(E11=0,\"\",IF($H$18=0,\"-\",ROUND(E11/$H$18*100,1)))","v":""}]
[]
[null,"将来負担額　A",null,null,"充当可能財源等　Ｂ",null,null,"Ａ　－　Ｂ"]
[null,{"$f":"SUM(B6:G6,L6:M6)","v":0},null,{"$f":"IF(B15=0,\"\",IF($H$18=0,\"-\",ROUND(B15/$H$18*100,1)))","v":""},{"$f":"SUM(B11:C11,E11)","v":0},null,{"$f":"IF(E15=0,\"\",IF($H$18=0,\"-\",ROUND(E15/$H$18*100,1)))","v":""},{"$f":"B15-E15","v":0},null,null,{"$f":"IF(H15=0,\"\",IF($H$18=0,\"-\",ROUND(H15/$H$18*100,1)))","v":""},"将来負担比率　（％）"]
[null,null,null,null,null,null,null,null,null,null,null,{"$f":"IF((B18+E18)=0,\"-\",IF(OR(H18<0,H15<0)=TRUE,\"-\",ROUNDDOWN(H15/H18*100,1)))","v":"-"}]
[null,"標準財政規模　Ｃ",null,null,"算入公債費等の額　Ｄ",null,null,"Ｃ　－　Ｄ",null,null,null,null,{"$f":"IF(H15<0,ROUNDDOWN(H15/H18*100,1),\"\")","v":""}]
[null,{"$f":"総括表①!B15","v":0},null,{"$f":"IF(B18=0,\"\",IF($H$18=0,\"-\",ROUND(B18/$H$18*100,1)))","v":""},{"$f":"SUM(総括表③!L10:N10,総括表③!I16)","v":0},null,{"$f":"IF(E18=0,\"\",IF($H$18=0,\"-\",ROUND(E18/$H$18*100,1)))","v":""},{"$f":"B18-E18","v":0},null,null,{"$f":"IF(H18=0,\"\",IF($H$18=0,\"-\",ROUND(H18/$H$18*100,1)))","v":""}]
[null,null,null,null,{"$f":"IF(E18<0,\"！算入公債費等の額は、負の値にはなりません。\",\"\")","v":""}]

{"sheet":"１①②","index":6,"n_rows":54,"n_cols":15,"rows_kept":54,"cut":false,"hidden":false,"merged":[[3,1,4,2],[3,3,4,3],[26,6,27,6],[26,3,27,3],[26,4,27,4],[21,1,21,2],[3,6,4,6],[3,5,4,5],[6,1,20,1],[0,13,0,14],[41,1,41,2],[26,2,27,2],[26,1,27,1],[26,13,27,13],[26,14,27,14],[26,5,27,5],[3,14,4,14],[3,13,4,13],[3,4,4,4]]}
[null,null,null,null,null,null,null,null,null,null,null,null,"団体名",{"$f":"IF(総括表①!$D$10=\"-\",総括表①!$C$10,総括表①!$C$10&総括表①!$D$10)","v":""}]
[null,null,null,null,{"$f":"総括表①!E3","v":"Ver.05.00"}]
[null,null,null,null,null,null,null,null,null,null,null,null,null,null,"（単位：千円）"]
[null,"会　計　名",null,"歳入総額\n(1)","歳出総額\n(2)","歳入歳出差引額(3)\n(1)-(2)","翌年度に繰り\n越すべき財源(4)\n (5～9-10)",null,null,null,null,null,null,"実質収支額(11)\n(3)-(4)","地方債\n現在高(12)"]
[null,null,null,null,null,null,null,"継続費\n逓次繰越額 (5)","繰越明許費\n繰越額　(6)","事故繰越\n繰越額　(7)","事業繰越額\n(8)","支払繰延額\n(9)","(5)～(9)に係る\n未収入特定財源\n(10)"]
[null,"一般会計",null,null,null,{"$f":"D6-E6","v":0},{"$f":"SUM(H6:L6)-M6","v":0},null,null,null,null,null,null,{"$f":"F6-G6","v":0}]
[null,"一般会計等に属する特別会計",null,null,null,{"$f":"D7-E7","v":0},0,null,null,null,null,null,null,0]
[null,null,null,null,null,0,0,null,null,null,null,null,null,0]
[null,null,null,null,null,0,0,null,null,null,null,null,null,0]
[null,null,null,null,null,0,0,null,null,null,null,null,null,0]
[null,null,null,null,null,0,0,null,null,null,null,null,null,0]
[null,null,null,null,null,0,0,null,null,null,null,null,null,0]
[null,null,null,null,null,0,0,null,null,null,null,null,null,0]
[null,null,null,null,null,0,0,null,null,null,null,null,null,0]
[null,null,null,null,null,0,0,null,null,null,null,null,null,0]
[null,null,null,null,null,0,0,null,null,null,null,null,null,0]
[null,null,null,null,null,0,0,null,null,null,null,null,null,0]
[null,null,null,null,null,0,0,null,null,null,null,null,null,0]
[null,null,null,null,null,0,0,null,null,null,null,null,null,0]
[null,null,null,null,null,0,0,null,null,null,null,null,null,0]
[null,null,null,null,null,0,0,null,null,null,null,null,null,0]
[null,"合　計",null,{"$f":"SUM(D6:D21)","v":0},0,0,0,0,0,0,0,0,0,0,0]
[null,null,null,null,null,null,null,null,null,null,null,null,"(分母比）",{"$f":"IF(N22=0,\"\",IF(総括表②!$E$22=0,\"-\",ROUND(N22/総括表②!$E$22*100,1)))","v":""},{"$f":"IF(O22=0,\"\",IF(総括表④!$H$18=0,\"-\",ROUND(O22/総括表④!$H$18*100,2)))","v":""}]
[]
[]
[null,null,null,null,null,null,null,null,null,null,null,null,null,"（単位：千円）"]
[null,"事業区分","特別会計名","歳入総額\n(1)","歳出総額\n(2)","歳入歳出差引額(3)\n(1)-(2)","翌年度に繰り\n越すべき財源(4)\n (5～9-10)",null,null,null,null,null,null,"実質収支額(11)\n(3)-(4)"]
[null,null,null,null,null,null,null,"継続費\n逓次繰越額 (5)","繰越明許費\n繰越額　(6)","事故繰越\n繰越額　(7)","事業繰越額\n(8)","支払繰延額\n(9)","(5)～(9)に係る\n未収入特定財源\n(10)"]
[null,null,null,null,null,{"$f":"D29-E29","v":0},{"$f":"SUM(H29:L29)-M29","v":0},null,null,null,null,null,null,{"$f":"F29-G29","v":0}]
[null,null,null,null,null,{"$f":"D30-E30","v":0},0,null,null,null,null,null,null,0]
[null,null,null,null,null,0,0,null,null,null,null,null,null,0]
[null,null,null,null,null,0,0,null,null,null,null,null,null,0]
[null,null,null,null,null,0,0,null,null,null,null,null,null,0]
[null,null,null,null,null,0,0,null,null,null,null,null,null,0]
[null,null,null,null,null,0,0,null,null,null,null,null,null,0]
[null,null,null,null,null,0,0,null,null,null,null,null,null,0]
[null,null,null,null,null,0,0,null,null,null,null,null,null,0]
[null,null,null,null,null,0,0,null,null,null,null,null,null,0]
[null,null,null,null,null,0,0,null,null,null,null,null,null,0]
[null,null,null,null,null,0,0,null,null,null,null,null,null,0]
[null,null,null,null,null,0,0,null,null,null,null,null,null,0,"（分母比）"]
[null,"合　計",null,{"$f":"SUM(D29:D41)","v":0},0,0,0,0,0,0,0,0,0,0,{"$f":"IF(N42=0,\"\",IF(総括表②!$E$22=0,\"-\",ROUND(N42/総括表②!$E$22*100,1)))","v":""}]
[null,null,"（参考）"]
[null,null,"①国民健康保健事業"]
[null,null,"②介護保険事業"]
[null,null,"③後期高齢者医療事業"]
[null,null,"④農業共済事業"]
[null,null,"⑤老人保健医療事業"]
[null,null,"⑥介護サービス事業"]
[null,null,"⑦駐車場事業"]
[null,null,"⑧交通災害共済事業"]
[null,null,"⑨公営競技に関する事業"]
[null,null,"⑩公立大学附属病院事業"]
[null,null,"⑪有料道路事業"]

{"sheet":"１①純計","index":7,"n_rows":25,"n_cols":15,"rows_kept":25,"cut":false,"hidden":false,"merged":[[3,13,4,13],[3,14,4,14],[6,1,20,1],[19,14,20,14],[21,1,21,2],[0,13,0,14],[3,1,4,2],[3,3,4,3],[3,4,4,4],[3,5,4,5],[3,6,4,6]]}
[null,null,null,null,null,null,null,null,null,null,null,null,"団体名",{"$f":"IF(総括表①!$D$10=\"-\",総括表①!$C$10,総括表①!$C$10&総括表①!$D$10)","v":""}]
[null,null,null,null,null,{"$f":"総括表①!E3","v":"Ver.05.00"}]
[null,null,null,null,null,null,null,null,null,null,null,null,null,"（単位：千円）"]
[null,"会　計　名",null,"歳入総額\n(1)","歳出総額\n(2)","歳入歳出差引額(3)\n(1)-(2)","翌年度に繰り\n越すべき財源(4)\n (5～9-10)",null,null,null,null,null,null,"実質収支額(11)\n(3)-(4)"]
[null,null,null,null,null,null,null,"継続費\n逓次繰越額 (5)","繰越明許費\n繰越額　(6)","事故繰越\n繰越額　(7)","事業繰越額\n(8)","支払繰延額\n(9)","(5)～(9)に係る\n未収入特定財源\n(10)"]
[null,"一般会計",null,null,null,{"$f":"D6-E6","v":0},{"$f":"SUM(H6:L6)-M6","v":0},null,null,null,null,null,null,{"$f":"F6-G6","v":0}]
[null,"一般会計等に属する特別会計",{"$f":"IF('１①②'!C7=\"\",\"\",'１①②'!C7)","v":""},null,null,{"$f":"D7-E7","v":0},0,null,null,null,null,null,null,0]
[null,null,{"$f":"IF('１①②'!C8=\"\",\"\",'１①②'!C8)","v":""},null,null,0,0,null,null,null,null,null,null,0]
[null,null,{"$f":"IF('１①②'!C9=\"\",\"\",'１①②'!C9)","v":""},null,null,0,0,null,null,null,null,null,null,0]
[null,null,{"$f":"IF('１①②'!C10=\"\",\"\",'１①②'!C10)","v":""},null,null,0,0,null,null,null,null,null,null,0]
[null,null,{"$f":"IF('１①②'!C11=\"\",\"\",'１①②'!C11)","v":""},null,null,0,0,null,null,null,null,null,null,0]
[null,null,{"$f":"IF('１①②'!C12=\"\",\"\",'１①②'!C12)","v":""},null,null,0,0,null,null,null,null,null,null,0]
[null,null,{"$f":"IF('１①②'!C13=\"\",\"\",'１①②'!C13)","v":""},null,null,{"$f":"D13-E13","v":0},0,null,null,null,null,null,null,0]
[null,null,{"$f":"IF('１①②'!C14=\"\",\"\",'１①②'!C14)","v":""},null,null,0,0,null,null,null,null,null,null,0]
[null,null,{"$f":"IF('１①②'!C15=\"\",\"\",'１①②'!C15)","v":""},null,null,0,0,null,null,null,null,null,null,0]
[null,null,{"$f":"IF('１①②'!C16=\"\",\"\",'１①②'!C16)","v":""},null,null,0,0,null,null,null,null,null,null,0]
[null,null,{"$f":"IF('１①②'!C17=\"\",\"\",'１①②'!C17)","v":""},null,null,0,0,null,null,null,null,null,null,0,"標準財政規模"]
[null,null,{"$f":"IF('１①②'!C18=\"\",\"\",'１①②'!C18)","v":""},null,null,0,0,null,null,null,null,null,null,0,{"$f":"総括表①!B15","v":0}]
[null,null,{"$f":"IF('１①②'!C19=\"\",\"\",'１①②'!C19)","v":""},null,null,0,0,null,null,null,null,null,null,0]
[null,null,{"$f":"IF('１①②'!C20=\"\",\"\",'１①②'!C20)","v":""},null,null,0,0,null,null,null,null,null,null,0,"実質赤字比率\n（％）"]
[null,null,{"$f":"IF('１①②'!C21=\"\",\"\",'１①②'!C21)","v":""},null,null,{"$f":"D21-E21","v":0},0,null,null,null,null,null,null,0]
[null,"合　計",null,{"$f":"SUM(D6:D21)","v":0},0,0,0,0,0,0,0,0,0,0,{"$f":"IF(O18=0,\"-\",ROUNDDOWN(N22*-1/O18*100,2))","v":"-"}]
[]
[null,null,null,null,null,null,null,null,null,null,null,{"$f":"IF(N22<>'１①②'!N22,\"! 実質収支額(11)が１①表と一致していません。\",\"\")","v":""}]
[null,null,"※　本表は、一般会計等の相互間の重複額を控除した純計による歳入及び歳出を基に実質赤字比率を算定するための様式です。"]

{"sheet":"４①","index":8,"n_rows":117,"n_cols":15,"rows_kept":117,"cut":false,"hidden":false,"merged":[[96,2,96,12],[34,12,35,12],[38,12,39,12],[42,12,43,12],[1,12,1,13],[5,4,5,8],[6,12,7,12],[10,12,11,12],[14,12,15,12],[18,12,19,12],[22,12,23,12],[26,12,27,12],[30,12,31,12],[93,3,93,12],[91,3,91,12],[92,2,92,12],[94,2,94,12],[97,3,97,12],[103,3,103,12],[104,2,104,12],[101,3,101,12],[102,2,102,12],[99,3,99,12],[100,2,100,12],[98,2,98,12],[95,3,95,12]]}
[]
[1,null,null,null,null,null,null,null,null,null,null,"団体名",{"$f":"IF(総括表①!$D$10=\"-\",総括表①!$C$10,総括表①!$C$10&総括表①!$D$10)","v":""}]
[1,null,null,{"$f":"総括表①!E3","v":"Ver.05.00"}]
[1]
[1,null,null,null,null,null,null,null,null,null,"（単位：千円）"]
[1,null,"区分","事　　　項  (1)","期   間 (2)",null,null,null,null,"限  度  額 (3)","支出予定額 (4)","（構成比）",null,"（構成比）","エラーチェック"]
[1,{"$f":"IF(D7<>\"\",1,\"\")","v":""},null,null,"H",null,"～","Ｒ",null,null,null,{"$f":"IF(OR($K$87=0,K7=\"\")=TRUE,\"\",ROUND(K7/$K$87*100,1))","v":""},"①　ＰＦＩ事業に係るもの",null,{"$f":"IF(J7<K7,\"！支出予定額が限度額を超えています。\",\"\")","v":""}]
[1,{"$f":"IF(D8<>\"\",B7+1,\"\")","v":""},null,null,"H",null,"～","Ｒ",null,null,null,{"$f":"IF(OR($K$87=0,K8=\"\")=TRUE,\"\",ROUND(K8/$K$87*100,1))","v":""},null,null,{"$f":"IF(J8<K8,\"！支出予定額が限度額を超えています。\",\"\")","v":""}]
[1,{"$f":"IF(D9<>\"\",B8+1,\"\")","v":""},null,null,"H",null,"～","Ｒ",null,null,null,"",{"$f":"SUMIF($C$7:$C$86,\"①\",$K$7:$K$86)","v":0},{"$f":"IF(M9=0,\"\",ROUND(M9/$K$87*100,1))","v":""},""]
[1,"",null,null,"H",null,"～","Ｒ",null,null,null,"",null,null,""]
[1,"",null,null,"H",null,"～","Ｒ",null,null,null,"","②　いわゆる五省協定等\n　　 に係るもの　",null,""]
[1,"",null,null,"H",null,"～","Ｒ",null,null,null,"",null,null,""]
[1,"",null,null,"H",null,"～","Ｒ",null,null,null,"",{"$f":"SUMIF($C$7:$C$86,\"②\",$K$7:$K$86)","v":0},{"$f":"IF(M13=0,\"\",ROUND(M13/$K$87*100,1))","v":""},""]
[1,"",null,null,"H",null,"～","Ｒ",null,null,null,"",null,null,""]
[1,"",null,null,"H",null,"～","Ｒ",null,null,null,"","③　国営土地改良事業\n      に係るもの",null,""]
[1,"",null,null,"H",null,"～","Ｒ",null,null,null,"",null,null,{"$f":"IF(J16<K16,\"！支出予定額が限度額を超えています。\",\"\")","v":""}]
[1,{"$f":"IF(D17<>\"\",B16+1,\"\")","v":""},null,null,"H",null,"～","Ｒ",null,null,null,"",{"$f":"SUMIF($C$7:$C$86,\"③\",$K$7:$K$86)","v":0},{"$f":"IF(M17=0,\"\",ROUND(M17/$K$87*100,1))","v":""},""]
[1,{"$f":"IF(D18<>\"\",B17+1,\"\")","v":""},null,null,"H",null,"～","Ｒ",null,null,null,"",null,null,""]
[1,"",null,null,"H",null,"～","Ｒ",null,null,null,"","④　森林総合研究所等が\n     行う事業に係るもの",null,""]
[1,"",null,null,"H",null,"～","Ｒ",null,null,null,"",null,null,""]
[1,"",null,null,"H",null,"～","Ｒ",null,null,null,"",{"$f":"SUMIF($C$7:$C$86,\"④\",$K$7:$K$86)","v":0},{"$f":"IF(M21=0,\"\",ROUND(M21/$K$87*100,1))","v":""},""]
[1,"",null,null,"H",null,"～","Ｒ",null,null,null,"",null,null,""]
[1,"",null,null,"H",null,"～","Ｒ",null,null,null,"","⑤　地方公務員等共済組合\n      に係るもの",null,""]
[1,"",null,null,"H",null,"～","Ｒ",null,null,null,"",null,null,""]
[1,"",null,null,"H",null,"～","Ｒ",null,null,null,"",{"$f":"SUMIF($C$7:$C$86,\"⑤\",$K$7:$K$86)","v":0},{"$f":"IF(M25=0,\"\",ROUND(M25/$K$87*100,1))","v":""},""]
[1,"",null,null,"H",null,"～","Ｒ",null,null,null,"",null,null,""]
[1,"",null,null,"H",null,"～","Ｒ",null,null,null,"","⑥　依頼土地の\n      買い戻しに係るもの",null,""]
[1,"",null,null,"H",null,"～","Ｒ",null,null,null,"",null,null,""]
[1,"",null,null,"H",null,"～","Ｒ",null,null,null,"",{"$f":"SUMIF($C$7:$C$86,\"⑥\",$K$7:$K$86)","v":0},{"$f":"IF(M29=0,\"\",ROUND(M29/$K$87*100,1))","v":""},""]
[1,"",null,null,"H",null,"～","Ｒ",null,null,null,"",null,null,""]
[1,"",null,null,"H",null,"～","Ｒ",null,null,null,"","⑦　社会福祉法人の施設建設\n    　費に係るもの",null,""]
[1,"",null,null,"H",null,"～","Ｒ",null,null,null,"",null,null,""]
[1,"",null,null,"H",null,"～","Ｒ",null,null,null,"",{"$f":"SUMIF($C$7:$C$86,\"⑦\",$K$7:$K$86)","v":0},{"$f":"IF(M33=0,\"\",ROUND(M33/$K$87*100,1))","v":""},""]
[1,"",null,null,"H",null,"～","Ｒ",null,null,null,"",null,null,""]
[1,"",null,null,"H",null,"～","Ｒ",null,null,null,"","⑧　損失補償・債務保証の\n　　 履行に係るもの",null,""]
[1,"",null,null,"H",null,"～","Ｒ",null,null,null,"",null,null,""]
[1,"",null,null,"H",null,"～","Ｒ",null,null,null,"",{"$f":"SUMIF($C$7:$C$86,\"⑧\",$K$7:$K$86)","v":0},{"$f":"IF(M37=0,\"\",ROUND(M37/$K$87*100,1))","v":""},{"$f":"IF(J37<K37,\"！支出予定額が限度額を超えています。\",\"\")","v":""}]
[1,"",null,null,"H",null,"～","Ｒ",null,null,null,"",null,null,""]
[1,"",null,null,"H",null,"～","Ｒ",null,null,null,"","⑨　引き受けた債務の履行に\n　　 係るもの",null,""]
[1,"",null,null,"H",null,"～","Ｒ",null,null,null,"",null,null,""]
[1,"",null,null,"H",null,"～","Ｒ",null,null,null,"",{"$f":"SUMIF($C$7:$C$86,\"⑨\",$K$7:$K$86)","v":0},{"$f":"IF(M41=0,\"\",ROUND(M41/$K$87*100,1))","v":""},""]
[1,"",null,null,"H",null,"～","Ｒ",null,null,null,"",null,null,""]
[1,"",null,null,"H",null,"～","Ｒ",null,null,null,"","⑩　その他①～⑨に\n      準ずるもの",null,""]
[1,"",null,null,"H",null,"～","Ｒ",null,null,null,"",null,null,""]
[1,"",null,null,"H",null,"～","Ｒ",null,null,null,"",{"$f":"SUMIF($C$7:$C$86,\"⑩\",$K$7:$K$86)","v":0},{"$f":"IF(M45=0,\"\",ROUND(M45/$K$87*100,1))","v":""},""]
[1,"",null,null,"H",null,"～","Ｒ",null,null,null,"",null,null,""]
[null,{"$error":"#VALUE!"},null,1,"H",null,"～","H",null,null,null,"",null,null,""]
[null,{"$error":"#VALUE!"},null,1,"H",null,"～","H",null,null,null,"",null,null,""]
[null,{"$error":"#VALUE!"},null,1,"H",null,"～","H",null,null,null,"",null,null,{"$f":"IF(J49<K49,\"！支出予定額が限度額を超えています。\",\"\")","v":""}]
[null,{"$error":"#VALUE!"},null,1,"H",null,"～","H",null,null,null,"",null,null,""]
[null,{"$error":"#VALUE!"},null,1,"H",null,"～","H",null,null,null,"",null,null,""]
[null,{"$error":"#VALUE!"},null,1,"H",null,"～","H",null,null,null,"",null,null,""]
[null,{"$error":"#VALUE!"},null,1,"H",null,"～","H",null,null,null,"",null,null,""]
[null,{"$error":"#VALUE!"},null,1,"H",null,"～","H",null,null,null,"",null,null,""]
[null,{"$error":"#VALUE!"},null,1,"H",null,"～","H",null,null,null,"",null,null,""]
[null,{"$error":"#VALUE!"},null,1,"H",null,"～","H",null,null,null,"",null,null,""]
[null,{"$error":"#VALUE!"},null,1,"H",null,"～","H",null,null,null,"",null,null,""]
[null,{"$error":"#VALUE!"},null,1,"H",null,"～","H",null,null,null,"",null,null,""]
[null,{"$error":"#VALUE!"},null,1,"H",null,"～","H",null,null,null,"",null,null,""]
[null,{"$error":"#VALUE!"},null,1,"H",null,"～","H",null,null,null,"",null,null,""]
[null,{"$error":"#VALUE!"},null,1,"H",null,"～","H",null,null,null,"",null,null,""]
[null,{"$error":"#VALUE!"},null,1,"H",null,"～","H",null,null,null,"",null,null,""]
[null,{"$error":"#VALUE!"},null,1,"H",null,"～","H",null,null,null,"",null,null,""]
[null,{"$error":"#VALUE!"},null,1,"H",null,"～","H",null,null,null,"",null,null,""]
[null,{"$error":"#VALUE!"},null,1,"H",null,"～","H",null,null,null,"",null,null,""]
[null,{"$error":"#VALUE!"},null,1,"H",null,"～","H",null,null,null,"",null,null,""]
[null,{"$error":"#VALUE!"},null,1,"H",null,"～","H",null,null,null,"",null,null,""]
[null,{"$error":"#VALUE!"},null,1,"H",null,"～","H",null,null,null,"",null,null,""]
[null,{"$error":"#VALUE!"},null,1,"H",null,"～","H",null,null,null,"",null,null,""]
[null,{"$error":"#VALUE!"},null,1,"H",null,"～","H",null,null,null,"",null,null,""]
[null,{"$error":"#VALUE!"},null,1,"H",null,"～","H",null,null,null,"",null,null,""]
[null,{"$error":"#VALUE!"},null,1,"H",null,"～","H",null,null,null,{"$f":"IF(OR($K$87=0,K72=\"\")=TRUE,\"\",ROUND(K72/$K$87*100,1))","v":""},null,null,""]
[null,{"$f":"IF(D73<>\"\",B72+1,\"\")","v":{"$error":"#VALUE!"}},null,1,"H",null,"～","H",null,null,null,"",null,null,""]
[null,{"$error":"#VALUE!"},null,1,"H",null,"～","H",null,null,null,"",null,null,""]
[null,{"$error":"#VALUE!"},null,1,"H",null,"～","H",null,null,null,"",null,null,""]
[null,{"$error":"#VALUE!"},null,1,"H",null,"～","H",null,null,null,"",null,null,""]
[null,{"$error":"#VALUE!"},null,1,"H",null,"～","H",null,null,null,"",null,null,{"$f":"IF(J77<K77,\"！支出予定額が限度額を超えています。\",\"\")","v":""}]
[null,{"$error":"#VALUE!"},null,1,"H",null,"～","H",null,null,null,"",null,null,""]
[null,{"$error":"#VALUE!"},null,1,"H",null,"～","H",null,null,null,"",null,null,""]
[null,{"$error":"#VALUE!"},null,1,"H",null,"～","H",null,null,null,"",null,null,""]
[null,{"$error":"#VALUE!"},null,1,"H",null,"～","H",null,null,null,"",null,null,""]
[null,{"$error":"#VALUE!"},null,1,"H",null,"～","H",null,null,null,"",null,null,""]
[null,{"$error":"#VALUE!"},null,1,"H",null,"～","H",null,null,null,{"$f":"IF(OR($K$87=0,K83=\"\")=TRUE,\"\",ROUND(K83/$K$87*100,1))","v":""},null,null,""]
[null,{"$error":"#VALUE!"},null,1,"H",null,"～","H",null,null,null,"",null,null,""]
[null,{"$error":"#VALUE!"},null,1,"H",null,"～","H",null,null,null,"",null,null,""]
[null,{"$error":"#VALUE!"},null,1,"H",null,"～","H",null,null,null,"",null,null,""]
[1,null,null,null,null,null,null,null,null,"将来負担額（合計）",{"$f":"SUM(K7:K86)","v":0},{"$f":"IF(OR($K$87=0,K87=\"\")=TRUE,\"\",ROUND(K87/$K$87*100,1))","v":""}]
[1,null,{"$f":"IF(K87=(M9+M13+M17+M21+M25+M29+M33+M37+M41+M45),\"\",\"！「区分」に入力もれがあります。\")","v":""},null,null,null,null,null,null,"（分母比）",{"$f":"IF(K87=0,\"\",IF(総括表④!$H$18=0,\"-\",ROUND(K87/総括表④!$H$18*100,1)))","v":""}]
[1]
[1]
[1,null,"・区分⑩に該当する支出予定額の算出方法を記載してください。"]
[1,null,"事項："]
[1]
[1,null,"事項："]
[1]
[1,null,"事項："]
[1]
[1,null,"事項："]
[1]
[1,null,"事項："]
[1]
[1,null,"事項："]
[1]
[1,null,"事項："]
[1]
[1]
[1,null,null,"（参考）"]
[1,null,null,"①　ＰＦＩ事業に係る債務負担行為に係るもの"]
[1,null,null,"②　いわゆる五省協定等により、利便施設及び公共施設を買い取るために行った債務負担行為に係るもの"]
[1,null,null,"③　国営土地改良事業に対する負担金"]
[1,null,null,"④　独立行政法人森林総合研究所、独立行政法人水資源機構及び独立行政法人環境再生保全機構の行う事業に対する負担金"]
[1,null,null,"⑤　地方公務員等共済組合が建設した職員住宅等の無償譲渡を受けるために支払う賃借料"]
[1,null,null,"⑥　土地開発公社に依頼した土地の買い戻しに係るもの"]
[1,null,null,"⑦　社会福祉法人の施設建設費の償還に対する補助"]
[1,null,null,"⑧　損失補償又は債務保証に係る債務履行に要する経費"]
[1,null,null,"⑨　債務引受に係る債務履行に要する経費"]
[1,null,null,"⑩　①～⑨に準ずるもの"]

{"sheet":"４④","index":9,"n_rows":211,"n_cols":16,"rows_kept":211,"cut":false,"hidden":false,"merged":[[5,11,6,11],[137,7,146,7],[5,12,6,12],[7,7,16,7],[7,2,16,2],[97,2,106,2],[97,7,106,7],[107,2,116,2],[107,7,116,7],[5,3,6,3],[4,5,6,5],[5,6,6,6],[5,7,6,7],[147,7,156,7],[177,2,186,2],[177,7,186,7],[187,2,196,2],[187,7,196,7],[117,2,126,2],[117,7,126,7],[127,2,136,2],[127,7,136,7],[137,2,146,2],[107,1,116,1],[117,1,126,1],[127,1,136,1],[137,1,146,1],[147,1,156,1],[147,2,156,2],[177,1,186,1],[187,1,196,1],[197,1,206,1],[1,11,2,12],[1,10,2,10],[4,1,6,2],[197,2,206,2],[197,7,206,7],[7,1,16,1],[97,1,106,1],[17,1,26,1],[17,2,26,2],[17,7,26,7],[27,1,36,1],[27,2,36,2],[27,7,36,7],[37,1,46,1],[37,2,46,2],[37,7,46,7],[47,1,56,1],[47,2,56,2],[47,7,56,7],[57,1,66,1],[57,2,66,2],[57,7,66,7],[67,1,76,1],[67,2,76,2],[67,7,76,7],[77,1,86,1],[77,2,86,2],[77,7,86,7],[87,1,96,1],[87,2,96,2],[87,7,96,7],[157,1,166,1],[157,2,166,2],[157,7,166,7],[167,1,176,1],[167,2,176,2],[167,7,176,7]]}
[]
[1,null,null,null,null,null,null,null,null,null,"団体名",{"$f":"IF(総括表①!$D$10=\"-\",総括表①!$C$10,総括表①!$C$10&総括表①!$D$10)","v":""}]
[1,null,null,null,null,null,null,{"$f":"総括表①!E3","v":"Ver.05.00"},null,null,null,{"$f":"IF(総括表①!$D$10=\"-\",総括表①!$C$10,総括表①!$C$10&総括表①!$D$10)","v":""}]
[1,null,null,null,null,null,null,null,null,null,null,null,"（単位：千円）"]
[1,"組合の名称 (1)",null,null,null,"会計ごとの\n地方債現在高\n(3)","負担等見込額の考え方が明らかな場合",null,"負担等見込額の考え方が明らかでない場合"]
[1,null,null,"区分","会　計　名　(2)",null,"(3)のうち一般会計等\n負担等見込額 (4)","負担の考え方 (5)","過去3か年度における負担割合(6)",null,null,"過去3か年度の負担\n割合の平均値(7)","(3)のうち一般会計等\n負担等見込額(8)\n(3)×(7)"]
[1,null,null,null,null,null,null,null,{"$f":"総括表①!V2&\"年度\"","v":"3年度"},{"$f":"総括表①!V3&\"年度\"","v":"4年度"},{"$f":"総括表①!V4&\"年度\"","v":"5年度"},null,null,"エラーメッセージ"]
[1,1,null,null,null,null,null,null,null,null,null,{"$f":"IF(COUNTA(I8:K8)=0,\"-\",ROUND(SUM(I8:K8)/COUNTA(I8:K8),3))","v":"-"},{"$f":"IF(L8=\"-\",\"-\",ROUND(F8*L8,0))","v":"-"},{"$f":"IF(G8>F8,\"！(4)が(3)を超えています。\",\"\")","v":""},{"$f":"IF(M8=\"-\",\"\",IF(M8>F8,\"！ (8)が(3)を超えることはありません。\",\"\"))","v":""},{"$f":"IF(AND(G8>0,M8<>\"-\")=TRUE,\"！ (4)と(8)の両方に数値が入ることはありません。\",\"\")","v":""}]
[1,null,null,null,null,null,null,null,null,null,null,"-","-","","",""]
[1,null,null,null,null,null,null,null,null,null,null,"-","-","","",""]
[1,null,null,null,null,null,null,null,null,null,null,"-","-","","",""]
[1,null,null,null,null,null,null,null,null,null,null,"-","-","","",""]
[null,null,null,null,null,null,null,null,null,null,null,"-","-","","",""]
[null,null,null,null,null,null,null,null,null,null,null,"-","-","","",""]
[null,null,null,null,null,null,null,null,null,null,null,"-","-","","",""]
[null,null,null,null,null,null,null,null,null,null,null,"-","-","","",""]
[null,null,null,null,null,null,null,null,null,null,null,"-","-","","",""]
[1,2,null,null,null,null,null,null,null,null,null,{"$f":"IF(COUNTA(I18:K18)=0,\"-\",ROUND(SUM(I18:K18)/COUNTA(I18:K18),3))","v":"-"},{"$f":"IF(L18=\"-\",\"-\",ROUND(F18*L18,0))","v":"-"},{"$f":"IF(G18>F18,\"！(4)が(3)を超えています。\",\"\")","v":""},{"$f":"IF(M18=\"-\",\"\",IF(M18>F18,\"！ (8)が(3)を超えることはありません。\",\"\"))","v":""},{"$f":"IF(AND(G18>0,M18<>\"-\")=TRUE,\"！ (4)と(8)の両方に数値が入ることはありません。\",\"\")","v":""}]
[1,null,null,null,null,null,null,null,null,null,null,"-","-","","",""]
[1,null,null,null,null,null,null,null,null,null,null,"-","-","","",""]
[1,null,null,null,null,null,null,null,null,null,null,"-","-","","",""]
[1,null,null,null,null,null,null,null,null,null,null,"-","-","","",""]
[null,null,null,null,null,null,null,null,null,null,null,"-","-","","",""]
[null,null,null,null,null,null,null,null,null,null,null,"-","-","","",""]
[null,null,null,null,null,null,null,null,null,null,null,"-","-","","",""]
[null,null,null,null,null,null,null,null,null,null,null,"-","-","","",""]
[null,null,null,null,null,null,null,null,null,null,null,"-","-","","",""]
[1,3,null,null,null,null,null,null,null,null,null,{"$f":"IF(COUNTA(I28:K28)=0,\"-\",ROUND(SUM(I28:K28)/COUNTA(I28:K28),3))","v":"-"},{"$f":"IF(L28=\"-\",\"-\",ROUND(F28*L28,0))","v":"-"},{"$f":"IF(G28>F28,\"！(4)が(3)を超えています。\",\"\")","v":""},{"$f":"IF(M28=\"-\",\"\",IF(M28>F28,\"！ (8)が(3)を超えることはありません。\",\"\"))","v":""},{"$f":"IF(AND(G28>0,M28<>\"-\")=TRUE,\"！ (4)と(8)の両方に数値が入ることはありません。\",\"\")","v":""}]
[1,null,null,null,null,null,null,null,null,null,null,"-","-","","",""]
[1,null,null,null,null,null,null,null,null,null,null,"-","-","","",""]
[1,null,null,null,null,null,null,null,null,null,null,"-","-","","",""]
[1,null,null,null,null,null,null,null,null,null,null,"-","-","","",""]
[null,null,null,null,null,null,null,null,null,null,null,"-","-","","",""]
[null,null,null,null,null,null,null,null,null,null,null,"-","-","","",""]
[null,null,null,null,null,null,null,null,null,null,null,"-","-","","",""]
[null,null,null,null,null,null,null,null,null,null,null,"-","-","","",""]
[null,null,null,null,null,null,null,null,null,null,null,"-","-","","",""]
[1,4,null,null,null,null,null,null,null,null,null,{"$f":"IF(COUNTA(I38:K38)=0,\"-\",ROUND(SUM(I38:K38)/COUNTA(I38:K38),3))","v":"-"},{"$f":"IF(L38=\"-\",\"-\",ROUND(F38*L38,0))","v":"-"},{"$f":"IF(G38>F38,\"！(4)が(3)を超えています。\",\"\")","v":""},{"$f":"IF(M38=\"-\",\"\",IF(M38>F38,\"！ (8)が(3)を超えることはありません。\",\"\"))","v":""},{"$f":"IF(AND(G38>0,M38<>\"-\")=TRUE,\"！ (4)と(8)の両方に数値が入ることはありません。\",\"\")","v":""}]
[1,null,null,null,null,null,null,null,null,null,null,"-","-","","",""]
[1,null,null,null,null,null,null,null,null,null,null,"-","-","","",""]
[1,null,null,null,null,null,null,null,null,null,null,"-","-","","",""]
[1,null,null,null,null,null,null,null,null,null,null,"-","-","","",""]
[null,null,null,null,null,null,null,null,null,null,null,"-","-","","",""]
[null,null,null,null,null,null,null,null,null,null,null,"-","-","","",""]
[null,null,null,null,null,null,null,null,null,null,null,"-","-","","",""]
[null,null,null,null,null,null,null,null,null,null,null,"-","-","","",""]
[null,null,null,null,null,null,null,null,null,null,null,"-","-","","",""]
[1,5,null,null,null,null,null,null,null,null,null,{"$f":"IF(COUNTA(I48:K48)=0,\"-\",ROUND(SUM(I48:K48)/COUNTA(I48:K48),3))","v":"-"},{"$f":"IF(L48=\"-\",\"-\",ROUND(F48*L48,0))","v":"-"},{"$f":"IF(G48>F48,\"！(4)が(3)を超えています。\",\"\")","v":""},{"$f":"IF(M48=\"-\",\"\",IF(M48>F48,\"！ (8)が(3)を超えることはありません。\",\"\"))","v":""},{"$f":"IF(AND(G48>0,M48<>\"-\")=TRUE,\"！ (4)と(8)の両方に数値が入ることはありません。\",\"\")","v":""}]
[1,null,null,null,null,null,null,null,null,null,null,"-","-","","",""]
[1,null,null,null,null,null,null,null,null,null,null,"-","-","","",""]
[1,null,null,null,null,null,null,null,null,null,null,"-","-","","",""]
[1,null,null,null,null,null,null,null,null,null,null,"-","-","","",""]
[null,null,null,null,null,null,null,null,null,null,null,"-","-","","",""]
[null,null,null,null,null,null,null,null,null,null,null,"-","-","","",""]
[null,null,null,null,null,null,null,null,null,null,null,"-","-","","",""]
[null,null,null,null,null,null,null,null,null,null,null,"-","-","","",""]
[null,null,null,null,null,null,null,null,null,null,null,"-","-","","",""]
[1,6,null,null,null,null,null,null,null,null,null,{"$f":"IF(COUNTA(I58:K58)=0,\"-\",ROUND(SUM(I58:K58)/COUNTA(I58:K58),3))","v":"-"},{"$f":"IF(L58=\"-\",\"-\",ROUND(F58*L58,0))","v":"-"},{"$f":"IF(G58>F58,\"！(4)が(3)を超えています。\",\"\")","v":""},{"$f":"IF(M58=\"-\",\"\",IF(M58>F58,\"！ (8)が(3)を超えることはありません。\",\"\"))","v":""},{"$f":"IF(AND(G58>0,M58<>\"-\")=TRUE,\"！ (4)と(8)の両方に数値が入ることはありません。\",\"\")","v":""}]
[1,null,null,null,null,null,null,null,null,null,null,"-","-","","",""]
[1,null,null,null,null,null,null,null,null,null,null,"-","-","","",""]
[1,null,null,null,null,null,null,null,null,null,null,"-","-","","",""]
[1,null,null,null,null,null,null,null,null,null,null,"-","-","","",""]
[null,null,null,null,null,null,null,null,null,null,null,"-","-","","",""]
[null,null,null,null,null,null,null,null,null,null,null,"-","-","","",""]
[null,null,null,null,null,null,null,null,null,null,null,"-","-","","",""]
[null,null,null,null,null,null,null,null,null,null,null,"-","-","","",""]
[null,null,null,null,null,null,null,null,null,null,null,"-","-","","",""]
[1,7,null,null,null,null,null,null,null,null,null,{"$f":"IF(COUNTA(I68:K68)=0,\"-\",ROUND(SUM(I68:K68)/COUNTA(I68:K68),3))","v":"-"},{"$f":"IF(L68=\"-\",\"-\",ROUND(F68*L68,0))","v":"-"},{"$f":"IF(G68>F68,\"！(4)が(3)を超えています。\",\"\")","v":""},{"$f":"IF(M68=\"-\",\"\",IF(M68>F68,\"！ (8)が(3)を超えることはありません。\",\"\"))","v":""},{"$f":"IF(AND(G68>0,M68<>\"-\")=TRUE,\"！ (4)と(8)の両方に数値が入ることはありません。\",\"\")","v":""}]
[1,null,null,null,null,null,null,null,null,null,null,"-","-","","",""]
[1,null,null,null,null,null,null,null,null,null,null,"-","-","","",""]
[1,null,null,null,null,null,null,null,null,null,null,"-","-","","",""]
[1,null,null,null,null,null,null,null,null,null,null,"-","-","","",""]
[null,null,null,null,null,null,null,null,null,null,null,"-","-","","",""]
[null,null,null,null,null,null,null,null,null,null,null,"-","-","","",""]
[null,null,null,null,null,null,null,null,null,null,null,"-","-","","",""]
[null,null,null,null,null,null,null,null,null,null,null,"-","-","","",""]
[null,null,null,null,null,null,null,null,null,null,null,"-","-","","",""]
[1,8,null,null,null,null,null,null,null,null,null,{"$f":"IF(COUNTA(I78:K78)=0,\"-\",ROUND(SUM(I78:K78)/COUNTA(I78:K78),3))","v":"-"},{"$f":"IF(L78=\"-\",\"-\",ROUND(F78*L78,0))","v":"-"},{"$f":"IF(G78>F78,\"！(4)が(3)を超えています。\",\"\")","v":""},{"$f":"IF(M78=\"-\",\"\",IF(M78>F78,\"！ (8)が(3)を超えることはありません。\",\"\"))","v":""},{"$f":"IF(AND(G78>0,M78<>\"-\")=TRUE,\"！ (4)と(8)の両方に数値が入ることはありません。\",\"\")","v":""}]
[1,null,null,null,null,null,null,null,null,null,null,"-","-","","",""]
[1,null,null,null,null,null,null,null,null,null,null,"-","-","","",""]
[1,null,null,null,null,null,null,null,null,null,null,"-","-","","",""]
[1,null,null,null,null,null,null,null,null,null,null,"-","-","","",""]
[null,null,null,null,null,null,null,null,null,null,null,"-","-","","",""]
[null,null,null,null,null,null,null,null,null,null,null,"-","-","","",""]
[null,null,null,null,null,null,null,null,null,null,null,"-","-","","",""]
[null,null,null,null,null,null,null,null,null,null,null,"-","-","","",""]
[null,null,null,null,null,null,null,null,null,null,null,"-","-","","",""]
[null,9,null,null,null,null,null,null,null,null,null,{"$f":"IF(COUNTA(I88:K88)=0,\"-\",ROUND(SUM(I88:K88)/COUNTA(I88:K88),3))","v":"-"},{"$f":"IF(L88=\"-\",\"-\",ROUND(F88*L88,0))","v":"-"},{"$f":"IF(G88>F88,\"！(4)が(3)を超えています。\",\"\")","v":""},{"$f":"IF(M88=\"-\",\"\",IF(M88>F88,\"！ (8)が(3)を超えることはありません。\",\"\"))","v":""},{"$f":"IF(AND(G88>0,M88<>\"-\")=TRUE,\"！ (4)と(8)の両方に数値が入ることはありません。\",\"\")","v":""}]
[null,null,null,null,null,null,null,null,null,null,null,"-","-","","",""]
[null,null,null,null,null,null,null,null,null,null,null,"-","-","","",""]
[null,null,null,null,null,null,null,null,null,null,null,"-","-","","",""]
[null,null,null,null,null,null,null,null,null,null,null,"-","-","","",""]
[null,null,null,null,null,null,null,null,null,null,null,"-","-","","",""]
[null,null,null,null,null,null,null,null,null,null,null,"-","-","","",""]
[null,null,null,null,null,null,null,null,null,null,null,"-","-","","",""]
[null,null,null,null,null,null,null,null,null,null,null,"-","-","","",""]
[null,null,null,null,null,null,null,null,null,null,null,"-","-","","",""]
[null,10,null,null,null,null,null,null,null,null,null,{"$f":"IF(COUNTA(I98:K98)=0,\"-\",ROUND(SUM(I98:K98)/COUNTA(I98:K98),3))","v":"-"},{"$f":"IF(L98=\"-\",\"-\",ROUND(F98*L98,0))","v":"-"},{"$f":"IF(G98>F98,\"！(4)が(3)を超えています。\",\"\")","v":""},{"$f":"IF(M98=\"-\",\"\",IF(M98>F98,\"！ (8)が(3)を超えることはありません。\",\"\"))","v":""},{"$f":"IF(AND(G98>0,M98<>\"-\")=TRUE,\"！ (4)と(8)の両方に数値が入ることはありません。\",\"\")","v":""}]
[null,null,null,null,null,null,null,null,null,null,null,"-","-","","",""]
[null,null,null,null,null,null,null,null,null,null,null,"-","-","","",""]
[null,null,null,null,null,null,null,null,null,null,null,"-","-","","",""]
[null,null,null,null,null,null,null,null,null,null,null,"-","-","","",""]
[null,null,null,null,null,null,null,null,null,null,null,"-","-","","",""]
[null,null,null,null,null,null,null,null,null,null,null,"-","-","","",""]
[null,null,null,null,null,null,null,null,null,null,null,{"$f":"IF(COUNTA(I105:K105)=0,\"-\",ROUND(SUM(I105:K105)/COUNTA(I105:K105),3))","v":"-"},{"$f":"IF(L105=\"-\",\"-\",ROUND(F105*L105,0))","v":"-"},{"$f":"IF(G105>F105,\"！(4)が(3)を超えています。\",\"\")","v":""},{"$f":"IF(M105=\"-\",\"\",IF(M105>F105,\"！ (8)が(3)を超えることはありません。\",\"\"))","v":""},{"$f":"IF(AND(G105>0,M105<>\"-\")=TRUE,\"！ (4)と(8)の両方に数値が入ることはありません。\",\"\")","v":""}]
[null,null,null,null,null,null,null,null,null,null,null,"-","-","","",""]
[null,null,null,null,null,null,null,null,null,null,null,"-","-","","",""]
[null,11,null,null,null,null,null,null,null,null,null,"-","-","","",""]
[null,null,null,null,null,null,null,null,null,null,null,"-","-","","",""]
[null,null,null,null,null,null,null,null,null,null,null,"-","-","","",""]
[null,null,null,null,null,null,null,null,null,null,null,"-","-","","",""]
[null,null,null,null,null,null,null,null,null,null,null,"-","-","","",""]
[null,null,null,null,null,null,null,null,null,null,null,"-","-","","",""]
[null,null,null,null,null,null,null,null,null,null,null,{"$f":"IF(COUNTA(I114:K114)=0,\"-\",ROUND(SUM(I114:K114)/COUNTA(I114:K114),3))","v":"-"},{"$f":"IF(L114=\"-\",\"-\",ROUND(F114*L114,0))","v":"-"},{"$f":"IF(G114>F114,\"！(4)が(3)を超えています。\",\"\")","v":""},{"$f":"IF(M114=\"-\",\"\",IF(M114>F114,\"！ (8)が(3)を超えることはありません。\",\"\"))","v":""},{"$f":"IF(AND(G114>0,M114<>\"-\")=TRUE,\"！ (4)と(8)の両方に数値が入ることはありません。\",\"\")","v":""}]
[null,null,null,null,null,null,null,null,null,null,null,"-","-","","",""]
[null,null,null,null,null,null,null,null,null,null,null,"-","-","","",""]
[null,null,null,null,null,null,null,null,null,null,null,"-","-","","",""]
[null,12,null,null,null,null,null,null,null,null,null,"-","-","","",""]
[null,null,null,null,null,null,null,null,null,null,null,"-","-","","",""]
[null,null,null,null,null,null,null,null,null,null,null,"-","-","","",""]
[null,null,null,null,null,null,null,null,null,null,null,"-","-","","",""]
[null,null,null,null,null,null,null,null,null,null,null,"-","-","","",""]
[null,null,null,null,null,null,null,null,null,null,null,"-","-","","",""]
[null,null,null,null,null,null,null,null,null,null,null,{"$f":"IF(COUNTA(I124:K124)=0,\"-\",ROUND(SUM(I124:K124)/COUNTA(I124:K124),3))","v":"-"},{"$f":"IF(L124=\"-\",\"-\",ROUND(F124*L124,0))","v":"-"},{"$f":"IF(G124>F124,\"！(4)が(3)を超えています。\",\"\")","v":""},{"$f":"IF(M124=\"-\",\"\",IF(M124>F124,\"！ (8)が(3)を超えることはありません。\",\"\"))","v":""},{"$f":"IF(AND(G124>0,M124<>\"-\")=TRUE,\"！ (4)と(8)の両方に数値が入ることはありません。\",\"\")","v":""}]
[null,null,null,null,null,null,null,null,null,null,null,"-","-","","",""]
[null,null,null,null,null,null,null,null,null,null,null,"-","-","","",""]
[null,null,null,null,null,null,null,null,null,null,null,"-",{"$f":"IF(L127=\"-\",\"-\",ROUND(F127*L127,0))","v":"-"},"","",""]
[null,13,null,null,null,null,null,null,null,null,null,"-","-","","",""]
[null,null,null,null,null,null,null,null,null,null,null,"-","-","","",""]
[null,null,null,null,null,null,null,null,null,null,null,"-","-","","",""]
[null,null,null,null,null,null,null,null,null,null,null,"-","-","","",""]
[null,null,null,null,null,null,null,null,null,null,null,"-","-","","",""]
[null,null,null,null,null,null,null,null,null,null,null,{"$f":"IF(COUNTA(I133:K133)=0,\"-\",ROUND(SUM(I133:K133)/COUNTA(I133:K133),3))","v":"-"},{"$f":"IF(L133=\"-\",\"-\",ROUND(F133*L133,0))","v":"-"},{"$f":"IF(G133>F133,\"！(4)が(3)を超えています。\",\"\")","v":""},{"$f":"IF(M133=\"-\",\"\",IF(M133>F133,\"！ (8)が(3)を超えることはありません。\",\"\"))","v":""},{"$f":"IF(AND(G133>0,M133<>\"-\")=TRUE,\"！ (4)と(8)の両方に数値が入ることはありません。\",\"\")","v":""}]
[null,null,null,null,null,null,null,null,null,null,null,{"$f":"IF(COUNTA(I134:K134)=0,\"-\",ROUND(SUM(I134:K134)/COUNTA(I134:K134),3))","v":"-"},{"$f":"IF(L134=\"-\",\"-\",ROUND(F134*L134,0))","v":"-"},{"$f":"IF(G134>F134,\"！(4)が(3)を超えています。\",\"\")","v":""},{"$f":"IF(M134=\"-\",\"\",IF(M134>F134,\"！ (8)が(3)を超えることはありません。\",\"\"))","v":""},{"$f":"IF(AND(G134>0,M134<>\"-\")=TRUE,\"！ (4)と(8)の両方に数値が入ることはありません。\",\"\")","v":""}]
[null,null,null,null,null,null,null,null,null,null,null,{"$f":"IF(COUNTA(I135:K135)=0,\"-\",ROUND(SUM(I135:K135)/COUNTA(I135:K135),3))","v":"-"},{"$f":"IF(L135=\"-\",\"-\",ROUND(F135*L135,0))","v":"-"},{"$f":"IF(G135>F135,\"！(4)が(3)を超えています。\",\"\")","v":""},{"$f":"IF(M135=\"-\",\"\",IF(M135>F135,\"！ (8)が(3)を超えることはありません。\",\"\"))","v":""},{"$f":"IF(AND(G135>0,M135<>\"-\")=TRUE,\"！ (4)と(8)の両方に数値が入ることはありません。\",\"\")","v":""}]
[null,null,null,null,null,null,null,null,null,null,null,{"$f":"IF(COUNTA(I136:K136)=0,\"-\",ROUND(SUM(I136:K136)/COUNTA(I136:K136),3))","v":"-"},{"$f":"IF(L136=\"-\",\"-\",ROUND(F136*L136,0))","v":"-"},{"$f":"IF(G136>F136,\"！(4)が(3)を超えています。\",\"\")","v":""},{"$f":"IF(M136=\"-\",\"\",IF(M136>F136,\"！ (8)が(3)を超えることはありません。\",\"\"))","v":""},{"$f":"IF(AND(G136>0,M136<>\"-\")=TRUE,\"！ (4)と(8)の両方に数値が入ることはありません。\",\"\")","v":""}]
[null,null,null,null,null,null,null,null,null,null,null,{"$f":"IF(COUNTA(I137:K137)=0,\"-\",ROUND(SUM(I137:K137)/COUNTA(I137:K137),3))","v":"-"},{"$f":"IF(L137=\"-\",\"-\",ROUND(F137*L137,0))","v":"-"},{"$f":"IF(G137>F137,\"！(4)が(3)を超えています。\",\"\")","v":""},{"$f":"IF(M137=\"-\",\"\",IF(M137>F137,\"！ (8)が(3)を超えることはありません。\",\"\"))","v":""},{"$f":"IF(AND(G137>0,M137<>\"-\")=TRUE,\"！ (4)と(8)の両方に数値が入ることはありません。\",\"\")","v":""}]
[null,14,null,null,null,null,null,null,null,null,null,"-","-","","",""]
[null,null,null,null,null,null,null,null,null,null,null,"-","-","","",""]
[null,null,null,null,null,null,null,null,null,null,null,"-","-","","",""]
[null,null,null,null,null,null,null,null,null,null,null,"-","-","","",""]
[null,null,null,null,null,null,null,null,null,null,null,"-","-","","",""]
[null,null,null,null,null,null,null,null,null,null,null,"-","-","","",""]
[null,null,null,null,null,null,null,null,null,null,null,{"$f":"IF(COUNTA(I144:K144)=0,\"-\",ROUND(SUM(I144:K144)/COUNTA(I144:K144),3))","v":"-"},{"$f":"IF(L144=\"-\",\"-\",ROUND(F144*L144,0))","v":"-"},{"$f":"IF(G144>F144,\"！(4)が(3)を超えています。\",\"\")","v":""},{"$f":"IF(M144=\"-\",\"\",IF(M144>F144,\"！ (8)が(3)を超えることはありません。\",\"\"))","v":""},{"$f":"IF(AND(G144>0,M144<>\"-\")=TRUE,\"！ (4)と(8)の両方に数値が入ることはありません。\",\"\")","v":""}]
[null,null,null,null,null,null,null,null,null,null,null,"-","-","","",""]
[null,null,null,null,null,null,null,null,null,null,null,"-","-","","",""]
[null,null,null,null,null,null,null,null,null,null,null,"-","-","","",""]
[null,15,null,null,null,null,null,null,null,null,null,"-","-","","",""]
[null,null,null,null,null,null,null,null,null,null,null,"-","-","","",""]
[null,null,null,null,null,null,null,null,null,null,null,"-","-","","",""]
[null,null,null,null,null,null,null,null,null,null,null,"-","-","","",""]
[null,null,null,null,null,null,null,null,null,null,null,"-","-","","",""]
[null,null,null,null,null,null,null,null,null,null,null,"-","-","","",""]
[null,null,null,null,null,null,null,null,null,null,null,{"$f":"IF(COUNTA(I154:K154)=0,\"-\",ROUND(SUM(I154:K154)/COUNTA(I154:K154),3))","v":"-"},{"$f":"IF(L154=\"-\",\"-\",ROUND(F154*L154,0))","v":"-"},{"$f":"IF(G154>F154,\"！(4)が(3)を超えています。\",\"\")","v":""},{"$f":"IF(M154=\"-\",\"\",IF(M154>F154,\"！ (8)が(3)を超えることはありません。\",\"\"))","v":""},{"$f":"IF(AND(G154>0,M154<>\"-\")=TRUE,\"！ (4)と(8)の両方に数値が入ることはありません。\",\"\")","v":""}]
[null,null,null,null,null,null,null,null,null,null,null,"-","-","","",""]
[null,null,null,null,null,null,null,null,null,null,null,"-","-","","",""]
[null,null,null,null,null,null,null,null,null,null,null,"-","-","","",""]
[null,16,null,null,null,null,null,null,null,null,null,{"$f":"IF(COUNTA(I158:K158)=0,\"-\",ROUND(SUM(I158:K158)/COUNTA(I158:K158),3))","v":"-"},{"$f":"IF(L158=\"-\",\"-\",ROUND(F158*L158,0))","v":"-"},{"$f":"IF(G158>F158,\"！(4)が(3)を超えています。\",\"\")","v":""},{"$f":"IF(M158=\"-\",\"\",IF(M158>F158,\"！ (8)が(3)を超えることはありません。\",\"\"))","v":""},{"$f":"IF(AND(G158>0,M158<>\"-\")=TRUE,\"！ (4)と(8)の両方に数値が入ることはありません。\",\"\")","v":""}]
[null,null,null,null,null,null,null,null,null,null,null,"-","-","","",""]
[null,null,null,null,null,null,null,null,null,null,null,"-","-","","",""]
[null,null,null,null,null,null,null,null,null,null,null,"-","-","","",""]
[null,null,null,null,null,null,null,null,null,null,null,"-","-","","",""]
[null,null,null,null,null,null,null,null,null,null,null,"-","-","","",""]
[null,null,null,null,null,null,null,null,null,null,null,{"$f":"IF(COUNTA(I164:K164)=0,\"-\",ROUND(SUM(I164:K164)/COUNTA(I164:K164),3))","v":"-"},{"$f":"IF(L164=\"-\",\"-\",ROUND(F164*L164,0))","v":"-"},{"$f":"IF(G164>F164,\"！(4)が(3)を超えています。\",\"\")","v":""},{"$f":"IF(M164=\"-\",\"\",IF(M164>F164,\"！ (8)が(3)を超えることはありません。\",\"\"))","v":""},{"$f":"IF(AND(G164>0,M164<>\"-\")=TRUE,\"！ (4)と(8)の両方に数値が入ることはありません。\",\"\")","v":""}]
[null,null,null,null,null,null,null,null,null,null,null,{"$f":"IF(COUNTA(I165:K165)=0,\"-\",ROUND(SUM(I165:K165)/COUNTA(I165:K165),3))","v":"-"},{"$f":"IF(L165=\"-\",\"-\",ROUND(F165*L165,0))","v":"-"},{"$f":"IF(G165>F165,\"！(4)が(3)を超えています。\",\"\")","v":""},{"$f":"IF(M165=\"-\",\"\",IF(M165>F165,\"！ (8)が(3)を超えることはありません。\",\"\"))","v":""},{"$f":"IF(AND(G165>0,M165<>\"-\")=TRUE,\"！ (4)と(8)の両方に数値が入ることはありません。\",\"\")","v":""}]
[null,null,null,null,null,null,null,null,null,null,null,"-","-","","",""]
[null,null,null,null,null,null,null,null,null,null,null,"-","-","","",""]
[null,17,null,null,null,null,null,null,null,null,null,"-","-","","",""]
[null,null,null,null,null,null,null,null,null,null,null,"-","-","","",""]
[null,null,null,null,null,null,null,null,null,null,null,"-","-","","",""]
[null,null,null,null,null,null,null,null,null,null,null,"-","-","","",""]
[null,null,null,null,null,null,null,null,null,null,null,"-","-","","",""]
[null,null,null,null,null,null,null,null,null,null,null,"-","-","","",""]
[null,null,null,null,null,null,null,null,null,null,null,{"$f":"IF(COUNTA(I174:K174)=0,\"-\",ROUND(SUM(I174:K174)/COUNTA(I174:K174),3))","v":"-"},{"$f":"IF(L174=\"-\",\"-\",ROUND(F174*L174,0))","v":"-"},{"$f":"IF(G174>F174,\"！(4)が(3)を超えています。\",\"\")","v":""},{"$f":"IF(M174=\"-\",\"\",IF(M174>F174,\"！ (8)が(3)を超えることはありません。\",\"\"))","v":""},{"$f":"IF(AND(G174>0,M174<>\"-\")=TRUE,\"！ (4)と(8)の両方に数値が入ることはありません。\",\"\")","v":""}]
[null,null,null,null,null,null,null,null,null,null,null,{"$f":"IF(COUNTA(I175:K175)=0,\"-\",ROUND(SUM(I175:K175)/COUNTA(I175:K175),3))","v":"-"},{"$f":"IF(L175=\"-\",\"-\",ROUND(F175*L175,0))","v":"-"},{"$f":"IF(G175>F175,\"！(4)が(3)を超えています。\",\"\")","v":""},{"$f":"IF(M175=\"-\",\"\",IF(M175>F175,\"！ (8)が(3)を超えることはありません。\",\"\"))","v":""},{"$f":"IF(AND(G175>0,M175<>\"-\")=TRUE,\"！ (4)と(8)の両方に数値が入ることはありません。\",\"\")","v":""}]
[null,null,null,null,null,null,null,null,null,null,null,{"$f":"IF(COUNTA(I176:K176)=0,\"-\",ROUND(SUM(I176:K176)/COUNTA(I176:K176),3))","v":"-"},{"$f":"IF(L176=\"-\",\"-\",ROUND(F176*L176,0))","v":"-"},{"$f":"IF(G176>F176,\"！(4)が(3)を超えています。\",\"\")","v":""},{"$f":"IF(M176=\"-\",\"\",IF(M176>F176,\"！ (8)が(3)を超えることはありません。\",\"\"))","v":""},{"$f":"IF(AND(G176>0,M176<>\"-\")=TRUE,\"！ (4)と(8)の両方に数値が入ることはありません。\",\"\")","v":""}]
[null,null,null,null,null,null,null,null,null,null,null,{"$f":"IF(COUNTA(I177:K177)=0,\"-\",ROUND(SUM(I177:K177)/COUNTA(I177:K177),3))","v":"-"},{"$f":"IF(L177=\"-\",\"-\",ROUND(F177*L177,0))","v":"-"},{"$f":"IF(G177>F177,\"！(4)が(3)を超えています。\",\"\")","v":""},{"$f":"IF(M177=\"-\",\"\",IF(M177>F177,\"！ (8)が(3)を超えることはありません。\",\"\"))","v":""},{"$f":"IF(AND(G177>0,M177<>\"-\")=TRUE,\"！ (4)と(8)の両方に数値が入ることはありません。\",\"\")","v":""}]
[null,18,null,null,null,null,null,null,null,null,null,"-","-","","",""]
[null,null,null,null,null,null,null,null,null,null,null,"-","-","","",""]
[null,null,null,null,null,null,null,null,null,null,null,"-","-","","",""]
[null,null,null,null,null,null,null,null,null,null,null,"-","-","","",""]
[null,null,null,null,null,null,null,null,null,null,null,"-","-","","",""]
[null,null,null,null,null,null,null,null,null,null,null,"-","-","","",""]
[null,null,null,null,null,null,null,null,null,null,null,{"$f":"IF(COUNTA(I184:K184)=0,\"-\",ROUND(SUM(I184:K184)/COUNTA(I184:K184),3))","v":"-"},{"$f":"IF(L184=\"-\",\"-\",ROUND(F184*L184,0))","v":"-"},{"$f":"IF(G184>F184,\"！(4)が(3)を超えています。\",\"\")","v":""},{"$f":"IF(M184=\"-\",\"\",IF(M184>F184,\"！ (8)が(3)を超えることはありません。\",\"\"))","v":""},{"$f":"IF(AND(G184>0,M184<>\"-\")=TRUE,\"！ (4)と(8)の両方に数値が入ることはありません。\",\"\")","v":""}]
[null,null,null,null,null,null,null,null,null,null,null,"-","-","","",""]
[null,null,null,null,null,null,null,null,null,null,null,"-","-","","",""]
[null,null,null,null,null,null,null,null,null,null,null,"-","-","","",""]
[null,19,null,null,null,null,null,null,null,null,null,"-","-","","",""]
[null,null,null,null,null,null,null,null,null,null,null,"-","-","","",""]
[null,null,null,null,null,null,null,null,null,null,null,"-","-","","",""]
[null,null,null,null,null,null,null,null,null,null,null,"-","-","","",""]
[null,null,null,null,null,null,null,null,null,null,null,"-","-","","",""]
[null,null,null,null,null,null,null,null,null,null,null,"-","-","","",""]
[null,null,null,null,null,null,null,null,null,null,null,{"$f":"IF(COUNTA(I194:K194)=0,\"-\",ROUND(SUM(I194:K194)/COUNTA(I194:K194),3))","v":"-"},{"$f":"IF(L194=\"-\",\"-\",ROUND(F194*L194,0))","v":"-"},{"$f":"IF(G194>F194,\"！(4)が(3)を超えています。\",\"\")","v":""},{"$f":"IF(M194=\"-\",\"\",IF(M194>F194,\"！ (8)が(3)を超えることはありません。\",\"\"))","v":""},{"$f":"IF(AND(G194>0,M194<>\"-\")=TRUE,\"！ (4)と(8)の両方に数値が入ることはありません。\",\"\")","v":""}]
[null,null,null,null,null,null,null,null,null,null,null,"-","-","","",""]
[null,null,null,null,null,null,null,null,null,null,null,"-","-","","",""]
[null,null,null,null,null,null,null,null,null,null,null,"-","-","","",""]
[null,20,null,null,null,null,null,null,null,null,null,"-","-","","",""]
[null,null,null,null,null,null,null,null,null,null,null,"-","-","","",""]
[null,null,null,null,null,null,null,null,null,null,null,"-","-","","",""]
[null,null,null,null,null,null,null,null,null,null,null,"-","-","","",""]
[null,null,null,null,null,null,null,null,null,null,null,"-","-","","",""]
[null,null,null,null,null,null,null,null,null,null,null,"-","-","","",""]
[null,null,null,null,null,null,null,null,null,null,null,{"$f":"IF(COUNTA(I204:K204)=0,\"-\",ROUND(SUM(I204:K204)/COUNTA(I204:K204),3))","v":"-"},{"$f":"IF(L204=\"-\",\"-\",ROUND(F204*L204,0))","v":"-"},{"$f":"IF(G204>F204,\"！(4)が(3)を超えています。\",\"\")","v":""},{"$f":"IF(M204=\"-\",\"\",IF(M204>F204,\"！ (8)が(3)を超えることはありません。\",\"\"))","v":""},{"$f":"IF(AND(G204>0,M204<>\"-\")=TRUE,\"！ (4)と(8)の両方に数値が入ることはありません。\",\"\")","v":""}]
[null,null,null,null,null,null,null,null,null,null,null,"-","-","","",""]
[null,null,null,null,null,null,null,null,null,null,null,"-","-","","",""]
[null,null,null,null,null,null,null,null,null,null,null,"-","-","","",""]
[1,null,null,null,null,"(4)の小計",{"$f":"SUM(G8:G207)","v":0},null,null,null,null,"(8)の小計",{"$f":"SUM(M8:M207)","v":0}]
[1,null,null,null,null,null,null,null,null,null,null,null,"（分母比）"]
[1,null,null,null,null,null,null,null,null,null,null,null,{"$f":"IF(M211=0,\"\",IF(総括表④!$H$18=0,\"-\",ROUND(M211/総括表④!$H$18*100,1)))","v":""}]
[1,null,null,null,null,null,null,null,null,null,null,"将来負担額　(4)＋(8) ",{"$f":"G208+M208","v":0}]

{"sheet":"４⑤A","index":10,"n_rows":21,"n_cols":10,"rows_kept":21,"cut":false,"hidden":false,"merged":[[12,0,12,1],[3,0,3,2],[3,3,4,3],[3,4,4,4],[3,6,4,6],[8,0,8,1],[9,0,9,1],[10,0,10,1],[11,0,11,1]]}
[null,null,null,{"$f":"総括表①!E3","v":"Ver.05.00"},null,null,"団体名",{"$f":"IF(総括表①!$D$10=\"-\",総括表①!$C$10,総括表①!$C$10&総括表①!$D$10)","v":""}]
[]
["総括表",null,null,null,null,null,"（単位：千円）"]
["一般職に属する職員　(1)",null,null,"特別職に属する\n職員 (2)","組合等積立額\n・積立不足額 (3)","個別算定額\n又は個別加算額(4)","将来負担額\n(1)+(2)-(3)+(4)"]
[null,"うち基本額","うち調整額",null,null,"本欄は使用せず",null,"(分母比)"]
[{"$f":"B6+C6","v":0},{"$f":"'４⑤B'!M31","v":0},{"$f":"IF('４⑤C'!O21=0,'４⑤C'!O18,'４⑤C'!O21)","v":0},{"$f":"'４⑤D'!S11","v":0},{"$f":"'４⑤D'!S18","v":0},null,{"$f":"IF(A6+D6-E6+F6<=0,0,A6+D6-E6+F6)","v":0},{"$f":"IF(G6=0,\"\",IF(総括表④!$H$18=0,\"-\",ROUND(G6/総括表④!$H$18*100,1)))","v":""},null,"個別算定額又は個別加算額\n(4)の凡例　↓"]
[]
["１　職員数",null,"（単位：人）",null,"（③一般職・公営事業に係る会計対象職員数の内訳）",null,null,"（単位：人）",null,"本欄は使用せず"]
["①　一般職・一般会計等対象職員数",null,{"$f":"SUM('４⑤B'!G31:J31)","v":0},null,"事業名","⑤　対象職員数","事業名","⑤　対象職員数",null,"個別算定（基本額）"]
["②　特別職・一般会計等対象職員数",null,{"$f":"COUNTA('４⑤D'!B6:D10,'４⑤D'!I6:K10,'４⑤D'!P6:R10)","v":0},null,"水道事業",null,"観光施設事業",null,null,"個別算定（調整額）"]
["　　 一般会計等対象職員数（合計） 　①＋②",null,{"$f":"SUM(C9:C10)","v":0},null,"簡易水道事業",null,"その他の法適用事業",null,null,"個別算定（基本額・調整額）"]
["③　一般職・公営事業に係る会計対象職員数",null,{"$f":"SUM(F10:F21)+SUM(H10:H21)","v":0},null,"工業用水道事業",null,"国民健康保険事業",null,null,"個別加算（基本額）"]
["④　特別職・公営事業に係る会計対象職員数",null,null,null,"交通事業",null,"老人保健医療事業",null,null,"個別加算（調整額）"]
[null,"職員数（合計）①+②+③+④",{"$f":"C9+C10+C12+C13","v":0},null,"電気事業",null,"後期高齢者医療事業",null,null,"個別加算（基本額・調整額）"]
[null,null,null,null,"ガス事業",null,"介護保険事業"]
[null,null,null,null,"港湾整備事業",null,"農業共済事業"]
[null,null,null,null,"病院事業",null,"交通災害共済事業"]
[null,null,null,null,"市場事業",null,"収益事業"]
[null,null,null,null,"と畜場事業",null,"法非適介護サービス事業"]
[null,null,null,null,"地域開発事業",null,"法非適有料道路事業"]
[null,null,null,null,"下水道事業",null,"法非適駐車場整備事業"]

{"sheet":"４⑤B","index":11,"n_rows":31,"n_cols":15,"rows_kept":31,"cut":false,"hidden":false,"merged":[[0,13,0,14],[6,0,6,1],[7,0,7,1],[8,0,8,1],[10,0,10,1],[11,0,11,1],[30,12,30,14],[30,8,30,9],[22,0,22,1],[23,0,23,1],[24,0,24,1],[25,0,25,1],[26,0,26,1],[29,12,29,14],[30,6,30,7],[17,0,17,1],[18,0,18,1],[19,0,19,1],[20,0,20,1],[4,0,4,1],[5,0,5,1],[12,0,12,1],[13,0,13,1],[14,0,14,1],[16,0,16,1]]}
[null,null,null,null,null,null,{"$f":"総括表①!E3","v":"Ver.05.00"},null,null,null,null,null,"団体名",{"$f":"IF(総括表①!$D$10=\"-\",総括表①!$C$10,総括表①!$C$10&総括表①!$D$10)","v":""}]
[]
["２　基本額"]
[null,null,null,null,null,null,null,null,null,null,null,null,null,null,"（単位：人、千円）"]
["勤続年数（年）",null,"n",1,2,3,4,5,6,7,8,9,10,11,12]
["勤続年数別職員数（人）",null,"An"]
["勤続年数別給料月額総額",null,"Bn"]
["勤続年数別自己都合退職支給率",null,"Cn"]
["勤続年数別退職手当支給予定額（基本額）",null,"Dn=Bn*Cn",{"$f":"ROUNDDOWN(D7*D8,0)","v":0},0,0,0,0,0,{"$f":"ROUNDDOWN(J7*J8,0)","v":0},0,0,0,0,0]
[]
["勤続年数（年）",null,"n",13,14,15,16,17,18,19,20,21,22,23,24]
["勤続年数別職員数（人）",null,"An"]
["勤続年数別給料月額総額",null,"Bn"]
["勤続年数別自己都合退職支給率",null,"Cn"]
["勤続年数別退職手当支給予定額（基本額）",null,"Dn=Bn*Cn",{"$f":"ROUNDDOWN(D13*D14,0)","v":0},{"$f":"ROUNDDOWN(E13*E14,0)","v":0},0,0,0,0,{"$f":"ROUNDDOWN(J13*J14,0)","v":0},{"$f":"ROUNDDOWN(K13*K14,0)","v":0},{"$f":"ROUNDDOWN(L13*L14,0)","v":0},{"$f":"ROUNDDOWN(M13*M14,0)","v":0},0,0]
[]
["勤続年数（年）",null,"n",25,26,27,28,29,30,31,32,33,34,35,36]
["勤続年数別職員数（人）",null,"An"]
["勤続年数別給料月額総額",null,"Bn"]
["勤続年数別自己都合退職支給率",null,"Cn"]
["勤続年数別退職手当支給予定額（基本額）",null,"Dn=Bn*Cn",{"$f":"ROUNDDOWN(D19*D20,0)","v":0},{"$f":"ROUNDDOWN(E19*E20,0)","v":0},0,{"$f":"ROUNDDOWN(G19*G20,0)","v":0},0,0,0,0,0,0,{"$f":"ROUNDDOWN(N19*N20,0)","v":0},0]
[]
["勤続年数（年）",null,"n",37,38,39,40,41,42,43,44,45,46,47,48]
["勤続年数別職員数（人）",null,"An"]
["勤続年数別給料月額総額",null,"Bn"]
["勤続年数別自己都合退職支給率",null,"Cn"]
["勤続年数別退職手当支給予定額（基本額）",null,"Dn=Bn*Cn",{"$f":"ROUNDDOWN(D25*D26,0)","v":0},{"$f":"ROUNDDOWN(E25*E26,0)","v":0},{"$f":"ROUNDDOWN(F25*F26,0)","v":0},{"$f":"ROUNDDOWN(G25*G26,0)","v":0},{"$f":"ROUNDDOWN(H25*H26,0)","v":0},0,0,0,0,0,0,{"$f":"ROUNDDOWN(O25*O26,0)","v":0}]
[]
[null,null,null,null,null,null,null,null,null,"（単位：人）",null,null,null,null,"（単位：千円）"]
[null,null,null,null,null,null,"１①のうち勤続期間が６か月未満の職員数",null,"本様式の対象となる１①の職員数",null,null,null,"一般職（基本額）合計額"]
[null,null,null,null,null,"１①の職員数",null,null,{"$f":"SUM(D6:O6,D12:O12,D18:O18,D24:O24)","v":0},null,null,null,{"$f":"SUM(D9:O9,D15:O15,D21:O21,D27:O27)","v":0}]

{"sheet":"４⑤C","index":12,"n_rows":22,"n_cols":16,"rows_kept":22,"cut":false,"hidden":false,"merged":[[0,14,0,15],[14,0,14,1],[4,0,4,1],[5,0,5,1],[6,0,6,1],[10,0,10,1],[19,6,19,7],[19,14,19,15],[19,12,19,13],[20,12,20,13],[17,10,17,11],[17,8,17,9],[17,14,17,15],[20,14,20,15],[20,4,20,5],[19,4,19,5],[20,2,20,3],[19,2,19,3],[16,14,16,15],[20,10,20,11],[19,10,19,11],[20,8,20,9],[19,8,19,9],[20,6,20,7]]}
[null,null,null,null,null,{"$f":"総括表①!E3","v":"Ver.05.00"},null,null,null,null,null,null,null,"団体名",{"$f":"IF(総括表①!$D$10=\"-\",総括表①!$C$10,総括表①!$C$10&総括表①!$D$10)","v":""}]
[]
["３　調整額（その１）"]
[null,null,null,null,null,null,null,null,null,null,null,null,null,null,null,"（単位：人、千円）"]
["職員区分\n（区分１は各団体において最も調整月額の少ない職員区分を表します）",null,"n",1,2,3,4,5,6,7,8,9,10,11,12,13]
["職員区分毎の調整月額 （円）",null,"Ａn"]
["勤続期間25年以上の職員数（人）",null,"Ｂn"]
[null,"現在の該当区分の調整月額\n50か月分","Cn=An*Bn*50",{"$f":"D6*D7*50","v":0},{"$f":"E6*E7*50","v":0},{"$f":"F6*F7*50","v":0},{"$f":"G6*G7*50","v":0},0,0,0,0,0,0,0,0,{"$f":"P6*P7*50","v":0}]
[null,"現在の該当区分より１号低い\n区分の調整月額10か月分","Dn=A(n-1)\n*Bn*10",null,{"$f":"D6*E7*10","v":0},{"$f":"E6*F7*10","v":0},0,0,0,0,0,0,0,0,0,0]
[null,"勤続期間25年以上調整額合計","En=Cn+Dn",{"$f":"ROUNDDOWN(D8/1000,0)","v":0},{"$f":"ROUNDDOWN((E8+E9)/1000,0)","v":0},0,0,0,0,0,0,0,0,0,0,0]
["勤続期間10年以上25年未満\nの職員数（人）",null,"Ｆn"]
[null,"現在の該当区分の調整月額\n5０か月分の１／２の額","Gn=\nAn*Fn*50/2",{"$f":"D6*D11*50/2","v":0},{"$f":"E6*E11*50/2","v":0},{"$f":"F6*F11*50/2","v":0},{"$f":"G6*G11*50/2","v":0},0,0,0,0,0,0,0,0,0]
[null,"現在の該当区分より１号低い区分の調整月額1０か月分の\n１／２の額（円）","Hn=\nA(n-1)*Fn*10/2",null,{"$f":"D6*E11*10/2","v":0},0,0,0,0,0,0,0,0,0,0,0]
[null,"勤続期間10年以上25年未満の調整額合計","In=Gn+Hn",{"$f":"ROUNDDOWN((D12+D13)/1000,0)","v":0},{"$f":"ROUNDDOWN((E12+E13)/1000,0)","v":0},{"$f":"ROUNDDOWN((F12+F13)/1000,0)","v":0},{"$f":"ROUNDDOWN((G12+G13)/1000,0)","v":0},0,{"$f":"ROUNDDOWN((I12+I13)/1000,0)","v":0},0,0,0,{"$f":"ROUNDDOWN((M12+M13)/1000,0)","v":0},{"$f":"ROUNDDOWN((N12+N13)/1000,0)","v":0},{"$f":"ROUNDDOWN((O12+O13)/1000,0)","v":0},{"$f":"ROUNDDOWN((P12+P13)/1000,0)","v":0}]
["職員区分別調整額合計",null,"Jn=En+In",{"$f":"D10+D14","v":0},{"$f":"E10+E14","v":0},0,0,0,0,0,0,0,0,0,0,0]
[null,null,null,null,null,null,null,null,null,null,null,"（単位：人）",null,null,null,"（単位：千円）"]
[null,null,null,null,null,null,null,null,null,null,"本表の対象となる１①の職員数",null,null,null,"一般職（調整額）合計額\n（その１）"]
[null,null,null,null,null,null,null,null,null,null,{"$f":"SUM(D7:P7,D11:P11)","v":0},null,null,null,{"$f":"SUM(D15:P15)","v":0}]
["３　調整額（その２）",null,null,null,null,null,null,null,null,null,null,null,null,null,null,"（単位：千円）"]
[null,"前年度に自己都合退職者に\n対して支給した調整額の総額 a","調整額を支給されない職員\nに係る退職手当支給総額 b",null,"調整額を支給されない職員\nに係る基本額総額 c",null,"a + ( b - c )　　Ａ",null,"前年度の自己都合退職者に\n係る基本額総額　B",null,"Ａ／Ｂ",null,"一般職（基本額）合計額\n（４⑤Ｂ表）",null,"一般職（調整額）合計額\n（その２）"]
[null,null,null,null,null,null,{"$f":"B21+(C21-E21)","v":0},null,null,null,{"$f":"IF(SUM(G21:J21)=0,\"0\",G21/I21)","v":"0"},null,{"$f":"'４⑤B'!M31:O31","v":0},null,{"$f":"ROUND(K21*M21,0)","v":0}]
[null,"エラーメッセージ",null,null,{"$f":"IF(E21>C21,\"！cがbを超えることはありません。\",\"\")","v":""},null,null,null,{"$f":"IF(E21>I21,\"！cがＢを超えることはありません。\",\"\")","v":""},null,null,null,null,null,null,{"$f":"IF(AND(O18>0,O21>0)=TRUE,\"！調整額の算定は（その１）か（その２）のいずれか１つの方法で行ってください。\",\"\")","v":""}]

{"sheet":"４⑤D","index":13,"n_rows":32,"n_cols":21,"rows_kept":32,"cut":false,"hidden":false,"merged":[[26,11,26,12],[25,18,25,20],[26,18,26,20],[28,18,28,20],[25,13,25,14],[26,13,26,14],[25,15,25,16],[26,15,26,16],[25,5,25,6],[26,5,26,6],[28,7,28,8],[28,9,28,10],[28,11,28,12],[25,7,25,8],[26,7,26,8],[25,9,25,10],[26,9,26,10],[25,11,25,12],[29,7,29,8],[29,9,29,10],[29,11,29,12],[17,0,22,8],[17,9,17,11],[17,12,17,14],[25,1,25,2],[26,1,26,2],[25,3,25,4],[26,3,26,4],[17,18,17,20],[15,0,16,8],[15,9,16,11],[15,12,16,14],[15,15,16,17],[15,18,16,20],[13,0,13,1],[13,2,13,5],[9,1,9,3],[9,4,9,6],[9,8,9,10],[17,15,17,17],[10,15,10,17],[5,11,5,13],[5,15,5,17],[7,18,7,20],[8,18,8,20],[9,11,9,13],[7,11,7,13],[7,15,7,17],[8,11,8,13],[8,15,8,17],[9,18,9,20],[10,18,10,20],[9,15,9,17],[5,8,5,10],[7,4,7,6],[7,8,7,10],[8,1,8,3],[8,4,8,6],[8,8,8,10],[7,1,7,3],[5,18,5,20],[6,1,6,3],[6,4,6,6],[6,8,6,10],[6,11,6,13],[6,15,6,17],[6,18,6,20],[5,1,5,3],[5,4,5,6],[4,15,4,17],[4,18,4,20],[0,6,0,7],[4,1,4,3],[4,4,4,6],[4,8,4,10],[4,11,4,13],[0,18,0,20]]}
[null,null,null,null,null,null,null,null,{"$f":"総括表①!E3","v":"Ver.05.00"},null,null,null,null,null,null,null,null,"団体名",{"$f":"IF(総括表①!$D$10=\"-\",総括表①!$C$10,総括表①!$C$10&総括表①!$D$10)","v":""}]
[]
["４　特別職"]
[null,null,null,null,null,null,null,null,null,null,null,null,null,null,null,null,null,null,null,null,"（単位：千円）"]
["番号","特別職名",null,null,"退職手当支給予定額",null,null,"番号","特別職名",null,null,"退職手当支給予定額",null,null,"番号","特別職名",null,null,"退職手当支給予定額"]
[{"$f":"IF(B6=\"\",\"\",1)","v":""},null,null,null,null,null,null,{"$f":"IF(I6=\"\",\"\",6)","v":""},null,null,null,null,null,null,{"$f":"IF(P6=\"\",\"\",11)","v":""}]
[{"$f":"IF(B7=\"\",\"\",2)","v":""},null,null,null,null,null,null,{"$f":"IF(I7=\"\",\"\",7)","v":""},null,null,null,null,null,null,{"$f":"IF(P7=\"\",\"\",12)","v":""}]
[{"$f":"IF(B8=\"\",\"\",3)","v":""},null,null,null,null,null,null,{"$f":"IF(I8=\"\",\"\",8)","v":""},null,null,null,null,null,null,{"$f":"IF(P8=\"\",\"\",13)","v":""}]
[{"$f":"IF(B9=\"\",\"\",4)","v":""},null,null,null,null,null,null,{"$f":"IF(I9=\"\",\"\",9)","v":""},null,null,null,null,null,null,{"$f":"IF(P9=\"\",\"\",14)","v":""}]
[{"$f":"IF(B10=\"\",\"\",5)","v":""},null,null,null,null,null,null,{"$f":"IF(I10=\"\",\"\",10)","v":""},null,null,null,null,null,null,{"$f":"IF(P10=\"\",\"\",15)","v":""}]
[null,null,null,null,null,null,null,null,null,null,null,null,null,null,null,"特別職合計",null,null,{"$f":"SUM(E6:G10,L6:N10,S6:U10)","v":0}]
["５　退職手当支給業務の処理組合"]
[]
["一部事務組合名"]
[null,null,null,null,null,null,null,null,null,null,null,null,null,null,null,null,null,null,null,null,"（単位：千円）"]
["組合解散時の残余財産の構成団体間の配分方法 (1)",null,null,null,null,null,null,null,null,"(1)により算定した\n組合積立額・積立不足額 (2)",null,null,"組合対象職員数\n(3)",null,null,"(3)のうち一般会計等がその退職手当を\n負担すべき職員数 (4)",null,null,"組合積立額・積立不足額\n（一般会計等負担分）\n(5)"]
[]
[null,null,null,null,null,null,null,null,null,null,null,null,null,null,null,null,null,null,{"$f":"IF(M18=0,0,ROUND(J18*P18/M18,0))","v":0}]
[null,null,null,null,null,null,null,null,null,"※積立不足額の場合は負の値で記入してください。",null,null,null,null,null,{"$f":"IF(P18>M18,\"！　(4)は(3)の内数です。\",\"\")","v":""}]
[null,null,null,null,null,null,null,null,null,null,null,null,null,null,null,{"$f":"IF(P18>'４⑤A'!C11,\"！　(4)が４⑤Ａ表「１職員数の①＋②」を超えることはありません。\",\"\")","v":""}]
[null,null,null,null,null,null,null,null,null,null,null,null,{"$f":"IF(M18>'４⑤A'!C14,\"！　(3)が４⑤Ａ表「職員数（合計）」を超えることはありません。\",\"\")","v":""}]
[]
[]
[]
["　　(参考)　組合積立額（積立不足額）の簡便な算定方法",null,null,null,null,null,null,null,null,null,null,null,null,null,null,null,null,null,null,null,"（単位：千円）"]
[null,"自団体から組合への\n負担金累積額\na",null,"組合から自団体への\n給付金累積額\nb",null,"自団体の累積\n負担・給付差額 c\n(a-b)",null,"全構成団体から\n組合への負担金累積額\nA",null,"組合から全構成団体\nへの給付金累積額\nB",null,"全構成団体の累積\n負担・給付差額 C\n(A-B)",null,"組合の積立金残高\nX",null,"精算後積立金残高\n（案分対象積立金）\n( X-C)  Y",null,null,"組合積立額・積立不足額\nc  + Y×( c /C' )"]
[null,null,null,null,null,{"$f":"B27-D27","v":0},null,null,null,null,null,{"$f":"H27-J27","v":0},null,null,null,{"$f":"N27-L27","v":0},null,null,{"$f":"IF(F27<=0,F27,F27+ROUND(P27*(F27/L30),0))","v":0}]
[]
[null,null,null,null,null,null,null,"構成団体※から\n組合への負担金累積額\nA'",null,"組合から構成団体※\nへの給付金累積額\nB'",null,"構成団体※に係る累積\n負担・給付差額 C'\n(A'-B')",null,null,{"$f":"IF(N27<L27,\"！XがCを下回ることはありません。\",\"\")","v":""},null,null,null,"※累積負担・給付差額「c」が\n　負の値となる団体は「c」の額。"]
[null,null,null,null,null,null,null,null,null,null,null,{"$f":"H30-J30","v":0}]
[null,null,null,null,null,null,null,"※累積負担・給付差額「c」が負の値となる団体を除いた構成団体。"]
[null,null,null,null,null,"エラーメッセージ",null,{"$f":"IF(H30>H27,\"！A'はAの内数です。\",\"\")","v":""},null,{"$f":"IF(J30>J27,\"！B'はBの内数です。\",\"\")","v":""},null,{"$f":"IF(L30<L27,\"！C'がCを下回ることはありません。\",\"\")","v":""}]

{"sheet":"４⑥Ａ","index":14,"n_rows":61,"n_cols":24,"rows_kept":61,"cut":false,"hidden":false,"merged":[[47,22,48,23],[39,18,40,19],[39,20,40,21],[39,22,40,23],[41,22,42,23],[50,12,50,15],[43,22,43,23],[44,18,45,19],[44,20,45,21],[44,22,45,23],[41,18,42,19],[7,14,7,16],[7,17,7,19],[7,20,8,20],[7,21,8,21],[36,22,37,23],[34,18,34,19],[35,18,35,19],[35,20,35,21],[33,12,34,15],[6,0,8,0],[6,1,7,2],[6,3,7,3],[6,4,7,4],[6,5,6,13],[6,14,6,22],[7,22,8,22],[8,1,9,2],[8,3,9,3],[1,21,2,23],[1,20,2,20],[3,1,4,2],[3,3,4,5],[6,23,8,23],[7,5,7,7],[7,8,7,10],[7,11,8,11],[7,12,8,12],[7,13,8,13],[10,1,10,2],[11,1,11,2],[12,1,12,2],[13,1,13,2],[14,1,14,2],[8,4,9,4],[15,1,15,2],[16,1,16,2],[17,1,17,2],[18,1,18,2],[19,1,19,2],[20,1,20,2],[21,1,21,2],[22,1,22,2],[23,1,23,2],[24,1,24,2],[25,1,25,2],[33,0,35,0],[33,1,34,2],[33,3,33,6],[33,7,33,10],[33,11,34,11],[26,8,30,10],[36,20,37,21],[37,1,37,2],[37,12,37,15],[36,12,36,15],[26,17,30,19],[39,1,39,2],[39,12,39,15],[33,22,33,23],[35,22,35,23],[33,16,34,16],[33,18,33,19],[33,20,33,21],[38,1,38,2],[38,12,38,15],[36,1,36,2],[44,1,44,2],[40,1,40,2],[40,12,40,15],[43,1,43,2],[36,18,37,19],[57,22,57,23],[41,1,41,2],[41,12,41,15],[46,22,46,23],[42,1,42,2],[42,12,42,15],[47,20,48,21],[51,1,51,2],[41,20,42,21],[57,12,57,14],[57,15,57,16],[43,12,43,15],[44,12,44,15],[51,12,51,15],[53,0,54,3],[45,1,45,2],[45,12,45,15],[49,1,49,2],[49,12,49,15],[47,1,47,2],[47,12,47,15],[46,1,46,2],[46,12,46,15],[48,1,48,2],[48,12,48,15],[50,1,50,2],[55,22,55,23],[55,15,55,16],[54,19,54,21],[54,22,54,23],[52,8,58,10],[56,19,56,21],[56,22,56,23],[58,15,58,16],[52,4,58,6],[58,12,58,14],[55,19,55,21],[55,12,55,14],[51,19,51,21],[51,22,51,23],[57,19,57,21],[56,15,56,16],[56,12,56,14],[54,15,54,16]]}
[]
[null,null,null,null,null,null,null,null,{"$f":"総括表①!E3","v":"Ver.05.00"},null,null,null,null,null,null,null,null,null,null,null,"団体名",{"$f":"IF(総括表①!$D$10=\"-\",総括表①!$C$10,総括表①!$C$10&総括表①!$D$10)","v":""}]
[null,null,null,null,null,null,null,null,null,null,null,null,null,null,null,null,null,null,null,null,null,{"$f":"IF(総括表①!$D$10=\"-\",総括表①!$C$10,総括表①!$C$10&総括表①!$D$10)","v":""}]
[null,"地方道路公社名"]
[null,null,null,null,null,null,{"$f":"IF(AND(B11<>\"\",D4=\"\")=TRUE,\"！公社名を記入してください。\",\"\")","v":""}]
["１　道路整備特別措置法に係る業務",null,null,null,null,null,null,null,null,null,null,null,null,null,null,null,null,null,null,null,null,null,null,"（単位：千円）"]
[null,"道路特措法上の有料道路名",null,"道路特措法上の事業に係る借入金残高　","設立団体からの借入金残高\n","収支予算の明細（収入）",null,null,null,null,null,null,null,null,"収支予算の明細（支出）",null,null,null,null,null,null,null,null,"将来収支\n見込額\n"]
[null,null,null,null,null,"計画上の収入",null,null,"収入実績",null,null,"収入乖離率","将来収入\n見込額\n（計画値）","将来収入\n見込額\n（補正値）","計画上の支出",null,null,"支出実績",null,null,"支出乖離率","将来支出\n見込額\n（計画値）","将来支出\n見込額\n（補正値）"]
[null,"A",null,"Ｂ①","Ｂ②",{"$f":"'４④'!I7","v":"3年度"},{"$f":"'４④'!J7","v":"4年度"},{"$f":"'４④'!K7","v":"5年度"},{"$f":"$F$9","v":"3年度"},{"$f":"$G$9","v":"4年度"},{"$f":"$H$9","v":"5年度"},null,null,null,{"$f":"$F$9","v":"3年度"},{"$f":"$G$9","v":"4年度"},{"$f":"$H$9","v":"5年度"},{"$f":"$F$9","v":"3年度"},{"$f":"$G$9","v":"4年度"},{"$f":"$H$9","v":"5年度"}]
[null,null,null,null,null,"C①","C②","C③","D①","D②","D③","Ｅ＝（Ｄ①／Ｃ①＋Ｄ②／Ｃ②＋Ｄ③／Ｃ③）／３","Ｆ","Ｇ＝Ｆ×Ｅ","Ｈ①","Ｈ②","Ｈ③","Ｉ①","Ｉ②","Ｉ③","Ｊ＝（Ｉ①／Ｈ①＋Ｉ②／Ｈ②＋Ｉ③／Ｈ③）／３","Ｋ","Ｌ＝Ｊ×Ｋ","Ｍ＝Ｇ－Ｌ"]
[{"$f":"IF(B11=\"\",\"\",1)","v":""},null,null,null,null,null,null,null,null,null,null,{"$f":"IF(COUNTA(F11:H11)=3,(I11/F11+J11/G11+K11/H11)/3,IF(COUNTA(F11:H11)=2,(J11/G11+K11/H11)/2,IF(COUNTA(F11:H11)=1,(K11/H11),\"\")))","v":""},null,{"$f":"IF(ISERROR(L11*M11),\"\",ROUND(L11*M11,0))","v":""},null,null,null,null,null,null,{"$f":"IF(COUNTA(O11:Q11)=3,(R11/O11+S11/P11+T11/Q11)/3,IF(COUNTA(O11:Q11)=2,(S11/P11+T11/Q11)/2,IF(COUNTA(O11:Q11)=1,(T11/Q11),\"\")))","v":""},null,{"$f":"IF(ISERROR(U11*V11),\"\",ROUND(U11*V11,0))","v":""},{"$f":"IF(ISERROR(N11-W11),\"\",N11-W11)","v":""}]
[{"$f":"IF(B12=\"\",\"\",2)","v":""},null,null,null,null,null,null,null,null,null,null,{"$f":"IF(COUNTA(F12:H12)=3,(I12/F12+J12/G12+K12/H12)/3,IF(COUNTA(F12:H12)=2,(J12/G12+K12/H12)/2,IF(COUNTA(F12:H12)=1,(K12/H12),\"\")))","v":""},null,{"$f":"IF(ISERROR(L12*M12),\"\",ROUND(L12*M12,0))","v":""},null,null,null,null,null,null,"",null,{"$f":"IF(ISERROR(U12*V12),\"\",ROUND(U12*V12,0))","v":""},{"$f":"IF(ISERROR(N12-W12),\"\",N12-W12)","v":""}]
[{"$f":"IF(B13=\"\",\"\",3)","v":""},null,null,null,null,null,null,null,null,null,null,{"$f":"IF(COUNTA(F13:H13)=3,(I13/F13+J13/G13+K13/H13)/3,IF(COUNTA(F13:H13)=2,(J13/G13+K13/H13)/2,IF(COUNTA(F13:H13)=1,(K13/H13),\"\")))","v":""},null,"",null,null,null,null,null,null,"",null,"",{"$f":"IF(ISERROR(N13-W13),\"\",N13-W13)","v":""}]
[{"$f":"IF(B14=\"\",\"\",4)","v":""},null,null,null,null,null,null,null,null,null,null,{"$f":"IF(COUNTA(F14:H14)=3,(I14/F14+J14/G14+K14/H14)/3,IF(COUNTA(F14:H14)=2,(J14/G14+K14/H14)/2,IF(COUNTA(F14:H14)=1,(K14/H14),\"\")))","v":""},null,"",null,null,null,null,null,null,"",null,"",""]
[{"$f":"IF(B15=\"\",\"\",5)","v":""},null,null,null,null,null,null,null,null,null,null,"",null,"",null,null,null,null,null,null,"",null,"",""]
[{"$f":"IF(B16=\"\",\"\",6)","v":""},null,null,null,null,null,null,null,null,null,null,"",null,"",null,null,null,null,null,null,"",null,"",""]
[{"$f":"IF(B17=\"\",\"\",7)","v":""},null,null,null,null,null,null,null,null,null,null,"",null,"",null,null,null,null,null,null,"",null,"",""]
[{"$f":"IF(B18=\"\",\"\",8)","v":""},null,null,null,null,null,null,null,null,null,null,"",null,"",null,null,null,null,null,null,"",null,"",""]
[{"$f":"IF(B19=\"\",\"\",9)","v":""},null,null,null,null,null,null,null,null,null,null,"",null,"",null,null,null,null,null,null,"",null,"",""]
[{"$f":"IF(B20=\"\",\"\",10)","v":""},null,null,null,null,null,null,null,null,null,null,"",null,"",null,null,null,null,null,null,"",null,"",""]
[{"$f":"IF(B21=\"\",\"\",11)","v":""},null,null,null,null,null,null,null,null,null,null,"",null,"",null,null,null,null,null,null,"",null,"",""]
[{"$f":"IF(B22=\"\",\"\",12)","v":""},null,null,null,null,null,null,null,null,null,null,"",null,"",null,null,null,null,null,null,"",null,"",""]
[{"$f":"IF(B23=\"\",\"\",13)","v":""},null,null,null,null,null,null,null,null,null,null,"",null,"",null,null,null,null,null,null,"",null,"",""]
[{"$f":"IF(B24=\"\",\"\",14)","v":""},null,null,null,null,null,null,null,null,null,null,"",null,"",null,null,null,null,null,null,"",null,"",""]
[{"$f":"IF(B25=\"\",\"\",15)","v":""},null,null,null,null,null,null,null,null,null,null,"",null,"",null,null,null,null,null,null,"",null,"",""]
[null,"合計",null,{"$f":"SUM(D11:D25)","v":0},{"$f":"SUM(E11:E25)","v":0},null,null,null,null,null,null,null,{"$f":"SUM(M11:M25)","v":0},{"$f":"SUM(N11:N25)","v":0},null,null,null,null,null,null,null,{"$f":"SUM(V11:V25)","v":0},{"$f":"SUM(W11:W25)","v":0},{"$f":"SUM(X11:X25)","v":0}]
[]
[null,null,null,null,null,null,null,"特定の年度の数値を用いないこととした場合の理由",null,null,null,null,null,null,null,null,"特定の年度の数値を用いないこととした場合の理由"]
[]
[]
[null,null,null,null,null,null,null,"Ｄ④",null,null,null,null,null,null,null,null,"Ｉ④"]
[]
["２　１以外の業務",null,null,null,null,null,null,null,null,null,null,null,null,null,null,null,"（単位：千円）",null,"３　地方道路公社に係る将来負担額算定",null,null,"（単位：千円）"]
[null,"業務名",null,"収入実績（収入支出決算）",null,null,null,"支出実績（収入支出決算）",null,null,null,"業務実施見込期間","年数算定根拠",null,null,null,"将来収支\n見込額",null,"１の事業に係る借入金残高",null,"２の事業に係る借入金残高"]
[null,null,null,"３か年平均",{"$f":"$F$9","v":"3年度"},{"$f":"$G$9","v":"4年度"},{"$f":"$H$9","v":"5年度"},"３か年平均",{"$f":"$F$9","v":"3年度"},{"$f":"$G$9","v":"4年度"},{"$f":"$H$9","v":"5年度"},null,null,null,null,null,null,null,"T＝Ｂ①－Ｂ②",null,"U"]
[null,"N",null,"O=（O①＋O②＋O③）/3","O①","O②","O③","P=（P①＋P②＋P③）/3","P①","P②","P③","Q","R",null,null,null,"S＝（O-P）＊Q",null,{"$f":"D26-E26","v":0}]
[{"$f":"IF(B37=\"\",\"\",1)","v":""},null,null,{"$f":"IF(COUNTA(E37:G37)=0,\"\",ROUND((E37+F37+G37)/COUNTA(E37:G37),0))","v":""},null,null,null,{"$f":"IF(COUNTA(I37:K37)=0,\"\",ROUND((I37+J37+K37)/COUNTA(I37:K37),0))","v":""},null,null,null,null,null,null,null,null,{"$f":"IF(L37=\"\",0,ROUND((D37-H37)*L37,0))","v":0},null,"損失補償等履行債務",null,"債務引受履行債務",null,"１の事業に係る将来収支見込額（再掲）"]
[{"$f":"IF(B38=\"\",\"\",2)","v":""},null,null,{"$f":"IF(COUNTA(E38:G38)=0,\"\",ROUND((E38+F38+G38)/COUNTA(E38:G38),0))","v":""},null,null,null,{"$f":"IF(COUNTA(I38:K38)=0,\"\",ROUND((I38+J38+K38)/COUNTA(I38:K38),0))","v":""},null,null,null,null,null,null,null,null,{"$f":"IF(L38=\"\",0,ROUND((D38-H38)*L38,0))","v":0}]
[{"$f":"IF(B39=\"\",\"\",3)","v":""},null,null,"",null,null,null,"",null,null,null,null,null,null,null,null,0,null,"V",null,"W",null,"X＝Ｍ"]
[{"$f":"IF(B40=\"\",\"\",4)","v":""},null,null,"",null,null,null,"",null,null,null,null,null,null,null,null,0,null,null,null,null,null,{"$f":"X26","v":0}]
[{"$f":"IF(B41=\"\",\"\",5)","v":""},null,null,"",null,null,null,"",null,null,null,null,null,null,null,null,0]
[{"$f":"IF(B42=\"\",\"\",6)","v":""},null,null,"",null,null,null,"",null,null,null,null,null,null,null,null,0,null,"２の事業に係る将来収支見込額（再掲）",null,"道路事業損失補てん引当金\n残高(引当可能額に限る)",null,"将来負担額（共同設立以外）"]
[{"$f":"IF(B43=\"\",\"\",7)","v":""},null,null,"",null,null,null,"",null,null,null,null,null,null,null,null,0]
[{"$f":"IF(B44=\"\",\"\",8)","v":""},null,null,"",null,null,null,"",null,null,null,null,null,null,null,null,0,null,"Y＝S",null,"Z",null,"ZA＝（T＋U）－(V+W)－（X＋Y＋Z）"]
[{"$f":"IF(B45=\"\",\"\",9)","v":""},null,null,"",null,null,null,"",null,null,null,null,null,null,null,null,0,null,{"$f":"Q52","v":0},null,null,null,{"$f":"IF(S36+U36-S40-U40-W40-S45-U45<0,0,S36+U36-S40-U40-W40-S45-U45)","v":0}]
[{"$f":"IF(B46=\"\",\"\",10)","v":""},null,null,"",null,null,null,"",null,null,null,null,null,null,null,null,0]
[{"$f":"IF(B47=\"\",\"\",11)","v":""},null,null,"",null,null,null,"",null,null,null,null,null,null,null,null,0]
[{"$f":"IF(B48=\"\",\"\",12)","v":""},null,null,"",null,null,null,"",null,null,null,null,null,null,null,null,0,null,null,null,"将来負担額\nＺB",null,{"$f":"IF(W55=\"\",W45,W55)","v":0}]
[{"$f":"IF(B49=\"\",\"\",13)","v":""},null,null,"",null,null,null,"",null,null,null,null,null,null,null,null,0]
[{"$f":"IF(B50=\"\",\"\",14)","v":""},null,null,"",null,null,null,"",null,null,null,null,null,null,null,null,0,null,null,null,null,null,"（分母比）",{"$f":"IF(W48=0,\"\",IF(総括表④!$H$18=0,\"-\",ROUND(W48/総括表④!$H$18*100,1)))","v":""}]
[{"$f":"IF(B51=\"\",\"\",15)","v":""},null,null,"",null,null,null,"",null,null,null,null,null,null,null,null,0,null,"４　共同設立法人の将来負担額あん分",null,null,null,null,"（単位：千円）"]
[null,"合計",null,null,null,null,null,null,null,null,null,null,null,null,null,null,{"$f":"SUM(Q37:Q51)","v":0},null,"団体名","あん分方法",null,null,"団体別将来負担額"]
[]
["特定の年度の数値を\n用いないこととした場合の理由",null,null,null,null,null,null,null,null,null,null,null,"(参考) B/S上の負債額",null,null,null,"（単位：千円）",null,"AA","AＢ",null,null,"AＣ"]
[null,null,null,null,null,null,null,null,null,null,null,null,null,null,null,"令和4年度",null,null,{"$f":"IF(総括表①!D10<>\"-\",総括表①!D10,総括表①!C10)","v":""}]
[null,null,null,null,null,null,null,null,null,null,null,null,"Ｂ／Ｓ上の負債額"]
[null,null,null,"O④",null,null,null,"P④",null,null,null,null,"Ｂ／Ｓ上の道路事業損失補てん引当金額"]
[null,null,null,null,null,null,null,null,null,null,null,null,"道路事業損失補てん引当金からの借入金残高"]
[]
[]
[null,null,null,null,null,null,null,null,null,null,null,null,null,null,null,{"$f":"IF(U45>P57,\"ERROR\",\"\")","v":""}]

{"sheet":"４⑥Ｂ・C","index":15,"n_rows":28,"n_cols":14,"rows_kept":28,"cut":false,"hidden":false,"merged":[[25,1,25,2],[26,1,26,2],[23,3,23,4],[24,3,24,4],[25,3,25,4],[26,3,26,4],[23,5,23,7],[24,5,24,7],[25,5,25,7],[26,5,26,7],[21,1,21,2],[22,1,22,2],[21,5,21,7],[22,5,22,7],[23,1,23,2],[24,1,24,2],[8,0,8,1],[21,3,21,4],[22,3,22,4],[5,0,5,1],[4,0,4,1],[15,6,15,7],[10,1,10,2],[10,3,10,4],[10,6,10,7],[12,6,12,7],[5,5,5,6],[4,5,4,6],[8,5,8,6],[18,8,18,9],[15,8,15,9],[13,6,13,7],[14,6,14,7],[16,6,16,7],[17,6,17,7],[1,12,1,13],[12,8,12,9],[16,8,16,9],[17,8,17,9],[7,0,7,1],[13,8,13,9],[14,8,14,9],[7,5,7,6],[10,8,10,9],[10,10,10,11]]}
[]
[null,null,null,null,{"$f":"総括表①!E3","v":"Ver.05.00"},null,null,null,null,null,null,"団体名",{"$f":"IF(総括表①!$D$10=\"-\",総括表①!$C$10,総括表①!$C$10&総括表①!$D$10)","v":""}]
[]
[null,null,null,null,null,null,null,null,"（単位：千円）",null,null,null,"（単位：千円）"]
["土地開発公社名",null,"負債の額\n(1)","設立団体からの\n借入金(a)-(b)\n(2)","設立団体\n損失補償等\n履行債務\n(3)","設立団体\n債務引受\n履行債務\n(4)",null,"設立団体以外\n損失補償等債務\n(5)","(1) - (2)-(3)\n-(4)-(5)\n(6)",null,null,"設立団体からの\n借入金((b)の控除前)\n(a)","省令第８条第５号に\n規定する土地の\n取得のための\n貸付金の償還金(b)"]
[null,null,null,{"$f":"IF(M6>L6,\"(b)は(a)の内数です\",L6-M6)","v":0},null,null,null,{"$f":"J28","v":0},{"$f":"IF(C6<SUM(D6:H6),\"(2)～(5)の合計は(1)の内数です\",C6-SUM(D6:H6))","v":0},null,null,{"$f":"D19","v":0},{"$f":"I19","v":0}]
[null,{"$f":"IF(AND(C6<>\"\",A6=\"\")=TRUE,\"！公社名を記入してください。\",\"\")","v":""},null,null,null,null,null,null,null,null,null,null,null,"（単位：千円）"]
["現金及び預金\n(7)",null,"事業未収金\n(8)","省令第８条第５号に\n規定する土地の\n取得価額\n(9)","市街地再開発事業等用地の取得価額又は時価評価額\n(10)","国等が買取ることが確実に見込まれる１号土地の取得価額\n(11)",null,"２号土地の取得価額又は時価評価額\n(12)","投資その他の資産\n(13)","賃貸事業用地の\n取得価額\n又は時価評価額\n(14)","(7)～(14)\n(15)","(6) - (15)\n(16)","あん分割合（%）\n(17)","将来負担額\n(設立した法人)\n(16)×(17)"]
[null,null,{"$f":"'４⑥Ｃ'!E19","v":0},{"$f":"'４⑥Ｃ'!E33","v":0},{"$f":"'４⑥Ｃ'!L11","v":0},{"$f":"'４⑥Ｃ'!J19","v":0},null,{"$f":"'４⑥Ｃ'!L33","v":0},{"$f":"'４⑥C・E'!D10","v":0},{"$f":"'４⑥C・E'!N10","v":0},{"$f":"SUM(A9:J9)","v":0},{"$f":"IF(I6-K9<=0,0,I6-K9)","v":0},{"$f":"IF('４⑥C・E'!D14=\"\",1,'４⑥C・E'!D14)","v":1},{"$f":"L9*M9","v":0}]
[null,null,null,null,null,null,null,null,null,null,null,null,"（分母比）",{"$f":"IF(N9=0,\"\",IF(総括表④!$H$18=0,\"-\",ROUND(N9/総括表④!$H$18*100,1)))","v":""}]
[]
["(a) 設立団体からの借入金((b)の控除前)の内訳　（単位：千円)",null,null,null,null,"(b) 省令第８条第５号に規定する土地の取得のための貸付金の償還金の内訳（単位：千円）"]
["項番","借入開始期日","最終償還期日","借入金残高",null,"項番","用地名/事業名",null,"貸付金の償還金"]
[null,"H . .","H . ."]
[null,"H . .","H . ."]
[null,"H . .","H . ."]
[null,"H . .","H . ."]
[null,"H . .","H . ."]
[null,null,"合計",{"$f":"SUM(D14:D18)","v":0},null,null,null,"合計",{"$f":"SUM(I14:I18)","v":0}]
[]
["(5) 設立団体以外損失補償等債務の内訳",null,null,null,null,null,null,null,null,"（単位：千円）"]
["項番","用地名/事業名",null,"損失補償又は保証をしている設立団体以外のすべての地方公共団体名",null,"損失補償又は保証に係る債務\n（すべての地方公共団体の合計額）",null,null,"設立団体以外の地方公共団体（設立団体以外のすべての地方公共団体の合計）に係るあん分割合(%) ","設立団体以外の地方公共団体が負担している損失補償又は保証に係る債務の額"]
[null,null,null,null,null,null,null,null,null,{"$f":"F23*I23/100","v":0}]
[null,null,null,null,null,null,null,null,null,{"$f":"F24*I24/100","v":0}]
[null,null,null,null,null,null,null,null,null,{"$f":"F25*I25/100","v":0}]
[null,null,null,null,null,null,null,null,null,{"$f":"F26*I26/100","v":0}]
[null,null,null,null,null,null,null,null,null,{"$f":"F27*I27/100","v":0}]
[null,null,null,null,null,null,null,null,"合計",{"$f":"SUM(J23:J27)","v":0}]

{"sheet":"４⑥Ｃ","index":16,"n_rows":33,"n_cols":12,"rows_kept":33,"cut":false,"hidden":false,"merged":[[3,6,3,7],[4,7,5,7],[4,1,5,1],[4,2,5,2],[4,3,5,3],[4,4,5,4],[4,6,5,6],[15,9,15,10],[4,8,5,8],[4,9,4,10],[4,11,5,11],[12,6,12,8],[13,2,13,3],[13,9,13,10],[21,4,22,4],[21,6,22,6],[21,7,22,7],[14,2,14,3],[14,9,14,10],[16,2,16,3],[16,9,16,10],[17,2,17,3],[17,9,17,10],[15,2,15,3],[28,2,28,3],[29,2,29,3],[25,2,25,3],[26,2,26,3],[27,2,27,3],[21,1,22,1],[21,2,22,3],[1,6,1,7],[21,11,22,11],[23,2,23,3],[30,2,30,3],[31,2,31,3],[18,9,18,10],[20,6,20,7],[21,9,21,10],[21,8,22,8],[24,2,24,3]]}
[]
[null,null,null,null,null,null,{"$f":"総括表①!E3","v":"Ver.05.00"},null,null,null,"団体名",{"$f":"IF(総括表①!$D$10=\"-\",総括表①!$C$10,総括表①!$C$10&総括表①!$D$10)","v":""}]
[]
[null,null,null,null,null,null,"(10) 市街地再開発事業等用地の内訳",null,null,null,null,"（単位：千円）"]
[null,null,null,null,null,null,"項番","（用地/事業名）","取得価額","時価評価額",null,"取得価額又は時価評価額\nのうちいずれか少ない額"]
[null,null,null,null,null,null,null,null,null,null,"評価方法"]
[null,null,null,null,null,null,null,null,null,null,null,{"$f":"MIN(I7:J7)","v":0}]
[null,null,null,null,null,null,null,null,null,null,null,{"$f":"MIN(I8:J8)","v":0}]
[null,null,null,null,null,null,null,null,null,null,null,{"$f":"MIN(I9:J9)","v":0}]
[null,null,null,null,null,null,null,null,null,null,null,{"$f":"MIN(I10:J10)","v":0}]
[null,null,null,null,null,null,null,null,null,null,"合計",{"$f":"SUM(L7:L10)","v":0}]
[]
[null,"(８) 事業未収金の内訳",null,null,"（単位：千円）",null,"(11) 国等が買取ることが確実に見込まれる１号土地の内訳",null,null,null,"（単位：千円）"]
[null,"項番","債務者",null,"未収金額",null,"項番","（用地/事業名）","買取主体","取得価額"]
[]
[]
[]
[]
[null,null,null,"合計",{"$f":"SUM(E15:E18)","v":0},null,null,null,"合計",{"$f":"SUM(J15:K18)","v":0}]
[]
[null,"(9) 省令第８条第５号に規定する土地の内訳",null,null,"（単位：千円）",null,"(12) ２号土地の内訳",null,null,null,null,"（単位：千円）"]
[null,"項番","事　項",null,"取得価額",null,"項番","（用地/事業名）","取得価額","時価評価額",null,"取得価額又は時価評価額\nのうちいずれか少ない額"]
[null,null,null,null,null,null,null,null,null,null,"評価方法"]
[null,null,null,null,null,null,null,null,null,null,null,{"$f":"MIN(I24:J24)","v":0}]
[null,null,null,null,null,null,null,null,null,null,null,0]
[null,null,null,null,null,null,null,null,null,null,null,0]
[null,null,null,null,null,null,null,null,null,null,null,0]
[null,null,null,null,null,null,null,null,null,null,null,{"$f":"MIN(I28:J28)","v":0}]
[null,null,null,null,null,null,null,null,null,null,null,0]
[null,null,null,null,null,null,null,null,null,null,null,0]
[null,null,null,null,null,null,null,null,null,null,null,0]
[null,null,null,null,null,null,null,null,null,null,null,0]
[null,null,null,"合計",{"$f":"SUM(E24:E32)","v":0},null,null,null,null,null,"合計",{"$f":"SUM(L24:L32)","v":0}]

{"sheet":"４⑥C・E","index":17,"n_rows":38,"n_cols":19,"rows_kept":38,"cut":false,"hidden":false,"merged":[[34,10,34,11],[31,10,31,11],[35,10,35,11],[35,15,35,16],[36,10,36,11],[36,15,36,16],[31,15,31,16],[32,10,32,11],[32,15,32,16],[33,10,33,11],[33,15,33,16],[24,4,24,5],[24,10,24,11],[25,4,25,5],[25,10,25,11],[34,15,34,16],[26,4,26,5],[26,10,26,11],[27,4,27,5],[27,10,27,11],[28,10,28,11],[8,6,8,7],[8,8,8,10],[8,13,8,15],[9,13,9,15],[23,4,23,5],[23,10,23,11],[6,6,6,7],[6,8,6,10],[6,13,6,15],[7,6,7,7],[7,8,7,10],[7,13,7,15],[4,6,4,7],[4,8,4,10],[4,13,4,15],[1,5,1,6],[5,6,5,7],[5,8,5,10],[5,13,5,15],[2,1,3,1],[2,2,3,2],[2,3,3,3],[2,5,3,5],[0,16,0,18],[2,6,3,7],[2,8,3,10],[2,11,2,12],[2,13,3,15]]}
[null,null,null,null,null,null,null,null,null,null,{"$f":"+総括表①!E3","v":"Ver.05.00"},null,null,null,null,"団体名",{"$f":"IF(総括表①!$D$10=\"-\",総括表①!$C$10,総括表①!$C$10&総括表①!$D$10)","v":""}]
[null,"(13) 投資その他の資産の内訳",null,"（単位：千円）",null,"(14) 賃貸事業用地の内訳",null,null,null,null,null,null,null,null,null,"（単位：千円）"]
[null,"項番","科　目","金　額",null,"項番","（用地/事業名）",null,"取得価額",null,null,"時価評価額",null,"取得価額又は時価評価額\nのうちいずれか少ない額"]
[null,null,null,null,null,null,null,null,null,null,null,null,"評価方法"]
[null,null,null,null,null,null,null,null,null,null,null,null,null,{"$f":"MIN(I5:L5)","v":0}]
[null,null,null,null,null,null,null,null,null,null,null,null,null,{"$f":"MIN(I6:L6)","v":0}]
[null,null,null,null,null,null,null,null,null,null,null,null,null,{"$f":"MIN(I7:L7)","v":0}]
[null,null,null,null,null,null,null,null,null,null,null,null,null,{"$f":"MIN(I8:L8)","v":0}]
[null,null,null,null,null,null,null,null,null,null,null,null,null,{"$f":"MIN(I9:L9)","v":0}]
[null,null,"合計",{"$f":"SUM(D5:D9)","v":0},null,null,null,null,null,null,null,null,"合計",{"$f":"SUM(N5:P9)","v":0}]
[]
[null,"(17) あん分割合の内訳",null,"（単位：％）"]
[null,"項番","地方公共団体名","割　合"]
[null,null,{"$f":"IF(総括表①!$D$10<>\"-\",総括表①!$D$10,総括表①!$C$10)","v":""}]
[]
[]
[]
[]
[null,null,"合計",{"$f":"SUM(D14:D18)","v":0},{"$f":"IF(SUM(D14:D18)=0,\"\",IF(D19=1,\"\",\"←合計が 100％ になっていません。\"))","v":""}]
[]
[]
[]
[null,null,null,null,null,null,"（単位：千円）"]
[null,"項番","地方独立行政法人名 (1)","繰越欠損金額 (2)","あん分\n割合（%）\n(3)",null,"(2)×(3)\n(4)"]
[null,null,null,null,{"$f":"IF(D33=\"\",1,D33)","v":1},null,{"$f":"D25*E25","v":0}]
[null,null,null,null,{"$f":"IF(H33=\"\",1,H33)","v":1},null,{"$f":"D26*E26","v":0}]
[null,null,null,null,{"$f":"IF(M33=\"\",1,M33)","v":1},null,{"$f":"D27*E27","v":0}]
[null,null,null,null,{"$f":"IF(R33=\"\",1,R33)","v":1},null,{"$f":"D28*E28","v":0}]
[null,null,null,null,null,"将来負担額",{"$f":"SUM(G25:G28)","v":0}]
[]
[null,"あん分割合の内訳（項番1）",null,"（単位：％）",null,"あん分割合の内訳（項番2）",null,"（単位：％）",null,"あん分割合の内訳（項番3）",null,null,"（単位：％）",null,"あん分割合の内訳（項番4）",null,null,"（単位：％）"]
[null,"項番","地方公共団体名","割　合",null,"項番","地方公共団体名","割　合",null,"項番","地方公共団体名",null,"割　合",null,"項番","地方公共団体名",null,"割　合"]
[null,null,{"$f":"IF(総括表①!$D$10<>\"-\",総括表①!$D$10,総括表①!$C$10)","v":""},null,null,null,{"$f":"IF(総括表①!$D$10<>\"-\",総括表①!$D$10,総括表①!$C$10)","v":""},null,null,null,{"$f":"IF(総括表①!$D$10<>\"-\",総括表①!$D$10,総括表①!$C$10)","v":""},null,null,null,null,{"$f":"IF(総括表①!$D$10<>\"-\",総括表①!$D$10,総括表①!$C$10)","v":""}]
[]
[]
[]
[]
[null,null,"合計",{"$f":"SUM(D33:D37)","v":0},{"$f":"IF(SUM(D33:D37)=0,\"\",IF(D38=1,\"\",\"←合計が 100％ になっていません。\"))","v":""},null,"合計",{"$f":"SUM(H33:H37)","v":0},{"$f":"IF(SUM(H33:H37)=0,\"\",IF(H38=1,\"\",\"←合計が 100％ になっていません。\"))","v":""},null,null,"合計",{"$f":"SUM(M33:M37)","v":0},{"$f":"IF(SUM(K33:K37)=0,\"\",IF(M38=1,\"\",\"←合計が 100％ になっていません。\"))","v":""},null,null,"合計",{"$f":"SUM(R33:R37)","v":0},{"$f":"IF(SUM(P33:P37)=0,\"\",IF(R38=1,\"\",\"←合計が 100％ になっていません。\"))","v":""}]

{"sheet":"４⑥Ｄ","index":18,"n_rows":24,"n_cols":12,"rows_kept":24,"cut":false,"hidden":false,"merged":[[16,1,17,1],[16,2,17,2],[16,3,17,3],[16,6,16,7],[16,8,17,8],[16,4,17,4],[16,5,17,5],[16,10,17,10],[4,4,4,5],[5,4,5,5],[16,9,17,9],[16,11,17,11]]}
[]
[]
[null,null,null,null,null,null,null,null,{"$f":"総括表①!$E$3","v":"Ver.05.00"},null,"団体名",{"$f":"IF(総括表①!$D$10=\"-\",総括表①!$C$10,総括表①!$C$10&総括表①!$D$10)","v":""}]
[null,null,null,null,null,"（単位：千円）"]
[null,null,"１号土地に係る\n将来負担額\n(1)","２号土地に係る\n将来負担額\n(2)","将来負担額合計\n(1) + (2)\n(3)"]
[null,null,{"$f":"I15","v":0},{"$f":"L24","v":0},{"$f":"SUM(C6:D6)","v":0}]
[]
[null,"(１) １号土地の内訳",null,null,null,null,null,null,"（単位：千円）"]
[null,"項番","土地開発公社名","用地名/事業名","損失補償又は\n保証に係る\n債務の額\n(4)","取得価額\n(5)","(4)又は(5)の\nいずれか少ない額\n(6)","当該地方公共団体におけるあん分の割合(単位：%)\n(7)","当該土地に係る\n将来負担額\n(6)×(7）\n(8)"]
[null,null,null,null,null,null,{"$f":"MIN(E10:F10)","v":0},null,{"$f":"G10*H10/100","v":0}]
[null,null,null,null,null,null,{"$f":"MIN(E11:F11)","v":0},null,{"$f":"G11*H11/100","v":0}]
[null,null,null,null,null,null,{"$f":"MIN(E12:F12)","v":0},null,{"$f":"G12*H12/100","v":0}]
[null,null,null,null,null,null,{"$f":"MIN(E13:F13)","v":0},null,{"$f":"G13*H13/100","v":0}]
[null,null,null,null,null,null,{"$f":"MIN(E14:F14)","v":0},null,{"$f":"G14*H14/100","v":0}]
[null,null,null,null,null,null,null,"合計",{"$f":"SUM(I10:I14)","v":0}]
[null,"(2) ２号土地の内訳",null,null,null,null,null,null,null,null,null,"（単位：千円）"]
[null,"項番","土地開発公社名","用地名/事業名","損失補償又は\n保証に係る\n債務の額\n(9)","取得価額\n(10)","時価評価額(11)",null,"取得価額又は\n時価評価額\nのうちいずれか\n少ない額\n(12)","(9) - (12)\n(13)","当該地方公共団体におけるあん分の割合(単位：%)\n(14)","当該土地に係る\n将来負担額\n(13)×(14)\n(15)"]
[null,null,null,null,null,null,null,"評価方法"]
[null,null,null,null,null,null,null,null,{"$f":"MIN(F19:G19)","v":0},{"$f":"E19-I19","v":0},null,{"$f":"J19*K19/100","v":0}]
[null,null,null,null,null,null,null,null,{"$f":"MIN(F20:G20)","v":0},{"$f":"E20-I20","v":0},null,{"$f":"J20*K20/100","v":0}]
[null,null,null,null,null,null,null,null,{"$f":"MIN(F21:G21)","v":0},{"$f":"E21-I21","v":0},null,{"$f":"J21*K21/100","v":0}]
[null,null,null,null,null,null,null,null,{"$f":"MIN(F22:G22)","v":0},{"$f":"E22-I22","v":0},null,{"$f":"J22*K22/100","v":0}]
[null,null,null,null,null,null,null,null,{"$f":"MIN(F23:G23)","v":0},{"$f":"E23-I23","v":0},null,{"$f":"J23*K23/100","v":0}]
[null,null,null,null,null,null,null,null,null,null,"合計",{"$f":"SUM(L19:L23)","v":0}]

{"sheet":"４⑥Ｆ","index":19,"n_rows":205,"n_cols":9,"rows_kept":205,"cut":false,"hidden":false,"merged":[[201,1,201,11],[202,1,203,11],[167,5,168,5],[167,6,168,6],[0,6,1,6],[0,5,1,5],[85,5,86,5],[85,6,86,6],[32,6,33,6],[32,5,33,5],[60,6,61,6],[60,5,61,5],[115,7,116,7],[115,8,116,8],[141,7,142,7],[141,8,142,8]]}
[null,null,null,null,null,"団体名",{"$f":"IF(総括表①!$D$10=\"-\",総括表①!$C$10,総括表①!$C$10&総括表①!$D$10)","v":""}]
[null,null,null,{"$f":"総括表①!$E$3","v":"Ver.05.00"}]
[]
[null,"（注１）算入率及び損失補償実行率については、小数点第１位未満四捨五入（％表示ベース）"]
[null,"（注２）金額については、千円未満四捨五入"]
[]
["１　標準評価方式"]
[null,null,null,null,null,null,"（単位：千円）"]
[null,"法人名","損失補償付債務\n\nＡ","信用補完\n実行見込額\nB","Ｃ\n\n（Ａ－Ｂ）","算入率\n\nD","損失補償債務等\n負担見込額\nE\n（C×D）","法人形態区分","備考"]
[1,null,null,null,{"$f":"+C10-D10","v":0},null,{"$f":"ROUND(E10*F10,0)","v":0}]
[2,null,null,null,{"$f":"+C11-D11","v":0},null,{"$f":"ROUND(E11*F11,0)","v":0}]
[3,null,null,null,0,null,0]
[4,null,null,null,0,null,0]
[5,null,null,null,0,null,0]
[6,null,null,null,0,null,0]
[7,null,null,null,0,null,{"$f":"ROUND(E16*F16,0)","v":0}]
[8,null,null,null,0,null,0]
[9,null,null,null,0,null,0]
[10,null,null,null,0,null,0]
[11,null,null,null,0,null,0]
[12,null,null,null,0,null,0]
[13,null,null,null,0,null,0]
[14,null,null,null,0,null,0]
[15,null,null,null,0,null,0]
[16,null,null,null,0,null,0]
[17,null,null,null,0,null,0]
[18,null,null,null,0,null,0]
[19,null,null,null,0,null,0]
[20,null,null,null,0,null,{"$f":"ROUND(E29*F29,0)","v":0}]
[null,null,null,null,null,"小計①",{"$f":"SUM(G10:G29)","v":0}]
[]
["２　個別評価方式"]
[null,"（１）資産債務個別評価方式",null,{"$f":"総括表①!E3","v":"Ver.05.00"},null,"団体名",{"$f":"IF(総括表①!$D$10=\"-\",総括表①!$C$10,総括表①!$C$10&総括表①!$D$10)","v":""}]
[null,null,"（単位：千円）"]
[null,"法人名","損失補償債務等\n負担見込額","法人形態区分","備考"]
[1]
[2]
[3]
[4]
[5]
[6]
[7]
[8]
[9]
[10]
[11]
[12]
[13]
[14]
[15]
[16]
[17]
[18]
[19]
[20]
[null,"小計②",{"$f":"SUM(C36:C55)","v":0}]
[null,"（注）次の①②に掲げる額の算出過程について任意様式により資料を作成の上提出すること。"]
[null,"　①　当該法人の債務の総額から当該法人の所有する資産の時価による価額の合算額を控除した額"]
[null,"　②　当該法人の損失補償付債務の額"]
[]
[null,"（２）経営計画個別評価方式",null,{"$f":"総括表①!E3","v":"Ver.05.00"},null,"団体名",{"$f":"IF(総括表①!$D$10=\"-\",総括表①!$C$10,総括表①!$C$10&総括表①!$D$10)","v":""}]
[null,null,"（単位：千円）"]
[null,"法人名","損失補償債務等\n負担見込額","法人形態区分","備考"]
[1]
[2]
[3]
[4]
[5]
[6]
[7]
[8]
[9]
[10]
[11]
[12]
[13]
[14]
[15]
[16]
[17]
[18]
[19]
[20]
[null,"小計③",{"$f":"SUM(C64:C83)","v":0}]
[null,"（注）損失補償債務等負担見込額の算出過程について任意様式により資料を作成の上提出すること。"]
[null,null,null,null,null,"団体名",{"$f":"IF(総括表①!$D$10=\"-\",総括表①!$C$10,総括表①!$C$10&総括表①!$D$10)","v":""}]
[null,null,null,{"$f":"総括表①!E3","v":"Ver.05.00"}]
[]
[null,"（３）損失補償付債務償還費補助評価方式"]
[null,null,"（単位：千円）"]
[null,"法人名","損失補償債務等\n負担見込額","法人形態区分","備考"]
[1]
[2]
[3]
[4]
[5]
[6]
[7]
[8]
[9]
[10]
[11]
[12]
[13]
[14]
[15]
[16]
[17]
[18]
[19]
[20]
[null,"小計④",{"$f":"SUM(C92:C111)","v":0}]
[null,"（注）損失補償債務等負担見込額の算出過程について任意様式により資料を作成の上提出すること。"]
[]
["３　公的信用保証、制度融資等に係る損失補償"]
[null,null,null,{"$f":"総括表①!E3","v":"Ver.05.00"},null,null,null,"団体名",{"$f":"IF(総括表①!$D$10=\"-\",総括表①!$C$10,総括表①!$C$10&総括表①!$D$10)","v":""}]
["（１）公的信用保証に係る損失補償"]
[null,null,null,null,null,"（単位：千円）"]
[null,"公的保証機関名","損失補償付債務残高\n\nA","平均残存年数\n（年）\nB","損失補償実行率\n\nC","損失補償債務等\n負担見込額\nD\n（A×B×C）","法人形態区分","備考"]
[1,null,null,null,null,{"$f":"ROUND(C120*D120*E120,0)","v":0}]
[2,null,null,null,null,{"$f":"ROUND(C121*D121*E121,0)","v":0}]
[3,null,null,null,null,0]
[4,null,null,null,null,0]
[5,null,null,null,null,0]
[6,null,null,null,null,0]
[7,null,null,null,null,0]
[8,null,null,null,null,0]
[9,null,null,null,null,0]
[10,null,null,null,null,0]
[11,null,null,null,null,0]
[12,null,null,null,null,0]
[13,null,null,null,null,0]
[14,null,null,null,null,0]
[15,null,null,null,null,0]
[16,null,null,null,null,0]
[17,null,null,null,null,0]
[18,null,null,null,null,0]
[19,null,null,null,null,0]
[20,null,null,null,null,0]
[null,null,null,null,"小計⑤",{"$f":"SUM(F120:F139)","v":0}]
[null,"（注）平均残存年数は、加重平均により求めた数とし、１年未満については12ヶ月で除し、小数点第２位未満を四捨五入すること。"]
[null,null,null,null,null,null,null,"団体名",{"$f":"IF(総括表①!$D$10=\"-\",総括表①!$C$10,総括表①!$C$10&総括表①!$D$10)","v":""}]
["（２）制度融資等に係る損失補償",null,null,{"$f":"総括表①!E3","v":"Ver.05.00"}]
[null,null,null,null,null,"（単位：千円）"]
[null,"制度融資名","損失補償付債務残高\n\nA","平均残存年数\n（年）\nB","損失補償実行率\n\nC","損失補償債務等\n負担見込額\nD\n（A×B×C）","法人形態区分","備考"]
[1,null,null,null,null,{"$f":"ROUND(C146*D146*E146,0)","v":0}]
[2,null,null,null,null,{"$f":"ROUND(C147*D147*E147,0)","v":0}]
[3,null,null,null,null,0]
[4,null,null,null,null,0]
[5,null,null,null,null,0]
[6,null,null,null,null,0]
[7,null,null,null,null,0]
[8,null,null,null,null,0]
[9,null,null,null,null,0]
[10,null,null,null,null,0]
[11,null,null,null,null,0]
[12,null,null,null,null,0]
[13,null,null,null,null,0]
[14,null,null,null,null,0]
[15,null,null,null,null,0]
[16,null,null,null,null,0]
[17,null,null,null,null,0]
[18,null,null,null,null,0]
[19,null,null,null,null,0]
[20,null,null,null,null,0]
[null,null,null,null,"小計⑥",{"$f":"SUM(F146:F165)","v":0}]
[null,"（注）平均残存年数は、加重平均により求めた数とし、１年未満については12ヶ月で除し、小数点第２位未満を四捨五入すること。"]
[null,null,null,null,null,"団体名",{"$f":"IF(総括表①!$D$10=\"-\",総括表①!$C$10,総括表①!$C$10&総括表①!$D$10)","v":""}]
[null,null,null,{"$f":"総括表①!E3","v":"Ver.05.00"}]
[]
["４　その他の形態の損失補償・債務保証"]
[null,null,"（単位：千円）"]
[null,"法人名","損失補償債務等\n負担見込額","法人形態区分","備考"]
[1]
[2]
[3]
[4]
[5]
[6]
[7]
[8]
[9]
[10]
[11]
[12]
[13]
[14]
[15]
[16]
[17]
[18]
[19]
[20]
[null,"小計⑦",{"$f":"SUM(C174:C193)","v":0}]
[null,"（注）損失補償債務等負担見込額（過去の実績等に基づき合理的と考えられる手法で算定した額）の算出過程について任意様式により資料を作成の上提出すること。"]
[]
["５　合計額（①＋②＋③＋④＋⑤＋⑥＋⑦）"]
[null,null,"（単位：千円）","（分母比）"]
[null,{"$f":"SUM(G30,C56,C84,C112,F140,F166,C194)","v":0},null,{"$f":"IF(B199=0,\"\",IF(総括表④!$H$18=0,\"-\",ROUND(B199/総括表④!$H$18*100,1)))","v":""}]
[]
["※","入力に当たっては、以下について必ず参照願います。"]
["①","「損失補償債務等に係る一般会計等負担見込額の算定に関する基準（総務省告示第242号）」\n\n"]
["②","平成20年8月4日付け「地方公共団体の財政の健全化に関する法律施行規則第12条第5号の規定に基づく損失補償債務等に係る一般会計等負担見込額の算定に関する基準に係る留意事項について（通知）」"]
[]
["③","告示の改正"]

{"sheet":"４⑥G","index":20,"n_rows":40,"n_cols":8,"rows_kept":40,"cut":false,"hidden":false,"merged":[[0,5,1,5],[0,6,1,6],[42,2,42,9],[43,2,44,9],[27,6,27,7],[28,6,28,7],[29,6,29,7],[30,6,30,7],[31,6,31,7],[32,6,32,7]]}
[null,null,null,null,null,"団体名",{"$f":"IF(総括表①!$D$10=\"-\",総括表①!$C$10,総括表①!$C$10&総括表①!$D$10)","v":""}]
[null,null,null,null,{"$f":"総括表①!$E$3","v":"Ver.05.00"}]
[]
[null,"（注）金額については、千円未満四捨五入"]
[]
[null,"１　信託法の施行に伴う関係法律の整備等に関する法律（平成十八年法律第百九号）による改正前の信託法（大正十一年法律第六十二号）（「旧信託法」）に基づく信託"]
[null,null,null,"（単位：千円）"]
[null,null,"事業名","一般会計等負担見込額","受託者","信託契約の期間","特約の有無","備考"]
[null,"旧-1",null,null,null,"S  .  .  ～H  .  .  "]
[null,"旧-2",null,null,null,"S  .  .  ～H  .  .  "]
[null,"旧-3",null,null,null,"S  .  .  ～H  .  .  "]
[null,"旧-4",null,null,null,"S  .  .  ～H  .  .  "]
[null,"旧-5",null,null,null,"S  .  .  ～H  .  .  "]
[null,null,"小計①",{"$f":"SUM(D9:D13)","v":0}]
[]
[null,"２　信託法（平成十八年法律第百八号）（「新信託法」）に基づく信託（３を除く）"]
[null,null,null,"（単位：千円）"]
[null,null,"事業名","一般会計等負担見込額","受託者","信託契約の期間","合意の有無","備考"]
[null,"新-1",null,null,null,"H  .  .  ～H  .  .  "]
[null,"新-2",null,null,null,"H  .  .  ～H  .  .  "]
[null,"新-3",null,null,null,"H  .  .  ～H  .  .  "]
[null,"新-4",null,null,null,"H  .  .  ～H  .  .  "]
[null,"新-5",null,null,null,"H  .  .  ～H  .  .  "]
[null,null,"小計②",{"$f":"SUM(D19:D23)","v":0}]
[]
[null,"３　信託の目的である建物の建設若しくは土地の造成が完了していないもの又は完了後から３年を経過していないもの"]
[null,null,null,"（単位：千円）"]
[null,null,"事業名","一般会計等負担見込額","受託者","信託契約の期間","備考"]
[null,1]
[null,2]
[null,3]
[null,4]
[null,5]
[null,null,"小計③",{"$f":"SUM(D29:D33)","v":0}]
[null,null,"（注１）備考欄には完了（予定）年度を明記すること。"]
[null,null,"（注２）事業の実態等から判断して、一般会計等の負担見込額を０とすることが不適当である場合は、２も参考に一般会計等の負担見込額を算出し、算出過程について任意様式により資料を作成の上提出すること。"]
[]
[null,"４　合計額（①＋②＋③）"]
[null,null,null,"（単位：千円）"]
[null,null,{"$f":"SUM(D14,D24,D34)","v":0}]

{"sheet":"４⑥H","index":21,"n_rows":144,"n_cols":11,"rows_kept":144,"cut":false,"hidden":false,"merged":[[108,9,108,10],[109,9,109,10],[110,9,110,10],[102,9,102,10],[103,9,103,10],[104,9,104,10],[146,1,146,10],[147,1,148,10],[0,6,1,6],[0,7,1,7],[105,9,105,10],[106,9,106,10],[107,9,107,10],[96,9,96,10],[97,9,97,10],[98,9,98,10],[99,9,99,10],[100,9,100,10],[101,9,101,10],[90,9,90,10],[91,9,91,10],[92,9,92,10],[93,9,93,10],[94,9,94,10],[95,9,95,10]]}
[null,null,null,null,null,null,"団体名",{"$f":"IF(総括表①!$D$10=\"-\",総括表①!$C$10,総括表①!$C$10&総括表①!$D$10)","v":""}]
[null,null,null,null,{"$f":"総括表①!$E$3","v":"Ver.05.00"}]
[]
[null,"（注１）算入率及び預託金の減少率等については、小数点第１位未満四捨五入（％表示ベース）"]
[null,"（注２）金額については、千円未満四捨五入"]
[]
["１　標準評価方式"]
[null,null,null,null,null,null,null,"（単位：千円）"]
[null,"対象法人の法人名","特定短期貸付金等の額\n\nＡ","Aのうち、年度末に損失補償付債務を原資として返済された額\nＢ","信用補完\n実行見込額\nＣ","対象となる\n特定短期貸付金等の額\nＤ","算入率\n\nＥ","特定短期貸付金等に\n係る一般会計等負担見込額\nＦ\n（D×E）","特定短期貸付金等の種類","法人形態","備考"]
[1,null,null,null,null,null,null,{"$f":"ROUND(F10*G10,0)","v":0}]
[2,null,null,null,null,null,null,0]
[3,null,null,null,null,null,null,0]
[4,null,null,null,null,null,null,0]
[5,null,null,null,null,null,null,0]
[6,null,null,null,null,null,null,0]
[7,null,null,null,null,null,null,0]
[8,null,null,null,null,null,null,0]
[9,null,null,null,null,null,null,0]
[10,null,null,null,null,null,null,0]
[11,null,null,null,null,null,null,0]
[12,null,null,null,null,null,null,0]
[13,null,null,null,null,null,null,0]
[14,null,null,null,null,null,null,0]
[15,null,null,null,null,null,null,0]
[16,null,null,null,null,null,null,0]
[17,null,null,null,null,null,null,0]
[18,null,null,null,null,null,null,0]
[19,null,null,null,null,null,null,0]
[20,null,null,null,null,null,null,0]
[null,null,null,null,null,null,"小計①",{"$f":"SUM(H10:H29)","v":0}]
[]
["２　個別評価方式"]
[null,"（１）資産債務個別評価方式"]
[null,null,"（単位：千円）"]
[null,"対象法人の法人名","特定短期貸付金等の額に係る一般会計等負担見込額","特定短期貸付金等の額","特定短期貸付金等\nの種類","法人形態","備考"]
[1]
[2]
[3]
[4]
[5]
[6]
[7]
[8]
[9]
[10]
[11]
[12]
[13]
[14]
[15]
[16]
[17]
[18]
[19]
[20]
[null,"小計②",{"$f":"SUM(C36:C55)","v":0}]
[null,"（注）次の①②に掲げる額の算出過程について任意様式により資料を作成の上提出すること。"]
[null,"　①　当該法人の債務の総額から当該法人の所有する資産の時価による価額の合算額を控除した額"]
[null,"　②　当該法人に対する特定短期貸付金等の額"]
[]
[null,"（２）経営計画個別評価方式"]
[null,null,"（単位：千円）"]
[null,"対象法人の法人名","特定短期貸付金等に\n係る一般会計等負担見込額","特定短期貸付金等の額","特定短期貸付金等\nの種類","法人形態","備考"]
[1]
[2]
[3]
[4]
[5]
[6]
[7]
[8]
[9]
[10]
[11]
[12]
[13]
[14]
[15]
[16]
[17]
[18]
[19]
[20]
[null,"小計③",{"$f":"SUM(C64:C83)","v":0}]
[null,"（注）特定短期貸付金に係る一般会計等負担見込額の算出過程について、任意様式により資料を作成の上提出すること。"]
[]
[]
["３　制度融資等における特定短期貸付金"]
[]
[null,null,null,null,null,null,"（単位：千円）"]
[null,"制度融資等の名称","預託金等の額のうち\n特定短期貸付金等の額\nA","Ａのうち損失補償を\n付しているものの額\nB","Ｃ\n\n（Ａ－Ｂ）","預託金の減少率等\n\nＤ","特定短期貸付金等に係る一般会計等負担見込額\nＥ\n（Ｃ×Ｄ）","特定短期貸付金等\nの種類","法人形態","備考"]
[1,null,null,null,{"$f":"+C92-D92","v":0},null,{"$f":"ROUND(E92*F92,0)","v":0}]
[2,null,null,null,{"$f":"+C93-D93","v":0},null,{"$f":"ROUND(E93*F93,0)","v":0}]
[3,null,null,null,0,null,0]
[4,null,null,null,0,null,0]
[5,null,null,null,0,null,0]
[6,null,null,null,0,null,0]
[7,null,null,null,0,null,0]
[8,null,null,null,0,null,0]
[9,null,null,null,0,null,0]
[10,null,null,null,0,null,0]
[11,null,null,null,0,null,0]
[12,null,null,null,0,null,0]
[13,null,null,null,0,null,0]
[14,null,null,null,0,null,0]
[15,null,null,null,0,null,0]
[16,null,null,null,0,null,0]
[17,null,null,null,0,null,0]
[18,null,null,null,0,null,0]
[19,null,null,null,0,null,0]
[20,null,null,null,0,null,0]
[null,null,null,null,null,"小計④",{"$f":"SUM(G92:G111)","v":0}]
[]
[]
["４　その他の形態の特定短期貸付金"]
[null,null,"（単位：千円）"]
[null,"法人名","特定短期貸付金等に\n係る一般会計等負担見込額","特定短期貸付金等の額","特定短期貸付金等\nの種類","法人形態","備考"]
[1]
[2]
[3]
[4]
[5]
[6]
[7]
[8]
[9]
[10]
[11]
[12]
[13]
[14]
[15]
[16]
[17]
[18]
[19]
[20]
[null,"小計⑤",{"$f":"SUM(C118:C137)","v":0}]
[null,"（注）法人格を有しない者い対し特定短期貸付金等の貸付けを行っている場合は、法人形態コード「16」を選択の上、当該項目へ記入すること。"]
[null,"（注）特定短期貸付金等に係る一般会計等負担見込額（過去の実績等に基づき合理的と考えられる手法で算定した額）の算出過程について、任意様式により資料を作成の上提出すること。"]
[]
["５　合計額（①＋②＋③＋④＋⑤）"]
[null,null,"（単位：千円）"]
[null,{"$f":"SUM(H30,C56,C84,G112,C138)","v":0}]

{"sheet":"４⑦","index":22,"n_rows":640,"n_cols":33,"rows_kept":640,"cut":false,"hidden":false,"merged":[[621,4,621,5],[622,13,622,14],[613,19,613,21],[625,4,625,5],[625,6,625,7],[625,11,625,12],[625,13,625,14],[625,15,625,17],[622,15,622,17],[620,13,620,14],[620,15,620,17],[626,4,626,5],[626,6,626,7],[626,11,626,12],[622,6,622,7],[627,6,627,7],[627,11,627,12],[622,11,622,12],[627,15,627,17],[623,13,623,14],[623,15,623,17],[626,15,626,17],[624,11,624,12],[624,13,624,14],[624,15,624,17],[626,13,626,14],[627,13,627,14],[618,13,618,14],[618,15,618,17],[618,11,618,12],[623,1,627,1],[623,2,627,3],[623,4,623,5],[623,6,623,7],[623,8,627,9],[623,11,623,12],[627,4,627,5],[619,15,619,17],[618,1,622,1],[618,2,622,3],[618,4,618,5],[618,6,618,7],[618,8,622,9],[621,6,621,7],[621,11,621,12],[621,13,621,14],[621,15,621,17],[628,13,628,14],[632,4,632,5],[632,6,632,7],[632,11,632,12],[619,4,619,5],[619,6,619,7],[619,11,619,12],[619,13,619,14],[624,4,624,5],[624,6,624,7],[635,4,635,5],[635,6,635,7],[635,11,635,12],[635,13,635,14],[635,15,635,17],[630,13,630,14],[630,15,630,17],[634,15,634,17],[634,13,634,14],[620,4,620,5],[620,6,620,7],[620,11,620,12],[622,4,622,5],[634,11,634,12],[630,6,630,7],[630,11,630,12],[629,11,629,12],[631,4,631,5],[631,6,631,7],[612,13,612,14],[633,13,633,14],[638,11,638,12],[638,13,638,14],[637,13,637,14],[637,15,637,17],[617,11,617,12],[617,13,617,14],[617,15,617,17],[614,13,614,14],[609,15,609,16],[607,13,608,14],[607,15,608,16],[636,11,636,12],[209,13,210,14],[209,15,210,16],[213,13,214,14],[213,15,214,16],[217,13,218,14],[217,15,218,16],[612,26,612,27],[633,15,633,17],[612,19,612,21],[609,17,609,18],[612,15,612,17],[1,19,1,21],[4,15,4,16],[4,17,4,18],[4,19,4,21],[135,15,135,16],[633,2,637,3],[633,4,633,5],[633,6,633,7],[633,8,637,9],[637,6,637,7],[636,4,636,5],[636,6,636,7],[634,4,634,5],[634,6,634,7],[637,4,637,5],[636,13,636,14],[208,22,208,23],[612,22,612,23],[607,17,608,18],[607,19,608,21],[636,15,636,17],[605,19,606,21],[208,15,208,16],[591,19,592,21],[593,13,594,14],[215,4,216,5],[637,11,637,12],[633,11,633,12],[589,17,590,18],[612,4,612,5],[612,6,612,7],[612,8,612,9],[612,11,612,12],[605,15,606,16],[605,17,606,18],[221,4,222,5],[221,6,222,7],[225,4,226,5],[225,6,226,7],[589,19,590,21],[589,15,590,16],[221,13,222,14],[221,15,222,16],[221,17,222,18],[221,19,222,21],[208,6,208,7],[593,6,594,7],[605,13,606,14],[593,19,594,21],[595,13,596,14],[607,4,608,5],[607,6,608,7],[605,4,606,5],[605,6,606,7],[208,13,208,14],[209,1,228,1],[209,2,228,3],[209,4,210,5],[209,6,210,7],[213,4,214,5],[213,6,214,7],[217,4,218,5],[217,6,218,7],[211,4,212,5],[211,6,212,7],[208,26,208,27],[205,17,205,18],[589,2,608,3],[589,4,590,5],[589,6,590,7],[589,8,608,9],[589,13,590,14],[593,4,594,5],[208,4,208,5],[208,19,208,21],[208,8,208,9],[208,17,208,18],[205,15,205,16],[125,15,125,16],[125,17,125,18],[125,19,134,21],[126,15,126,16],[126,17,126,18],[127,15,127,16],[127,17,127,18],[195,17,195,18],[195,19,204,21],[125,1,134,1],[125,2,134,3],[125,4,125,5],[125,6,125,7],[125,8,134,9],[125,10,134,14],[126,4,126,5],[126,6,126,7],[127,4,127,5],[127,6,127,7],[5,19,14,21],[13,4,13,5],[5,17,5,18],[5,15,5,16],[13,6,13,7],[13,15,13,16],[14,17,14,18],[6,17,6,18],[7,17,7,18],[8,17,8,18],[123,4,123,5],[123,6,123,7],[123,15,123,16],[123,17,123,18],[7,15,7,16],[8,15,8,16],[9,15,9,16],[121,4,121,5],[124,4,124,5],[124,6,124,7],[124,15,124,16],[124,17,124,18],[5,2,14,3],[5,4,5,5],[5,6,5,7],[5,8,14,9],[5,10,14,14],[11,15,11,16],[4,4,4,5],[4,6,4,7],[4,8,4,9],[4,10,4,14],[13,17,13,18],[11,4,11,5],[11,6,11,7],[12,4,12,5],[12,6,12,7],[6,15,6,16],[121,6,121,7],[121,15,121,16],[121,17,121,18],[122,4,122,5],[122,6,122,7],[122,15,122,16],[122,17,122,18],[118,4,118,5],[118,6,118,7],[119,4,119,5],[119,6,119,7],[119,17,119,18],[120,4,120,5],[120,6,120,7],[120,15,120,16],[120,17,120,18],[115,15,115,16],[115,17,115,18],[115,19,124,21],[116,15,116,16],[116,17,116,18],[117,15,117,16],[117,17,117,18],[118,15,118,16],[118,17,118,18],[119,15,119,16],[115,1,124,1],[115,2,124,3],[115,4,115,5],[115,6,115,7],[115,8,124,9],[115,10,124,14],[116,4,116,5],[116,6,116,7],[117,4,117,5],[117,6,117,7],[195,2,204,3],[195,4,195,5],[195,6,195,7],[195,8,204,9],[195,10,204,14],[195,15,195,16],[199,6,199,7],[200,4,200,5],[200,6,200,7],[198,15,198,16],[203,4,203,5],[203,6,203,7],[203,15,203,16],[203,17,203,18],[204,4,204,5],[204,6,204,7],[204,15,204,16],[204,17,204,18],[113,4,113,5],[113,6,113,7],[113,15,113,16],[113,17,113,18],[114,4,114,5],[114,6,114,7],[114,15,114,16],[114,17,114,18],[111,4,111,5],[111,6,111,7],[111,15,111,16],[111,17,111,18],[112,4,112,5],[112,6,112,7],[112,15,112,16],[112,17,112,18],[108,4,108,5],[109,4,109,5],[109,15,109,16],[109,17,109,18],[110,4,110,5],[110,6,110,7],[110,15,110,16],[110,17,110,18],[105,17,105,18],[105,19,114,21],[106,17,106,18],[107,6,107,7],[107,15,107,16],[107,17,107,18],[108,6,108,7],[108,15,108,16],[108,17,108,18],[109,6,109,7],[105,2,114,3],[105,4,105,5],[105,6,105,7],[105,8,114,9],[105,10,114,14],[105,15,105,16],[106,4,106,5],[106,6,106,7],[106,15,106,16],[107,4,107,5],[103,4,103,5],[103,6,103,7],[103,15,103,16],[103,17,103,18],[104,4,104,5],[104,6,104,7],[104,15,104,16],[104,17,104,18],[101,4,101,5],[101,6,101,7],[101,15,101,16],[101,17,101,18],[102,4,102,5],[102,6,102,7],[102,15,102,16],[102,17,102,18],[99,4,99,5],[99,6,99,7],[99,15,99,16],[99,17,99,18],[100,4,100,5],[100,6,100,7],[100,15,100,16],[100,17,100,18],[201,4,201,5],[201,6,201,7],[202,4,202,5],[202,6,202,7],[201,15,201,16],[201,17,201,18],[202,15,202,16],[98,4,98,5],[98,6,98,7],[98,15,98,16],[98,17,98,18],[11,17,11,18],[12,15,12,16],[12,17,12,18],[14,4,14,5],[14,6,14,7],[14,15,14,16],[96,4,96,5],[96,6,96,7],[96,15,96,16],[96,17,96,18],[202,17,202,18],[95,19,104,21],[97,4,97,5],[97,6,97,7],[97,15,97,16],[97,17,97,18],[94,4,94,5],[94,6,94,7],[94,15,94,16],[94,17,94,18],[95,4,95,5],[95,6,95,7],[95,8,104,9],[95,10,104,14],[95,15,95,16],[95,17,95,18],[92,4,92,5],[92,6,92,7],[92,15,92,16],[92,17,92,18],[93,4,93,5],[93,6,93,7],[93,15,93,16],[93,17,93,18],[90,4,90,5],[90,6,90,7],[90,15,90,16],[90,17,90,18],[91,4,91,5],[91,6,91,7],[91,15,91,16],[91,17,91,18],[87,17,87,18],[88,4,88,5],[88,6,88,7],[88,15,88,16],[88,17,88,18],[89,4,89,5],[89,6,89,7],[89,15,89,16],[89,17,89,18],[4,1,4,3],[5,1,14,1],[195,1,204,1],[25,1,34,1],[25,2,34,3],[35,1,44,1],[35,2,44,3],[95,1,104,1],[95,2,104,3],[105,1,114,1],[85,15,85,16],[85,17,85,18],[85,19,94,21],[86,4,86,5],[86,6,86,7],[86,15,86,16],[86,17,86,18],[87,4,87,5],[87,6,87,7],[87,15,87,16],[589,1,608,1],[6,6,6,7],[7,6,7,7],[8,6,8,7],[9,6,9,7],[10,6,10,7],[198,4,198,5],[198,6,198,7],[199,4,199,5],[208,1,208,3],[9,17,9,18],[10,15,10,16],[10,17,10,18],[196,4,196,5],[196,6,196,7],[197,4,197,5],[197,6,197,7],[196,15,196,16],[196,17,196,18],[197,15,197,16],[197,17,197,18],[198,17,198,18],[199,15,199,16],[199,17,199,18],[200,15,200,16],[200,17,200,18],[15,1,24,1],[15,2,24,3],[15,4,15,5],[15,6,15,7],[15,8,24,9],[15,19,24,21],[16,4,16,5],[16,6,16,7],[16,15,16,16],[16,17,16,18],[17,6,17,7],[17,15,17,16],[17,17,17,18],[18,4,18,5],[18,6,18,7],[18,15,18,16],[18,17,18,18],[15,10,24,14],[15,15,15,16],[15,17,15,18],[19,6,19,7],[19,15,19,16],[19,17,19,18],[20,4,20,5],[20,6,20,7],[20,15,20,16],[20,17,20,18],[17,4,17,5],[21,4,21,5],[21,6,21,7],[21,15,21,16],[21,17,21,18],[22,4,22,5],[22,6,22,7],[22,15,22,16],[22,17,22,18],[19,4,19,5],[23,4,23,5],[23,6,23,7],[23,15,23,16],[23,17,23,18],[24,4,24,5],[24,6,24,7],[24,15,24,16],[24,17,24,18],[25,4,25,5],[25,6,25,7],[25,8,34,9],[25,10,34,14],[25,15,25,16],[25,17,25,18],[28,6,28,7],[28,15,28,16],[28,17,28,18],[29,4,29,5],[25,19,34,21],[26,4,26,5],[26,6,26,7],[26,15,26,16],[26,17,26,18],[27,4,27,5],[27,6,27,7],[27,15,27,16],[27,17,27,18],[28,4,28,5],[29,6,29,7],[29,15,29,16],[29,17,29,18],[30,4,30,5],[30,6,30,7],[30,15,30,16],[30,17,30,18],[31,4,31,5],[31,6,31,7],[31,15,31,16],[31,17,31,18],[32,4,32,5],[32,6,32,7],[32,15,32,16],[32,17,32,18],[33,4,33,5],[33,6,33,7],[33,15,33,16],[33,17,33,18],[34,4,34,5],[34,6,34,7],[34,15,34,16],[34,17,34,18],[35,4,35,5],[35,6,35,7],[35,8,44,9],[35,10,44,14],[35,15,35,16],[35,17,35,18],[38,6,38,7],[38,15,38,16],[38,17,38,18],[39,4,39,5],[35,19,44,21],[36,4,36,5],[36,6,36,7],[36,15,36,16],[36,17,36,18],[37,4,37,5],[37,6,37,7],[37,15,37,16],[37,17,37,18],[38,4,38,5],[39,6,39,7],[39,15,39,16],[39,17,39,18],[40,4,40,5],[40,6,40,7],[40,15,40,16],[40,17,40,18],[41,4,41,5],[41,6,41,7],[41,15,41,16],[41,17,41,18],[42,4,42,5],[42,6,42,7],[42,15,42,16],[42,17,42,18],[43,4,43,5],[43,6,43,7],[43,15,43,16],[43,17,43,18],[44,4,44,5],[44,6,44,7],[44,15,44,16],[44,17,44,18],[45,1,54,1],[45,2,54,3],[45,4,45,5],[45,6,45,7],[45,8,54,9],[45,10,54,14],[50,4,50,5],[50,6,50,7],[52,4,52,5],[52,6,52,7],[45,15,45,16],[45,17,45,18],[45,19,54,21],[46,4,46,5],[46,6,46,7],[46,15,46,16],[46,17,46,18],[47,4,47,5],[47,6,47,7],[47,15,47,16],[47,17,47,18],[48,4,48,5],[48,6,48,7],[48,15,48,16],[48,17,48,18],[49,4,49,5],[49,6,49,7],[49,15,49,16],[49,17,49,18],[50,15,50,16],[50,17,50,18],[51,4,51,5],[51,6,51,7],[51,15,51,16],[51,17,51,18],[52,15,52,16],[52,17,52,18],[53,4,53,5],[53,6,53,7],[53,15,53,16],[53,17,53,18],[54,4,54,5],[54,6,54,7],[54,15,54,16],[54,17,54,18],[55,1,64,1],[55,2,64,3],[55,4,55,5],[55,6,55,7],[55,8,64,9],[55,10,64,14],[55,15,55,16],[55,17,55,18],[55,19,64,21],[56,4,56,5],[56,6,56,7],[56,15,56,16],[56,17,56,18],[57,4,57,5],[57,6,57,7],[57,15,57,16],[57,17,57,18],[58,4,58,5],[58,6,58,7],[58,15,58,16],[58,17,58,18],[59,4,59,5],[59,6,59,7],[59,15,59,16],[59,17,59,18],[60,4,60,5],[60,6,60,7],[60,15,60,16],[60,17,60,18],[61,4,61,5],[61,6,61,7],[61,15,61,16],[61,17,61,18],[62,4,62,5],[62,6,62,7],[62,15,62,16],[62,17,62,18],[63,4,63,5],[63,6,63,7],[63,15,63,16],[63,17,63,18],[64,4,64,5],[64,6,64,7],[64,15,64,16],[64,17,64,18],[65,1,74,1],[65,2,74,3],[65,4,65,5],[65,6,65,7],[65,8,74,9],[65,10,74,14],[65,15,65,16],[65,17,65,18],[65,19,74,21],[66,4,66,5],[66,6,66,7],[66,15,66,16],[66,17,66,18],[67,4,67,5],[67,6,67,7],[67,15,67,16],[67,17,67,18],[68,4,68,5],[68,6,68,7],[68,15,68,16],[68,17,68,18],[69,4,69,5],[69,6,69,7],[69,15,69,16],[69,17,69,18],[70,4,70,5],[70,6,70,7],[70,15,70,16],[70,17,70,18],[71,4,71,5],[71,6,71,7],[71,15,71,16],[71,17,71,18],[72,4,72,5],[72,6,72,7],[72,15,72,16],[72,17,72,18],[73,4,73,5],[73,6,73,7],[73,15,73,16],[73,17,73,18],[74,4,74,5],[74,6,74,7],[74,15,74,16],[74,17,74,18],[75,1,84,1],[75,2,84,3],[75,4,75,5],[75,6,75,7],[75,8,84,9],[75,10,84,14],[75,15,75,16],[75,17,75,18],[75,19,84,21],[76,4,76,5],[76,6,76,7],[76,15,76,16],[76,17,76,18],[77,4,77,5],[77,6,77,7],[77,15,77,16],[77,17,77,18],[78,4,78,5],[78,6,78,7],[78,15,78,16],[78,17,78,18],[79,4,79,5],[79,6,79,7],[79,15,79,16],[79,17,79,18],[80,4,80,5],[80,6,80,7],[80,15,80,16],[80,17,80,18],[81,4,81,5],[81,6,81,7],[81,15,81,16],[81,17,81,18],[82,4,82,5],[82,6,82,7],[82,15,82,16],[82,17,82,18],[83,4,83,5],[83,6,83,7],[83,15,83,16],[83,17,83,18],[84,4,84,5],[84,6,84,7],[84,15,84,16],[84,17,84,18],[185,1,194,1],[185,2,194,3],[185,4,185,5],[185,6,185,7],[185,8,194,9],[185,10,194,14],[185,15,185,16],[185,17,185,18],[185,19,194,21],[186,4,186,5],[186,6,186,7],[186,15,186,16],[186,17,186,18],[187,4,187,5],[187,6,187,7],[187,15,187,16],[187,17,187,18],[188,4,188,5],[188,6,188,7],[188,15,188,16],[188,17,188,18],[189,4,189,5],[189,6,189,7],[189,15,189,16],[189,17,189,18],[190,4,190,5],[190,6,190,7],[190,15,190,16],[190,17,190,18],[191,4,191,5],[191,6,191,7],[191,15,191,16],[191,17,191,18],[192,6,192,7],[192,15,192,16],[192,17,192,18],[193,4,193,5],[193,6,193,7],[193,15,193,16],[193,17,193,18],[194,6,194,7],[194,15,194,16],[194,17,194,18],[85,1,94,1],[85,2,94,3],[85,4,85,5],[85,6,85,7],[85,8,94,9],[85,10,94,14],[192,4,192,5],[128,4,128,5],[128,6,128,7],[128,15,128,16],[128,17,128,18],[129,4,129,5],[129,6,129,7],[129,15,129,16],[129,17,129,18],[130,4,130,5],[130,6,130,7],[130,15,130,16],[130,17,130,18],[131,4,131,5],[131,6,131,7],[131,15,131,16],[131,17,131,18],[132,4,132,5],[132,6,132,7],[132,15,132,16],[132,17,132,18],[133,4,133,5],[133,6,133,7],[133,15,133,16],[133,17,133,18],[134,4,134,5],[134,6,134,7],[134,15,134,16],[134,17,134,18],[135,1,144,1],[135,2,144,3],[135,4,135,5],[135,6,135,7],[135,8,144,9],[135,10,144,14],[135,17,135,18],[135,19,144,21],[136,4,136,5],[136,6,136,7],[136,15,136,16],[136,17,136,18],[137,4,137,5],[137,6,137,7],[137,15,137,16],[137,17,137,18],[138,4,138,5],[138,6,138,7],[138,15,138,16],[138,17,138,18],[139,4,139,5],[139,6,139,7],[139,15,139,16],[139,17,139,18],[140,4,140,5],[140,6,140,7],[140,15,140,16],[140,17,140,18],[141,4,141,5],[141,6,141,7],[141,15,141,16],[141,17,141,18],[142,4,142,5],[142,6,142,7],[142,15,142,16],[142,17,142,18],[143,4,143,5],[143,6,143,7],[143,15,143,16],[143,17,143,18],[144,4,144,5],[144,6,144,7],[144,15,144,16],[144,17,144,18],[145,1,154,1],[145,2,154,3],[145,4,145,5],[145,6,145,7],[145,8,154,9],[145,10,154,14],[145,15,145,16],[145,17,145,18],[145,19,154,21],[146,4,146,5],[146,6,146,7],[146,15,146,16],[146,17,146,18],[147,4,147,5],[147,6,147,7],[147,15,147,16],[147,17,147,18],[148,4,148,5],[148,6,148,7],[148,15,148,16],[148,17,148,18],[149,4,149,5],[149,6,149,7],[149,15,149,16],[149,17,149,18],[150,4,150,5],[150,6,150,7],[150,15,150,16],[150,17,150,18],[151,4,151,5],[151,6,151,7],[151,15,151,16],[151,17,151,18],[152,4,152,5],[152,6,152,7],[152,15,152,16],[152,17,152,18],[153,4,153,5],[153,6,153,7],[153,15,153,16],[153,17,153,18],[154,4,154,5],[154,6,154,7],[154,15,154,16],[154,17,154,18],[155,1,164,1],[155,2,164,3],[155,4,155,5],[155,6,155,7],[155,8,164,9],[155,10,164,14],[155,15,155,16],[155,17,155,18],[155,19,164,21],[156,4,156,5],[156,6,156,7],[156,15,156,16],[156,17,156,18],[157,4,157,5],[157,6,157,7],[157,15,157,16],[157,17,157,18],[158,4,158,5],[158,6,158,7],[158,15,158,16],[158,17,158,18],[159,4,159,5],[159,6,159,7],[159,15,159,16],[159,17,159,18],[160,4,160,5],[160,6,160,7],[160,15,160,16],[160,17,160,18],[161,4,161,5],[161,6,161,7],[161,15,161,16],[161,17,161,18],[162,4,162,5],[162,6,162,7],[162,15,162,16],[162,17,162,18],[163,4,163,5],[163,6,163,7],[163,15,163,16],[163,17,163,18],[164,4,164,5],[164,6,164,7],[164,15,164,16],[164,17,164,18],[165,1,174,1],[165,2,174,3],[165,4,165,5],[165,6,165,7],[165,8,174,9],[165,10,174,14],[165,15,165,16],[165,17,165,18],[165,19,174,21],[166,4,166,5],[166,6,166,7]],"merged_total":2337,"flags":["merged_cut"]}
[]
[1,null,null,null,null,null,null,null,null,null,{"$f":"総括表①!E3","v":"Ver.05.00"},null,null,null,null,null,null,null,"団体名",{"$f":"IF(総括表①!$D$10=\"-\",総括表①!$C$10,総括表①!$C$10&総括表①!$D$10)","v":""},{"$f":"IF(総括表①!$D$10=\"-\",総括表①!$C$10,総括表①!$C$10&総括表①!$D$10)","v":""},{"$f":"IF(総括表①!$D$10=\"-\",総括表①!$C$10,総括表①!$C$10&総括表①!$D$10)","v":""}]
[1]
[1,"１　加入団体間で連結実質赤字のあん分方法が取り決められている組合",null,null,null,null,null,null,null,null,null,null,null,null,null,null,null,null,"（単位：千円）"]
[1,"組合名 (1)",null,null,"会計名 (2)",null,"実質赤字（黒字）額・資金不足（剰余）額 (3)",null,"連結実質赤字額 (4)",null,"取決め内容 (5)",null,null,null,null,"負担額 (6)※",null,"一般会計等\n負担額 (7)※",null,"理　由 (8)",null,null,"エラーメッセージ",null,null,null,"エラーメッセージ",null,null,null,null,"(6)の計算用","(7)の計算用"]
[1,1,null,null,null,null,null,null,{"$f":"IF(SUM(G6:H15)>=0,0,-1*SUM(G6:H15))","v":0},null,null,null,null,null,null,null,null,null,null,null,null,null,{"$f":"IF(G6=\"\",\"\",IF(SIGN(G6)=SIGN(P6),\"！(3)と(6)の符号が逆になっていません。\",\"\"))","v":""},null,null,null,{"$f":"IF(G6=\"\",\"\",IF(SIGN(G6)=SIGN(R6),\"！(3)と(7)の符号が逆になっていません。\",\"\"))","v":""},null,null,null,null,{"$f":"IF(AND(I6>0,SUM(P6:Q15)<=0)=TRUE,0,SUM(P6:Q15))","v":0},{"$f":"IF(AND(I6>0,SUM(R6:S15)<=0)=TRUE,0,SUM(R6:S15))","v":0}]
[1,null,null,null,null,null,null,null,null,null,null,null,null,null,null,null,null,null,null,null,null,null,"",null,null,null,""]
[1,null,null,null,null,null,null,null,null,null,null,null,null,null,null,null,null,null,null,null,null,null,"",null,null,null,""]
[1,null,null,null,null,null,null,null,null,null,null,null,null,null,null,null,null,null,null,null,null,null,"",null,null,null,""]
[1,null,null,null,null,null,null,null,null,null,null,null,null,null,null,null,null,null,null,null,null,null,"",null,null,null,""]
[null,null,null,null,null,null,null,null,null,null,null,null,null,null,null,null,null,null,null,null,null,null,"",null,null,null,""]
[null,null,null,null,null,null,null,null,null,null,null,null,null,null,null,null,null,null,null,null,null,null,"",null,null,null,""]
[null,null,null,null,null,null,null,null,null,null,null,null,null,null,null,null,null,null,null,null,null,null,"",null,null,null,""]
[null,null,null,null,null,null,null,null,null,null,null,null,null,null,null,null,null,null,null,null,null,null,"",null,null,null,""]
[null,null,null,null,null,null,null,null,null,null,null,null,null,null,null,null,null,null,null,null,null,null,"",null,null,null,""]
[1,2,null,null,null,null,null,null,{"$f":"IF(SUM(G16:H25)>=0,0,-1*SUM(G16:H25))","v":0},null,null,null,null,null,null,null,null,null,null,null,null,null,"",null,null,null,"",null,null,null,null,{"$f":"IF(AND(I16>0,SUM(P16:Q25)<=0)=TRUE,0,SUM(P16:Q25))","v":0},{"$f":"IF(AND(I16>0,SUM(R16:S25)<=0)=TRUE,0,SUM(R16:S25))","v":0}]
[1,null,null,null,null,null,null,null,null,null,null,null,null,null,null,null,null,null,null,null,null,null,"",null,null,null,""]
[1,null,null,null,null,null,null,null,null,null,null,null,null,null,null,null,null,null,null,null,null,null,"",null,null,null,""]
[1,null,null,null,null,null,null,null,null,null,null,null,null,null,null,null,null,null,null,null,null,null,"",null,null,null,""]
[1,null,null,null,null,null,null,null,null,null,null,null,null,null,null,null,null,null,null,null,null,null,"",null,null,null,""]
[null,null,null,null,null,null,null,null,null,null,null,null,null,null,null,null,null,null,null,null,null,null,"",null,null,null,""]
[null,null,null,null,null,null,null,null,null,null,null,null,null,null,null,null,null,null,null,null,null,null,"",null,null,null,""]
[null,null,null,null,null,null,null,null,null,null,null,null,null,null,null,null,null,null,null,null,null,null,"",null,null,null,""]
[null,null,null,null,null,null,null,null,null,null,null,null,null,null,null,null,null,null,null,null,null,null,"",null,null,null,""]
[null,null,null,null,null,null,null,null,null,null,null,null,null,null,null,null,null,null,null,null,null,null,"",null,null,null,""]
[null,3,null,null,null,null,null,null,{"$f":"IF(SUM(G26:H35)>=0,0,-1*SUM(G26:H35))","v":0},null,null,null,null,null,null,null,null,null,null,null,null,null,"",null,null,null,"",null,null,null,null,{"$f":"IF(AND(I26>0,SUM(P26:Q35)<=0)=TRUE,0,SUM(P26:Q35))","v":0},{"$f":"IF(AND(I26>0,SUM(R26:S35)<=0)=TRUE,0,SUM(R26:S35))","v":0}]
[null,null,null,null,null,null,null,null,null,null,null,null,null,null,null,null,null,null,null,null,null,null,"",null,null,null,""]
[null,null,null,null,null,null,null,null,null,null,null,null,null,null,null,null,null,null,null,null,null,null,"",null,null,null,""]
[null,null,null,null,null,null,null,null,null,null,null,null,null,null,null,null,null,null,null,null,null,null,"",null,null,null,""]
[null,null,null,null,null,null,null,null,null,null,null,null,null,null,null,null,null,null,null,null,null,null,"",null,null,null,""]
[null,null,null,null,null,null,null,null,null,null,null,null,null,null,null,null,null,null,null,null,null,null,"",null,null,null,""]
[null,null,null,null,null,null,null,null,null,null,null,null,null,null,null,null,null,null,null,null,null,null,"",null,null,null,""]
[null,null,null,null,null,null,null,null,null,null,null,null,null,null,null,null,null,null,null,null,null,null,"",null,null,null,""]
[null,null,null,null,null,null,null,null,null,null,null,null,null,null,null,null,null,null,null,null,null,null,"",null,null,null,""]
[null,null,null,null,null,null,null,null,null,null,null,null,null,null,null,null,null,null,null,null,null,null,"",null,null,null,""]
[null,4,null,null,null,null,null,null,{"$f":"IF(SUM(G36:H45)>=0,0,-1*SUM(G36:H45))","v":0},null,null,null,null,null,null,null,null,null,null,null,null,null,"",null,null,null,"",null,null,null,null,{"$f":"IF(AND(I36>0,SUM(P36:Q45)<=0)=TRUE,0,SUM(P36:Q45))","v":0},{"$f":"IF(AND(I36>0,SUM(R36:S45)<=0)=TRUE,0,SUM(R36:S45))","v":0}]
[null,null,null,null,null,null,null,null,null,null,null,null,null,null,null,null,null,null,null,null,null,null,"",null,null,null,""]
[null,null,null,null,null,null,null,null,null,null,null,null,null,null,null,null,null,null,null,null,null,null,{"$f":"IF(G38=\"\",\"\",IF(SIGN(G38)=SIGN(P38),\"！(3)と(6)の符号が逆になっていません。\",\"\"))","v":""},null,null,null,{"$f":"IF(G38=\"\",\"\",IF(SIGN(G38)=SIGN(R38),\"！(3)と(7)の符号が逆になっていません。\",\"\"))","v":""}]
[null,null,null,null,null,null,null,null,null,null,null,null,null,null,null,null,null,null,null,null,null,null,"",null,null,null,""]
[null,null,null,null,null,null,null,null,null,null,null,null,null,null,null,null,null,null,null,null,null,null,"",null,null,null,""]
[null,null,null,null,null,null,null,null,null,null,null,null,null,null,null,null,null,null,null,null,null,null,"",null,null,null,""]
[null,null,null,null,null,null,null,null,null,null,null,null,null,null,null,null,null,null,null,null,null,null,"",null,null,null,""]
[null,null,null,null,null,null,null,null,null,null,null,null,null,null,null,null,null,null,null,null,null,null,"",null,null,null,""]
[null,null,null,null,null,null,null,null,null,null,null,null,null,null,null,null,null,null,null,null,null,null,"",null,null,null,""]
[null,null,null,null,null,null,null,null,null,null,null,null,null,null,null,null,null,null,null,null,null,null,"",null,null,null,""]
[null,5,null,null,null,null,null,null,{"$f":"IF(SUM(G46:H55)>=0,0,-1*SUM(G46:H55))","v":0},null,null,null,null,null,null,null,null,null,null,null,null,null,"",null,null,null,"",null,null,null,null,{"$f":"IF(AND(I46>0,SUM(P46:Q55)<=0)=TRUE,0,SUM(P46:Q55))","v":0},{"$f":"IF(AND(I46>0,SUM(R46:S55)<=0)=TRUE,0,SUM(R46:S55))","v":0}]
[null,null,null,null,null,null,null,null,null,null,null,null,null,null,null,null,null,null,null,null,null,null,"",null,null,null,""]
[null,null,null,null,null,null,null,null,null,null,null,null,null,null,null,null,null,null,null,null,null,null,"",null,null,null,""]
[null,null,null,null,null,null,null,null,null,null,null,null,null,null,null,null,null,null,null,null,null,null,"",null,null,null,""]
[null,null,null,null,null,null,null,null,null,null,null,null,null,null,null,null,null,null,null,null,null,null,"",null,null,null,""]
[null,null,null,null,null,null,null,null,null,null,null,null,null,null,null,null,null,null,null,null,null,null,"",null,null,null,""]
[null,null,null,null,null,null,null,null,null,null,null,null,null,null,null,null,null,null,null,null,null,null,"",null,null,null,""]
[null,null,null,null,null,null,null,null,null,null,null,null,null,null,null,null,null,null,null,null,null,null,"",null,null,null,""]
[null,null,null,null,null,null,null,null,null,null,null,null,null,null,null,null,null,null,null,null,null,null,"",null,null,null,""]
[null,null,null,null,null,null,null,null,null,null,null,null,null,null,null,null,null,null,null,null,null,null,"",null,null,null,""]
[null,6,null,null,null,null,null,null,{"$f":"IF(SUM(G56:H65)>=0,0,-1*SUM(G56:H65))","v":0},null,null,null,null,null,null,null,null,null,null,null,null,null,"",null,null,null,"",null,null,null,null,{"$f":"IF(AND(I56>0,SUM(P56:Q65)<=0)=TRUE,0,SUM(P56:Q65))","v":0},{"$f":"IF(AND(I56>0,SUM(R56:S65)<=0)=TRUE,0,SUM(R56:S65))","v":0}]
[null,null,null,null,null,null,null,null,null,null,null,null,null,null,null,null,null,null,null,null,null,null,"",null,null,null,""]
[null,null,null,null,null,null,null,null,null,null,null,null,null,null,null,null,null,null,null,null,null,null,"",null,null,null,""]
[null,null,null,null,null,null,null,null,null,null,null,null,null,null,null,null,null,null,null,null,null,null,"",null,null,null,""]
[null,null,null,null,null,null,null,null,null,null,null,null,null,null,null,null,null,null,null,null,null,null,"",null,null,null,""]
[null,null,null,null,null,null,null,null,null,null,null,null,null,null,null,null,null,null,null,null,null,null,"",null,null,null,""]
[null,null,null,null,null,null,null,null,null,null,null,null,null,null,null,null,null,null,null,null,null,null,"",null,null,null,""]
[null,null,null,null,null,null,null,null,null,null,null,null,null,null,null,null,null,null,null,null,null,null,"",null,null,null,""]
[null,null,null,null,null,null,null,null,null,null,null,null,null,null,null,null,null,null,null,null,null,null,"",null,null,null,""]
[null,null,null,null,null,null,null,null,null,null,null,null,null,null,null,null,null,null,null,null,null,null,"",null,null,null,""]
[null,7,null,null,null,null,null,null,{"$f":"IF(SUM(G66:H75)>=0,0,-1*SUM(G66:H75))","v":0},null,null,null,null,null,null,null,null,null,null,null,null,null,"",null,null,null,"",null,null,null,null,{"$f":"IF(AND(I66>0,SUM(P66:Q75)<=0)=TRUE,0,SUM(P66:Q75))","v":0},{"$f":"IF(AND(I66>0,SUM(R66:S75)<=0)=TRUE,0,SUM(R66:S75))","v":0}]
[null,null,null,null,null,null,null,null,null,null,null,null,null,null,null,null,null,null,null,null,null,null,"",null,null,null,""]
[null,null,null,null,null,null,null,null,null,null,null,null,null,null,null,null,null,null,null,null,null,null,"",null,null,null,""]
[null,null,null,null,null,null,null,null,null,null,null,null,null,null,null,null,null,null,null,null,null,null,"",null,null,null,""]
[null,null,null,null,null,null,null,null,null,null,null,null,null,null,null,null,null,null,null,null,null,null,{"$f":"IF(G70=\"\",\"\",IF(SIGN(G70)=SIGN(P70),\"！(3)と(6)の符号が逆になっていません。\",\"\"))","v":""},null,null,null,{"$f":"IF(G70=\"\",\"\",IF(SIGN(G70)=SIGN(R70),\"！(3)と(7)の符号が逆になっていません。\",\"\"))","v":""}]
[null,null,null,null,null,null,null,null,null,null,null,null,null,null,null,null,null,null,null,null,null,null,"",null,null,null,""]
[null,null,null,null,null,null,null,null,null,null,null,null,null,null,null,null,null,null,null,null,null,null,"",null,null,null,""]
[null,null,null,null,null,null,null,null,null,null,null,null,null,null,null,null,null,null,null,null,null,null,"",null,null,null,""]
[null,null,null,null,null,null,null,null,null,null,null,null,null,null,null,null,null,null,null,null,null,null,"",null,null,null,""]
[null,null,null,null,null,null,null,null,null,null,null,null,null,null,null,null,null,null,null,null,null,null,"",null,null,null,""]
[null,8,null,null,null,null,null,null,{"$f":"IF(SUM(G76:H85)>=0,0,-1*SUM(G76:H85))","v":0},null,null,null,null,null,null,null,null,null,null,null,null,null,"",null,null,null,"",null,null,null,null,{"$f":"IF(AND(I76>0,SUM(P76:Q85)<=0)=TRUE,0,SUM(P76:Q85))","v":0},{"$f":"IF(AND(I76>0,SUM(R76:S85)<=0)=TRUE,0,SUM(R76:S85))","v":0}]
[null,null,null,null,null,null,null,null,null,null,null,null,null,null,null,null,null,null,null,null,null,null,"",null,null,null,""]
[null,null,null,null,null,null,null,null,null,null,null,null,null,null,null,null,null,null,null,null,null,null,"",null,null,null,""]
[null,null,null,null,null,null,null,null,null,null,null,null,null,null,null,null,null,null,null,null,null,null,"",null,null,null,""]
[null,null,null,null,null,null,null,null,null,null,null,null,null,null,null,null,null,null,null,null,null,null,"",null,null,null,""]
[null,null,null,null,null,null,null,null,null,null,null,null,null,null,null,null,null,null,null,null,null,null,"",null,null,null,""]
[null,null,null,null,null,null,null,null,null,null,null,null,null,null,null,null,null,null,null,null,null,null,"",null,null,null,""]
[null,null,null,null,null,null,null,null,null,null,null,null,null,null,null,null,null,null,null,null,null,null,"",null,null,null,""]
[null,null,null,null,null,null,null,null,null,null,null,null,null,null,null,null,null,null,null,null,null,null,"",null,null,null,""]
[null,null,null,null,null,null,null,null,null,null,null,null,null,null,null,null,null,null,null,null,null,null,"",null,null,null,""]
[null,9,null,null,null,null,null,null,{"$f":"IF(SUM(G86:H95)>=0,0,-1*SUM(G86:H95))","v":0},null,null,null,null,null,null,null,null,null,null,null,null,null,"",null,null,null,"",null,null,null,null,{"$f":"IF(AND(I86>0,SUM(P86:Q95)<=0)=TRUE,0,SUM(P86:Q95))","v":0},{"$f":"IF(AND(I86>0,SUM(R86:S95)<=0)=TRUE,0,SUM(R86:S95))","v":0}]
[null,null,null,null,null,null,null,null,null,null,null,null,null,null,null,null,null,null,null,null,null,null,"",null,null,null,""]
[null,null,null,null,null,null,null,null,null,null,null,null,null,null,null,null,null,null,null,null,null,null,"",null,null,null,""]
[null,null,null,null,null,null,null,null,null,null,null,null,null,null,null,null,null,null,null,null,null,null,"",null,null,null,""]
[null,null,null,null,null,null,null,null,null,null,null,null,null,null,null,null,null,null,null,null,null,null,"",null,null,null,""]
[null,null,null,null,null,null,null,null,null,null,null,null,null,null,null,null,null,null,null,null,null,null,"",null,null,null,""]
[null,null,null,null,null,null,null,null,null,null,null,null,null,null,null,null,null,null,null,null,null,null,"",null,null,null,""]
[null,null,null,null,null,null,null,null,null,null,null,null,null,null,null,null,null,null,null,null,null,null,"",null,null,null,""]
[null,null,null,null,null,null,null,null,null,null,null,null,null,null,null,null,null,null,null,null,null,null,"",null,null,null,""]
[null,null,null,null,null,null,null,null,null,null,null,null,null,null,null,null,null,null,null,null,null,null,"",null,null,null,""]
[null,10,null,null,null,null,null,null,{"$f":"IF(SUM(G96:H105)>=0,0,-1*SUM(G96:H105))","v":0},null,null,null,null,null,null,null,null,null,null,null,null,null,"",null,null,null,"",null,null,null,null,{"$f":"IF(AND(I96>0,SUM(P96:Q105)<=0)=TRUE,0,SUM(P96:Q105))","v":0},{"$f":"IF(AND(I96>0,SUM(R96:S105)<=0)=TRUE,0,SUM(R96:S105))","v":0}]
[null,null,null,null,null,null,null,null,null,null,null,null,null,null,null,null,null,null,null,null,null,null,"",null,null,null,""]
[null,null,null,null,null,null,null,null,null,null,null,null,null,null,null,null,null,null,null,null,null,null,"",null,null,null,""]
[null,null,null,null,null,null,null,null,null,null,null,null,null,null,null,null,null,null,null,null,null,null,"",null,null,null,""]
[null,null,null,null,null,null,null,null,null,null,null,null,null,null,null,null,null,null,null,null,null,null,"",null,null,null,""]
[null,null,null,null,null,null,null,null,null,null,null,null,null,null,null,null,null,null,null,null,null,null,"",null,null,null,""]
[null,null,null,null,null,null,null,null,null,null,null,null,null,null,null,null,null,null,null,null,null,null,{"$f":"IF(G102=\"\",\"\",IF(SIGN(G102)=SIGN(P102),\"！(3)と(6)の符号が逆になっていません。\",\"\"))","v":""},null,null,null,{"$f":"IF(G102=\"\",\"\",IF(SIGN(G102)=SIGN(R102),\"！(3)と(7)の符号が逆になっていません。\",\"\"))","v":""}]
[null,null,null,null,null,null,null,null,null,null,null,null,null,null,null,null,null,null,null,null,null,null,"",null,null,null,""]
[null,null,null,null,null,null,null,null,null,null,null,null,null,null,null,null,null,null,null,null,null,null,"",null,null,null,""]
[null,null,null,null,null,null,null,null,null,null,null,null,null,null,null,null,null,null,null,null,null,null,"",null,null,null,""]
[null,11,null,null,null,null,null,null,{"$f":"IF(SUM(G106:H115)>=0,0,-1*SUM(G106:H115))","v":0},null,null,null,null,null,null,null,null,null,null,null,null,null,"",null,null,null,"",null,null,null,null,{"$f":"IF(AND(I106>0,SUM(P106:Q115)<=0)=TRUE,0,SUM(P106:Q115))","v":0},{"$f":"IF(AND(I106>0,SUM(R106:S115)<=0)=TRUE,0,SUM(R106:S115))","v":0}]
[null,null,null,null,null,null,null,null,null,null,null,null,null,null,null,null,null,null,null,null,null,null,"",null,null,null,""]
[null,null,null,null,null,null,null,null,null,null,null,null,null,null,null,null,null,null,null,null,null,null,"",null,null,null,""]
[null,null,null,null,null,null,null,null,null,null,null,null,null,null,null,null,null,null,null,null,null,null,"",null,null,null,""]
[null,null,null,null,null,null,null,null,null,null,null,null,null,null,null,null,null,null,null,null,null,null,"",null,null,null,""]
[null,null,null,null,null,null,null,null,null,null,null,null,null,null,null,null,null,null,null,null,null,null,"",null,null,null,""]
[null,null,null,null,null,null,null,null,null,null,null,null,null,null,null,null,null,null,null,null,null,null,"",null,null,null,""]
[null,null,null,null,null,null,null,null,null,null,null,null,null,null,null,null,null,null,null,null,null,null,"",null,null,null,""]
[null,null,null,null,null,null,null,null,null,null,null,null,null,null,null,null,null,null,null,null,null,null,"",null,null,null,""]
[null,null,null,null,null,null,null,null,null,null,null,null,null,null,null,null,null,null,null,null,null,null,"",null,null,null,""]
[null,12,null,null,null,null,null,null,{"$f":"IF(SUM(G116:H125)>=0,0,-1*SUM(G116:H125))","v":0},null,null,null,null,null,null,null,null,null,null,null,null,null,"",null,null,null,"",null,null,null,null,{"$f":"IF(AND(I116>0,SUM(P116:Q125)<=0)=TRUE,0,SUM(P116:Q125))","v":0},{"$f":"IF(AND(I116>0,SUM(R116:S125)<=0)=TRUE,0,SUM(R116:S125))","v":0}]
[null,null,null,null,null,null,null,null,null,null,null,null,null,null,null,null,null,null,null,null,null,null,"",null,null,null,""]
[null,null,null,null,null,null,null,null,null,null,null,null,null,null,null,null,null,null,null,null,null,null,"",null,null,null,""]
[null,null,null,null,null,null,null,null,null,null,null,null,null,null,null,null,null,null,null,null,null,null,"",null,null,null,""]
[null,null,null,null,null,null,null,null,null,null,null,null,null,null,null,null,null,null,null,null,null,null,"",null,null,null,""]
[null,null,null,null,null,null,null,null,null,null,null,null,null,null,null,null,null,null,null,null,null,null,"",null,null,null,""]
[null,null,null,null,null,null,null,null,null,null,null,null,null,null,null,null,null,null,null,null,null,null,"",null,null,null,""]
[null,null,null,null,null,null,null,null,null,null,null,null,null,null,null,null,null,null,null,null,null,null,"",null,null,null,""]
[null,null,null,null,null,null,null,null,null,null,null,null,null,null,null,null,null,null,null,null,null,null,"",null,null,null,""]
[null,null,null,null,null,null,null,null,null,null,null,null,null,null,null,null,null,null,null,null,null,null,"",null,null,null,""]
[null,13,null,null,null,null,null,null,{"$f":"IF(SUM(G126:H135)>=0,0,-1*SUM(G126:H135))","v":0},null,null,null,null,null,null,null,null,null,null,null,null,null,"",null,null,null,"",null,null,null,null,{"$f":"IF(AND(I126>0,SUM(P126:Q135)<=0)=TRUE,0,SUM(P126:Q135))","v":0},{"$f":"IF(AND(I126>0,SUM(R126:S135)<=0)=TRUE,0,SUM(R126:S135))","v":0}]
[null,null,null,null,null,null,null,null,null,null,null,null,null,null,null,null,null,null,null,null,null,null,"",null,null,null,""]
[null,null,null,null,null,null,null,null,null,null,null,null,null,null,null,null,null,null,null,null,null,null,"",null,null,null,""]
[null,null,null,null,null,null,null,null,null,null,null,null,null,null,null,null,null,null,null,null,null,null,"",null,null,null,""]
[null,null,null,null,null,null,null,null,null,null,null,null,null,null,null,null,null,null,null,null,null,null,"",null,null,null,""]
[null,null,null,null,null,null,null,null,null,null,null,null,null,null,null,null,null,null,null,null,null,null,"",null,null,null,""]
[null,null,null,null,null,null,null,null,null,null,null,null,null,null,null,null,null,null,null,null,null,null,"",null,null,null,""]
[null,null,null,null,null,null,null,null,null,null,null,null,null,null,null,null,null,null,null,null,null,null,"",null,null,null,""]
[null,null,null,null,null,null,null,null,null,null,null,null,null,null,null,null,null,null,null,null,null,null,{"$f":"IF(G134=\"\",\"\",IF(SIGN(G134)=SIGN(P134),\"！(3)と(6)の符号が逆になっていません。\",\"\"))","v":""},null,null,null,{"$f":"IF(G134=\"\",\"\",IF(SIGN(G134)=SIGN(R134),\"！(3)と(7)の符号が逆になっていません。\",\"\"))","v":""}]
[null,null,null,null,null,null,null,null,null,null,null,null,null,null,null,null,null,null,null,null,null,null,"",null,null,null,""]
[null,14,null,null,null,null,null,null,{"$f":"IF(SUM(G136:H145)>=0,0,-1*SUM(G136:H145))","v":0},null,null,null,null,null,null,null,null,null,null,null,null,null,"",null,null,null,"",null,null,null,null,{"$f":"IF(AND(I136>0,SUM(P136:Q145)<=0)=TRUE,0,SUM(P136:Q145))","v":0},{"$f":"IF(AND(I136>0,SUM(R136:S145)<=0)=TRUE,0,SUM(R136:S145))","v":0}]
[null,null,null,null,null,null,null,null,null,null,null,null,null,null,null,null,null,null,null,null,null,null,"",null,null,null,""]
[null,null,null,null,null,null,null,null,null,null,null,null,null,null,null,null,null,null,null,null,null,null,"",null,null,null,""]
[null,null,null,null,null,null,null,null,null,null,null,null,null,null,null,null,null,null,null,null,null,null,"",null,null,null,""]
[null,null,null,null,null,null,null,null,null,null,null,null,null,null,null,null,null,null,null,null,null,null,"",null,null,null,""]
[null,null,null,null,null,null,null,null,null,null,null,null,null,null,null,null,null,null,null,null,null,null,"",null,null,null,""]
[null,null,null,null,null,null,null,null,null,null,null,null,null,null,null,null,null,null,null,null,null,null,"",null,null,null,""]
[null,null,null,null,null,null,null,null,null,null,null,null,null,null,null,null,null,null,null,null,null,null,"",null,null,null,""]
[null,null,null,null,null,null,null,null,null,null,null,null,null,null,null,null,null,null,null,null,null,null,"",null,null,null,""]
[null,null,null,null,null,null,null,null,null,null,null,null,null,null,null,null,null,null,null,null,null,null,"",null,null,null,""]
[null,15,null,null,null,null,null,null,{"$f":"IF(SUM(G146:H155)>=0,0,-1*SUM(G146:H155))","v":0},null,null,null,null,null,null,null,null,null,null,null,null,null,"",null,null,null,"",null,null,null,null,{"$f":"IF(AND(I146>0,SUM(P146:Q155)<=0)=TRUE,0,SUM(P146:Q155))","v":0},{"$f":"IF(AND(I146>0,SUM(R146:S155)<=0)=TRUE,0,SUM(R146:S155))","v":0}]
[null,null,null,null,null,null,null,null,null,null,null,null,null,null,null,null,null,null,null,null,null,null,"",null,null,null,""]
[null,null,null,null,null,null,null,null,null,null,null,null,null,null,null,null,null,null,null,null,null,null,"",null,null,null,""]
[null,null,null,null,null,null,null,null,null,null,null,null,null,null,null,null,null,null,null,null,null,null,"",null,null,null,""]
[null,null,null,null,null,null,null,null,null,null,null,null,null,null,null,null,null,null,null,null,null,null,"",null,null,null,""]
[null,null,null,null,null,null,null,null,null,null,null,null,null,null,null,null,null,null,null,null,null,null,"",null,null,null,""]
[null,null,null,null,null,null,null,null,null,null,null,null,null,null,null,null,null,null,null,null,null,null,"",null,null,null,""]
[null,null,null,null,null,null,null,null,null,null,null,null,null,null,null,null,null,null,null,null,null,null,"",null,null,null,""]
[null,null,null,null,null,null,null,null,null,null,null,null,null,null,null,null,null,null,null,null,null,null,"",null,null,null,""]
[null,null,null,null,null,null,null,null,null,null,null,null,null,null,null,null,null,null,null,null,null,null,"",null,null,null,""]
[null,16,null,null,null,null,null,null,{"$f":"IF(SUM(G156:H165)>=0,0,-1*SUM(G156:H165))","v":0},null,null,null,null,null,null,null,null,null,null,null,null,null,"",null,null,null,"",null,null,null,null,{"$f":"IF(AND(I156>0,SUM(P156:Q165)<=0)=TRUE,0,SUM(P156:Q165))","v":0},{"$f":"IF(AND(I156>0,SUM(R156:S165)<=0)=TRUE,0,SUM(R156:S165))","v":0}]
[null,null,null,null,null,null,null,null,null,null,null,null,null,null,null,null,null,null,null,null,null,null,"",null,null,null,""]
[null,null,null,null,null,null,null,null,null,null,null,null,null,null,null,null,null,null,null,null,null,null,"",null,null,null,""]
[null,null,null,null,null,null,null,null,null,null,null,null,null,null,null,null,null,null,null,null,null,null,"",null,null,null,""]
[null,null,null,null,null,null,null,null,null,null,null,null,null,null,null,null,null,null,null,null,null,null,"",null,null,null,""]
[null,null,null,null,null,null,null,null,null,null,null,null,null,null,null,null,null,null,null,null,null,null,"",null,null,null,""]
[null,null,null,null,null,null,null,null,null,null,null,null,null,null,null,null,null,null,null,null,null,null,"",null,null,null,""]
[null,null,null,null,null,null,null,null,null,null,null,null,null,null,null,null,null,null,null,null,null,null,"",null,null,null,""]
[null,null,null,null,null,null,null,null,null,null,null,null,null,null,null,null,null,null,null,null,null,null,"",null,null,null,""]
[null,null,null,null,null,null,null,null,null,null,null,null,null,null,null,null,null,null,null,null,null,null,"",null,null,null,""]
[null,17,null,null,null,null,null,null,{"$f":"IF(SUM(G166:H175)>=0,0,-1*SUM(G166:H175))","v":0},null,null,null,null,null,null,null,null,null,null,null,null,null,{"$f":"IF(G166=\"\",\"\",IF(SIGN(G166)=SIGN(P166),\"！(3)と(6)の符号が逆になっていません。\",\"\"))","v":""},null,null,null,{"$f":"IF(G166=\"\",\"\",IF(SIGN(G166)=SIGN(R166),\"！(3)と(7)の符号が逆になっていません。\",\"\"))","v":""},null,null,null,null,{"$f":"IF(AND(I166>0,SUM(P166:Q175)<=0)=TRUE,0,SUM(P166:Q175))","v":0},{"$f":"IF(AND(I166>0,SUM(R166:S175)<=0)=TRUE,0,SUM(R166:S175))","v":0}]
[null,null,null,null,null,null,null,null,null,null,null,null,null,null,null,null,null,null,null,null,null,null,"",null,null,null,""]
[null,null,null,null,null,null,null,null,null,null,null,null,null,null,null,null,null,null,null,null,null,null,"",null,null,null,""]
[null,null,null,null,null,null,null,null,null,null,null,null,null,null,null,null,null,null,null,null,null,null,"",null,null,null,""]
[null,null,null,null,null,null,null,null,null,null,null,null,null,null,null,null,null,null,null,null,null,null,"",null,null,null,""]
[null,null,null,null,null,null,null,null,null,null,null,null,null,null,null,null,null,null,null,null,null,null,"",null,null,null,""]
[null,null,null,null,null,null,null,null,null,null,null,null,null,null,null,null,null,null,null,null,null,null,"",null,null,null,""]
[null,null,null,null,null,null,null,null,null,null,null,null,null,null,null,null,null,null,null,null,null,null,"",null,null,null,""]
[null,null,null,null,null,null,null,null,null,null,null,null,null,null,null,null,null,null,null,null,null,null,"",null,null,null,""]
[null,null,null,null,null,null,null,null,null,null,null,null,null,null,null,null,null,null,null,null,null,null,"",null,null,null,""]
[null,18,null,null,null,null,null,null,{"$f":"IF(SUM(G176:H185)>=0,0,-1*SUM(G176:H185))","v":0},null,null,null,null,null,null,null,null,null,null,null,null,null,"",null,null,null,"",null,null,null,null,{"$f":"IF(AND(I176>0,SUM(P176:Q185)<=0)=TRUE,0,SUM(P176:Q185))","v":0},{"$f":"IF(AND(I176>0,SUM(R176:S185)<=0)=TRUE,0,SUM(R176:S185))","v":0}]
[null,null,null,null,null,null,null,null,null,null,null,null,null,null,null,null,null,null,null,null,null,null,"",null,null,null,""]
[null,null,null,null,null,null,null,null,null,null,null,null,null,null,null,null,null,null,null,null,null,null,"",null,null,null,""]
[null,null,null,null,null,null,null,null,null,null,null,null,null,null,null,null,null,null,null,null,null,null,"",null,null,null,""]
[null,null,null,null,null,null,null,null,null,null,null,null,null,null,null,null,null,null,null,null,null,null,"",null,null,null,""]
[null,null,null,null,null,null,null,null,null,null,null,null,null,null,null,null,null,null,null,null,null,null,"",null,null,null,""]
[null,null,null,null,null,null,null,null,null,null,null,null,null,null,null,null,null,null,null,null,null,null,"",null,null,null,""]
[null,null,null,null,null,null,null,null,null,null,null,null,null,null,null,null,null,null,null,null,null,null,"",null,null,null,""]
[null,null,null,null,null,null,null,null,null,null,null,null,null,null,null,null,null,null,null,null,null,null,"",null,null,null,""]
[null,null,null,null,null,null,null,null,null,null,null,null,null,null,null,null,null,null,null,null,null,null,"",null,null,null,""]
[null,19,null,null,null,null,null,null,{"$f":"IF(SUM(G186:H195)>=0,0,-1*SUM(G186:H195))","v":0},null,null,null,null,null,null,null,null,null,null,null,null,null,"",null,null,null,"",null,null,null,null,{"$f":"IF(AND(I186>0,SUM(P186:Q195)<=0)=TRUE,0,SUM(P186:Q195))","v":0},{"$f":"IF(AND(I186>0,SUM(R186:S195)<=0)=TRUE,0,SUM(R186:S195))","v":0}]
[null,null,null,null,null,null,null,null,null,null,null,null,null,null,null,null,null,null,null,null,null,null,"",null,null,null,""]
[null,null,null,null,null,null,null,null,null,null,null,null,null,null,null,null,null,null,null,null,null,null,"",null,null,null,""]
[null,null,null,null,null,null,null,null,null,null,null,null,null,null,null,null,null,null,null,null,null,null,"",null,null,null,""]
[null,null,null,null,null,null,null,null,null,null,null,null,null,null,null,null,null,null,null,null,null,null,"",null,null,null,""]
[null,null,null,null,null,null,null,null,null,null,null,null,null,null,null,null,null,null,null,null,null,null,"",null,null,null,""]
[null,null,null,null,null,null,null,null,null,null,null,null,null,null,null,null,null,null,null,null,null,null,"",null,null,null,""]
[null,null,null,null,null,null,null,null,null,null,null,null,null,null,null,null,null,null,null,null,null,null,"",null,null,null,""]
[null,null,null,null,null,null,null,null,null,null,null,null,null,null,null,null,null,null,null,null,null,null,"",null,null,null,""]
[null,null,null,null,null,null,null,null,null,null,null,null,null,null,null,null,null,null,null,null,null,null,"",null,null,null,""]
[null,20,null,null,null,null,null,null,{"$f":"IF(SUM(G196:H205)>=0,0,-1*SUM(G196:H205))","v":0},null,null,null,null,null,null,null,null,null,null,null,null,null,"",null,null,null,"",null,null,null,null,{"$f":"IF(AND(I196>0,SUM(P196:Q205)<=0)=TRUE,0,SUM(P196:Q205))","v":0},{"$f":"IF(AND(I196>0,SUM(R196:S205)<=0)=TRUE,0,SUM(R196:S205))","v":0}]
[null,null,null,null,null,null,null,null,null,null,null,null,null,null,null,null,null,null,null,null,null,null,"",null,null,null,""]
[null,null,null,null,null,null,null,null,null,null,null,null,null,null,null,null,null,null,null,null,null,null,{"$f":"IF(G198=\"\",\"\",IF(SIGN(G198)=SIGN(P198),\"！(3)と(6)の符号が逆になっていません。\",\"\"))","v":""},null,null,null,{"$f":"IF(G198=\"\",\"\",IF(SIGN(G198)=SIGN(R198),\"！(3)と(7)の符号が逆になっていません。\",\"\"))","v":""}]
[null,null,null,null,null,null,null,null,null,null,null,null,null,null,null,null,null,null,null,null,null,null,"",null,null,null,""]
[null,null,null,null,null,null,null,null,null,null,null,null,null,null,null,null,null,null,null,null,null,null,"",null,null,null,""]
[null,null,null,null,null,null,null,null,null,null,null,null,null,null,null,null,null,null,null,null,null,null,"",null,null,null,""]
[null,null,null,null,null,null,null,null,null,null,null,null,null,null,null,null,null,null,null,null,null,null,"",null,null,null,""]
[null,null,null,null,null,null,null,null,null,null,null,null,null,null,null,null,null,null,null,null,null,null,"",null,null,null,""]
[null,null,null,null,null,null,null,null,null,null,null,null,null,null,null,null,null,null,null,null,null,null,"",null,null,null,""]
[null,null,null,null,null,null,null,null,null,null,null,null,null,null,null,null,null,null,null,null,null,null,"",null,null,null,""]
[1,null,null,null,null,null,"※赤字額を負の値で、黒字額を正の値で入力してください。",null,null,null,null,null,null,null,"合計",{"$f":"SUM(AF6:AF205)","v":0},null,{"$f":"SUM(AG6:AG205)","v":0}]
[1,null,null,null,null,null,null,null,null,null,null,null,null,null,null,"※(3)欄と(6)・(7)欄は符号が逆になるので注意してください。"]
[1,"２　加入団体間で連結実質赤字のあん分方法が取り決められていない組合（地方開発事業団を除く。）",null,null,null,null,null,null,null,null,null,null,null,null,null,null,null,null,"（単位：千円）"]
[1,"組合名 (9)",null,null,"会計名 (10)",null,"実質赤字（黒字）額・資金不足（剰余）額 (11)",null,"連結実質赤字額 (12)",null,"上段　構成団体 (13)\n下段　前年度負担金(14)",null,null,"前年度の\n負担割合 (15)",null,"負担額 (16)",null,"一般会計等\n負担額 (17)",null,"理　由 (18)",null,null,"エラーメッセージ",null,null,null,"エラーメッセージ",null,null,null,null,"(16)の計算用","(17)の計算用"]
[1,1,null,null,null,null,null,null,{"$f":"IF(SUM(G210:H229)>=0,0,-1*SUM(G210:H229))","v":0},null,{"$f":"IF(G210<>\"\",IF(総括表①!$D$10=\"-\",総括表①!$C$10,総括表①!$D$10),\"\")","v":""},null,null,{"$f":"IF(SUM(K211:M211)=0,0,ROUND(K211/SUM(K211:M211),3))","v":0},null,{"$f":"IF(I210>0,ROUND(-G210*N210,0),0)","v":0},null,null,null,null,null,null,null,null,null,null,null,null,null,null,null,{"$f":"IF(AND(I210>0,SUM(P210:Q229)<=0)=TRUE,0,SUM(P210:Q229))","v":0},{"$f":"IF(AND(I210>0,SUM(R210:S229)<=0)=TRUE,0,SUM(R210:S229))","v":0}]
[1,null,null,null,null,null,null,null,null,null,null,null,null,null,null,null,null,null,null,null,null,null,{"$f":"IF(R210>P210,\"！　(17）が(16)を超えています。\",\"\")","v":""},null,null,null,{"$f":"IF(G210=\"\",\"\",IF(SIGN(G210)=SIGN(R210),\"！(11)と(17)の符号が逆になっていません。\",\"\"))","v":""}]
[1,null,null,null,null,null,null,null,null,null,{"$f":"IF(G212<>\"\",IF(総括表①!$D$10=\"-\",総括表①!$C$10,総括表①!$D$10),\"\")","v":""},null,null,{"$f":"IF(SUM(K213:M213)=0,0,ROUND(K213/SUM(K213:M213),3))","v":0},null,{"$f":"IF(I210>0,ROUND(-G212*N212,0),0)","v":0}]
[1,null,null,null,null,null,null,null,null,null,null,null,null,null,null,null,null,null,null,null,null,null,{"$f":"IF(R212>P212,\"！　(17）が(16)を超えています。\",\"\")","v":""},null,null,null,{"$f":"IF(G212=\"\",\"\",IF(SIGN(G212)=SIGN(R212),\"！(11)と(17)の符号が逆になっていません。\",\"\"))","v":""}]
[1,null,null,null,null,null,null,null,null,null,{"$f":"IF(G214<>\"\",IF(総括表①!$D$10=\"-\",総括表①!$C$10,総括表①!$D$10),\"\")","v":""},null,null,{"$f":"IF(SUM(K215:M215)=0,0,ROUND(K215/SUM(K215:M215),3))","v":0},null,{"$f":"IF(I210>0,ROUND(-G214*N214,0),0)","v":0}]
[1,null,null,null,null,null,null,null,null,null,null,null,null,null,null,null,null,null,null,null,null,null,{"$f":"IF(R214>P214,\"！　(17）が(16)を超えています。\",\"\")","v":""},null,null,null,{"$f":"IF(G214=\"\",\"\",IF(SIGN(G214)=SIGN(R214),\"！(11)と(17)の符号が逆になっていません。\",\"\"))","v":""}]
[null,null,null,null,null,null,null,null,null,null,{"$f":"IF(G216<>\"\",IF(総括表①!$D$10=\"-\",総括表①!$C$10,総括表①!$D$10),\"\")","v":""},null,null,{"$f":"IF(SUM(K217:M217)=0,0,ROUND(K217/SUM(K217:M217),3))","v":0},null,{"$f":"IF(I210>0,ROUND(-G216*N216,0),0)","v":0}]
[null,null,null,null,null,null,null,null,null,null,null,null,null,null,null,null,null,null,null,null,null,null,{"$f":"IF(R216>P216,\"！　(17）が(16)を超えています。\",\"\")","v":""},null,null,null,{"$f":"IF(G216=\"\",\"\",IF(SIGN(G216)=SIGN(R216),\"！(11)と(17)の符号が逆になっていません。\",\"\"))","v":""}]
[null,null,null,null,null,null,null,null,null,null,{"$f":"IF(G218<>\"\",IF(総括表①!$D$10=\"-\",総括表①!$C$10,総括表①!$D$10),\"\")","v":""},null,null,{"$f":"IF(SUM(K219:M219)=0,0,ROUND(K219/SUM(K219:M219),3))","v":0},null,{"$f":"IF(I210>0,ROUND(-G218*N218,0),0)","v":0}]
[null,null,null,null,null,null,null,null,null,null,null,null,null,null,null,null,null,null,null,null,null,null,{"$f":"IF(R218>P218,\"！　(17）が(16)を超えています。\",\"\")","v":""},null,null,null,{"$f":"IF(G218=\"\",\"\",IF(SIGN(G218)=SIGN(R218),\"！(11)と(17)の符号が逆になっていません。\",\"\"))","v":""}]
[null,null,null,null,null,null,null,null,null,null,{"$f":"IF(G220<>\"\",IF(総括表①!$D$10=\"-\",総括表①!$C$10,総括表①!$D$10),\"\")","v":""},null,null,{"$f":"IF(SUM(K221:M221)=0,0,ROUND(K221/SUM(K221:M221),3))","v":0},null,{"$f":"IF(I210>0,ROUND(-G220*N220,0),0)","v":0}]
[null,null,null,null,null,null,null,null,null,null,null,null,null,null,null,null,null,null,null,null,null,null,{"$f":"IF(R220>P220,\"！　(17）が(16)を超えています。\",\"\")","v":""},null,null,null,{"$f":"IF(G220=\"\",\"\",IF(SIGN(G220)=SIGN(R220),\"！(11)と(17)の符号が逆になっていません。\",\"\"))","v":""}]
[null,null,null,null,null,null,null,null,null,null,{"$f":"IF(G222<>\"\",IF(総括表①!$D$10=\"-\",総括表①!$C$10,総括表①!$D$10),\"\")","v":""},null,null,{"$f":"IF(SUM(K223:M223)=0,0,ROUND(K223/SUM(K223:M223),3))","v":0},null,{"$f":"IF(I210>0,ROUND(-G222*N222,0),0)","v":0}]
[null,null,null,null,null,null,null,null,null,null,null,null,null,null,null,null,null,null,null,null,null,null,{"$f":"IF(R222>P222,\"！　(17）が(16)を超えています。\",\"\")","v":""},null,null,null,{"$f":"IF(G222=\"\",\"\",IF(SIGN(G222)=SIGN(R222),\"！(11)と(17)の符号が逆になっていません。\",\"\"))","v":""}]
[null,null,null,null,null,null,null,null,null,null,{"$f":"IF(G224<>\"\",IF(総括表①!$D$10=\"-\",総括表①!$C$10,総括表①!$D$10),\"\")","v":""},null,null,{"$f":"IF(SUM(K225:M225)=0,0,ROUND(K225/SUM(K225:M225),3))","v":0},null,{"$f":"IF(I210>0,ROUND(-G224*N224,0),0)","v":0}]
[null,null,null,null,null,null,null,null,null,null,null,null,null,null,null,null,null,null,null,null,null,null,{"$f":"IF(R224>P224,\"！　(17）が(16)を超えています。\",\"\")","v":""},null,null,null,{"$f":"IF(G224=\"\",\"\",IF(SIGN(G224)=SIGN(R224),\"！(11)と(17)の符号が逆になっていません。\",\"\"))","v":""}]
[null,null,null,null,null,null,null,null,null,null,{"$f":"IF(G226<>\"\",IF(総括表①!$D$10=\"-\",総括表①!$C$10,総括表①!$D$10),\"\")","v":""},null,null,{"$f":"IF(SUM(K227:M227)=0,0,ROUND(K227/SUM(K227:M227),3))","v":0},null,{"$f":"IF(I210>0,ROUND(-G226*N226,0),0)","v":0}]
[null,null,null,null,null,null,null,null,null,null,null,null,null,null,null,null,null,null,null,null,null,null,{"$f":"IF(R226>P226,\"！　(17）が(16)を超えています。\",\"\")","v":""},null,null,null,{"$f":"IF(G226=\"\",\"\",IF(SIGN(G226)=SIGN(R226),\"！(11)と(17)の符号が逆になっていません。\",\"\"))","v":""}]
[null,null,null,null,null,null,null,null,null,null,{"$f":"IF(G228<>\"\",IF(総括表①!$D$10=\"-\",総括表①!$C$10,総括表①!$D$10),\"\")","v":""},null,null,{"$f":"IF(SUM(K229:M229)=0,0,ROUND(K229/SUM(K229:M229),3))","v":0},null,{"$f":"IF(I210>0,ROUND(-G228*N228,0),0)","v":0}]
[null,null,null,null,null,null,null,null,null,null,null,null,null,null,null,null,null,null,null,null,null,null,{"$f":"IF(R228>P228,\"！　(17）が(16)を超えています。\",\"\")","v":""},null,null,null,{"$f":"IF(G228=\"\",\"\",IF(SIGN(G228)=SIGN(R228),\"！(11)と(17)の符号が逆になっていません。\",\"\"))","v":""}]
[1,2,null,null,null,null,null,null,{"$f":"IF(SUM(G230:H249)>=0,0,-1*SUM(G230:H249))","v":0},null,{"$f":"IF(G230<>\"\",IF(総括表①!$D$10=\"-\",総括表①!$C$10,総括表①!$D$10),\"\")","v":""},null,null,{"$f":"IF(SUM(K231:M231)=0,0,ROUND(K231/SUM(K231:M231),3))","v":0},null,{"$f":"IF(I230>0,ROUND(-G230*N230,0),0)","v":0},null,null,null,null,null,null,null,null,null,null,null,null,null,null,null,{"$f":"IF(AND(I230>0,SUM(P230:Q249)<=0)=TRUE,0,SUM(P230:Q249))","v":0},{"$f":"IF(AND(I230>0,SUM(R230:S249)<=0)=TRUE,0,SUM(R230:S249))","v":0}]
[1,null,null,null,null,null,null,null,null,null,null,null,null,null,null,null,null,null,null,null,null,null,{"$f":"IF(R230>P230,\"！　(17）が(16)を超えています。\",\"\")","v":""},null,null,null,{"$f":"IF(G230=\"\",\"\",IF(SIGN(G230)=SIGN(R230),\"！(11)と(17)の符号が逆になっていません。\",\"\"))","v":""}]
[1,null,null,null,null,null,null,null,null,null,{"$f":"IF(G232<>\"\",IF(総括表①!$D$10=\"-\",総括表①!$C$10,総括表①!$D$10),\"\")","v":""},null,null,{"$f":"IF(SUM(K233:M233)=0,0,ROUND(K233/SUM(K233:M233),3))","v":0},null,{"$f":"IF(I230>0,ROUND(-G232*N232,0),0)","v":0}]
[1,null,null,null,null,null,null,null,null,null,null,null,null,null,null,null,null,null,null,null,null,null,{"$f":"IF(R232>P232,\"！　(17）が(16)を超えています。\",\"\")","v":""},null,null,null,{"$f":"IF(G232=\"\",\"\",IF(SIGN(G232)=SIGN(R232),\"！(11)と(17)の符号が逆になっていません。\",\"\"))","v":""}]
[1,null,null,null,null,null,null,null,null,null,{"$f":"IF(G234<>\"\",IF(総括表①!$D$10=\"-\",総括表①!$C$10,総括表①!$D$10),\"\")","v":""},null,null,{"$f":"IF(SUM(K235:M235)=0,0,ROUND(K235/SUM(K235:M235),3))","v":0},null,{"$f":"IF(I230>0,ROUND(-G234*N234,0),0)","v":0}]
[1,null,null,null,null,null,null,null,null,null,null,null,null,null,null,null,null,null,null,null,null,null,{"$f":"IF(R234>P234,\"！　(17）が(16)を超えています。\",\"\")","v":""},null,null,null,{"$f":"IF(G234=\"\",\"\",IF(SIGN(G234)=SIGN(R234),\"！(11)と(17)の符号が逆になっていません。\",\"\"))","v":""}]
[null,null,null,null,null,null,null,null,null,null,{"$f":"IF(G236<>\"\",IF(総括表①!$D$10=\"-\",総括表①!$C$10,総括表①!$D$10),\"\")","v":""},null,null,{"$f":"IF(SUM(K237:M237)=0,0,ROUND(K237/SUM(K237:M237),3))","v":0},null,{"$f":"IF(I230>0,ROUND(-G236*N236,0),0)","v":0}]
[null,null,null,null,null,null,null,null,null,null,null,null,null,null,null,null,null,null,null,null,null,null,{"$f":"IF(R236>P236,\"！　(17）が(16)を超えています。\",\"\")","v":""},null,null,null,{"$f":"IF(G236=\"\",\"\",IF(SIGN(G236)=SIGN(R236),\"！(11)と(17)の符号が逆になっていません。\",\"\"))","v":""}]
[null,null,null,null,null,null,null,null,null,null,{"$f":"IF(G238<>\"\",IF(総括表①!$D$10=\"-\",総括表①!$C$10,総括表①!$D$10),\"\")","v":""},null,null,{"$f":"IF(SUM(K239:M239)=0,0,ROUND(K239/SUM(K239:M239),3))","v":0},null,{"$f":"IF(I230>0,ROUND(-G238*N238,0),0)","v":0}]
[null,null,null,null,null,null,null,null,null,null,null,null,null,null,null,null,null,null,null,null,null,null,{"$f":"IF(R238>P238,\"！　(17）が(16)を超えています。\",\"\")","v":""},null,null,null,{"$f":"IF(G238=\"\",\"\",IF(SIGN(G238)=SIGN(R238),\"！(11)と(17)の符号が逆になっていません。\",\"\"))","v":""}]
[null,null,null,null,null,null,null,null,null,null,{"$f":"IF(G240<>\"\",IF(総括表①!$D$10=\"-\",総括表①!$C$10,総括表①!$D$10),\"\")","v":""},null,null,{"$f":"IF(SUM(K241:M241)=0,0,ROUND(K241/SUM(K241:M241),3))","v":0},null,{"$f":"IF(I230>0,ROUND(-G240*N240,0),0)","v":0}]
[null,null,null,null,null,null,null,null,null,null,null,null,null,null,null,null,null,null,null,null,null,null,{"$f":"IF(R240>P240,\"！　(17）が(16)を超えています。\",\"\")","v":""},null,null,null,{"$f":"IF(G240=\"\",\"\",IF(SIGN(G240)=SIGN(R240),\"！(11)と(17)の符号が逆になっていません。\",\"\"))","v":""}]
[null,null,null,null,null,null,null,null,null,null,{"$f":"IF(G242<>\"\",IF(総括表①!$D$10=\"-\",総括表①!$C$10,総括表①!$D$10),\"\")","v":""},null,null,{"$f":"IF(SUM(K243:M243)=0,0,ROUND(K243/SUM(K243:M243),3))","v":0},null,{"$f":"IF(I230>0,ROUND(-G242*N242,0),0)","v":0}]
[null,null,null,null,null,null,null,null,null,null,null,null,null,null,null,null,null,null,null,null,null,null,{"$f":"IF(R242>P242,\"！　(17）が(16)を超えています。\",\"\")","v":""},null,null,null,{"$f":"IF(G242=\"\",\"\",IF(SIGN(G242)=SIGN(R242),\"！(11)と(17)の符号が逆になっていません。\",\"\"))","v":""}]
[null,null,null,null,null,null,null,null,null,null,{"$f":"IF(G244<>\"\",IF(総括表①!$D$10=\"-\",総括表①!$C$10,総括表①!$D$10),\"\")","v":""},null,null,{"$f":"IF(SUM(K245:M245)=0,0,ROUND(K245/SUM(K245:M245),3))","v":0},null,{"$f":"IF(I230>0,ROUND(-G244*N244,0),0)","v":0}]
[null,null,null,null,null,null,null,null,null,null,null,null,null,null,null,null,null,null,null,null,null,null,{"$f":"IF(R244>P244,\"！　(17）が(16)を超えています。\",\"\")","v":""},null,null,null,{"$f":"IF(G244=\"\",\"\",IF(SIGN(G244)=SIGN(R244),\"！(11)と(17)の符号が逆になっていません。\",\"\"))","v":""}]
[null,null,null,null,null,null,null,null,null,null,{"$f":"IF(G246<>\"\",IF(総括表①!$D$10=\"-\",総括表①!$C$10,総括表①!$D$10),\"\")","v":""},null,null,{"$f":"IF(SUM(K247:M247)=0,0,ROUND(K247/SUM(K247:M247),3))","v":0},null,{"$f":"IF(I230>0,ROUND(-G246*N246,0),0)","v":0}]
[null,null,null,null,null,null,null,null,null,null,null,null,null,null,null,null,null,null,null,null,null,null,{"$f":"IF(R246>P246,\"！　(17）が(16)を超えています。\",\"\")","v":""},null,null,null,{"$f":"IF(G246=\"\",\"\",IF(SIGN(G246)=SIGN(R246),\"！(11)と(17)の符号が逆になっていません。\",\"\"))","v":""}]
[null,null,null,null,null,null,null,null,null,null,{"$f":"IF(G248<>\"\",IF(総括表①!$D$10=\"-\",総括表①!$C$10,総括表①!$D$10),\"\")","v":""},null,null,{"$f":"IF(SUM(K249:M249)=0,0,ROUND(K249/SUM(K249:M249),3))","v":0},null,{"$f":"IF(I230>0,ROUND(-G248*N248,0),0)","v":0}]
[null,null,null,null,null,null,null,null,null,null,null,null,null,null,null,null,null,null,null,null,null,null,{"$f":"IF(R248>P248,\"！　(17）が(16)を超えています。\",\"\")","v":""},null,null,null,{"$f":"IF(G248=\"\",\"\",IF(SIGN(G248)=SIGN(R248),\"！(11)と(17)の符号が逆になっていません。\",\"\"))","v":""}]
[1,3,null,null,null,null,null,null,{"$f":"IF(SUM(G250:H269)>=0,0,-1*SUM(G250:H269))","v":0},null,{"$f":"IF(G250<>\"\",IF(総括表①!$D$10=\"-\",総括表①!$C$10,総括表①!$D$10),\"\")","v":""},null,null,{"$f":"IF(SUM(K251:M251)=0,0,ROUND(K251/SUM(K251:M251),3))","v":0},null,{"$f":"IF(I250>0,ROUND(-G250*N250,0),0)","v":0},null,null,null,null,null,null,null,null,null,null,null,null,null,null,null,{"$f":"IF(AND(I250>0,SUM(P250:Q269)<=0)=TRUE,0,SUM(P250:Q269))","v":0},{"$f":"IF(AND(I250>0,SUM(R250:S269)<=0)=TRUE,0,SUM(R250:S269))","v":0}]
[1,null,null,null,null,null,null,null,null,null,null,null,null,null,null,null,null,null,null,null,null,null,{"$f":"IF(R250>P250,\"！　(17）が(16)を超えています。\",\"\")","v":""},null,null,null,{"$f":"IF(G250=\"\",\"\",IF(SIGN(G250)=SIGN(R250),\"！(11)と(17)の符号が逆になっていません。\",\"\"))","v":""}]
[1,null,null,null,null,null,null,null,null,null,{"$f":"IF(G252<>\"\",IF(総括表①!$D$10=\"-\",総括表①!$C$10,総括表①!$D$10),\"\")","v":""},null,null,{"$f":"IF(SUM(K253:M253)=0,0,ROUND(K253/SUM(K253:M253),3))","v":0},null,{"$f":"IF(I250>0,ROUND(-G252*N252,0),0)","v":0}]
[1,null,null,null,null,null,null,null,null,null,null,null,null,null,null,null,null,null,null,null,null,null,{"$f":"IF(R252>P252,\"！　(17）が(16)を超えています。\",\"\")","v":""},null,null,null,{"$f":"IF(G252=\"\",\"\",IF(SIGN(G252)=SIGN(R252),\"！(11)と(17)の符号が逆になっていません。\",\"\"))","v":""}]
[1,null,null,null,null,null,null,null,null,null,{"$f":"IF(G254<>\"\",IF(総括表①!$D$10=\"-\",総括表①!$C$10,総括表①!$D$10),\"\")","v":""},null,null,{"$f":"IF(SUM(K255:M255)=0,0,ROUND(K255/SUM(K255:M255),3))","v":0},null,{"$f":"IF(I250>0,ROUND(-G254*N254,0),0)","v":0}]
[1,null,null,null,null,null,null,null,null,null,null,null,null,null,null,null,null,null,null,null,null,null,{"$f":"IF(R254>P254,\"！　(17）が(16)を超えています。\",\"\")","v":""},null,null,null,{"$f":"IF(G254=\"\",\"\",IF(SIGN(G254)=SIGN(R254),\"！(11)と(17)の符号が逆になっていません。\",\"\"))","v":""}]
[null,null,null,null,null,null,null,null,null,null,{"$f":"IF(G256<>\"\",IF(総括表①!$D$10=\"-\",総括表①!$C$10,総括表①!$D$10),\"\")","v":""},null,null,{"$f":"IF(SUM(K257:M257)=0,0,ROUND(K257/SUM(K257:M257),3))","v":0},null,{"$f":"IF(I250>0,ROUND(-G256*N256,0),0)","v":0}]
[null,null,null,null,null,null,null,null,null,null,null,null,null,null,null,null,null,null,null,null,null,null,{"$f":"IF(R256>P256,\"！　(17）が(16)を超えています。\",\"\")","v":""},null,null,null,{"$f":"IF(G256=\"\",\"\",IF(SIGN(G256)=SIGN(R256),\"！(11)と(17)の符号が逆になっていません。\",\"\"))","v":""}]
[null,null,null,null,null,null,null,null,null,null,{"$f":"IF(G258<>\"\",IF(総括表①!$D$10=\"-\",総括表①!$C$10,総括表①!$D$10),\"\")","v":""},null,null,{"$f":"IF(SUM(K259:M259)=0,0,ROUND(K259/SUM(K259:M259),3))","v":0},null,{"$f":"IF(I250>0,ROUND(-G258*N258,0),0)","v":0}]
[null,null,null,null,null,null,null,null,null,null,null,null,null,null,null,null,null,null,null,null,null,null,{"$f":"IF(R258>P258,\"！　(17）が(16)を超えています。\",\"\")","v":""},null,null,null,{"$f":"IF(G258=\"\",\"\",IF(SIGN(G258)=SIGN(R258),\"！(11)と(17)の符号が逆になっていません。\",\"\"))","v":""}]
[null,null,null,null,null,null,null,null,null,null,{"$f":"IF(G260<>\"\",IF(総括表①!$D$10=\"-\",総括表①!$C$10,総括表①!$D$10),\"\")","v":""},null,null,{"$f":"IF(SUM(K261:M261)=0,0,ROUND(K261/SUM(K261:M261),3))","v":0},null,{"$f":"IF(I250>0,ROUND(-G260*N260,0),0)","v":0}]
[null,null,null,null,null,null,null,null,null,null,null,null,null,null,null,null,null,null,null,null,null,null,{"$f":"IF(R260>P260,\"！　(17）が(16)を超えています。\",\"\")","v":""},null,null,null,{"$f":"IF(G260=\"\",\"\",IF(SIGN(G260)=SIGN(R260),\"！(11)と(17)の符号が逆になっていません。\",\"\"))","v":""}]
[null,null,null,null,null,null,null,null,null,null,{"$f":"IF(G262<>\"\",IF(総括表①!$D$10=\"-\",総括表①!$C$10,総括表①!$D$10),\"\")","v":""},null,null,{"$f":"IF(SUM(K263:M263)=0,0,ROUND(K263/SUM(K263:M263),3))","v":0},null,{"$f":"IF(I250>0,ROUND(-G262*N262,0),0)","v":0}]
[null,null,null,null,null,null,null,null,null,null,null,null,null,null,null,null,null,null,null,null,null,null,{"$f":"IF(R262>P262,\"！　(17）が(16)を超えています。\",\"\")","v":""},null,null,null,{"$f":"IF(G262=\"\",\"\",IF(SIGN(G262)=SIGN(R262),\"！(11)と(17)の符号が逆になっていません。\",\"\"))","v":""}]
[null,null,null,null,null,null,null,null,null,null,{"$f":"IF(G264<>\"\",IF(総括表①!$D$10=\"-\",総括表①!$C$10,総括表①!$D$10),\"\")","v":""},null,null,{"$f":"IF(SUM(K265:M265)=0,0,ROUND(K265/SUM(K265:M265),3))","v":0},null,{"$f":"IF(I250>0,ROUND(-G264*N264,0),0)","v":0}]
[null,null,null,null,null,null,null,null,null,null,null,null,null,null,null,null,null,null,null,null,null,null,{"$f":"IF(R264>P264,\"！　(17）が(16)を超えています。\",\"\")","v":""},null,null,null,{"$f":"IF(G264=\"\",\"\",IF(SIGN(G264)=SIGN(R264),\"！(11)と(17)の符号が逆になっていません。\",\"\"))","v":""}]
[null,null,null,null,null,null,null,null,null,null,{"$f":"IF(G266<>\"\",IF(総括表①!$D$10=\"-\",総括表①!$C$10,総括表①!$D$10),\"\")","v":""},null,null,{"$f":"IF(SUM(K267:M267)=0,0,ROUND(K267/SUM(K267:M267),3))","v":0},null,{"$f":"IF(I250>0,ROUND(-G266*N266,0),0)","v":0}]
[null,null,null,null,null,null,null,null,null,null,null,null,null,null,null,null,null,null,null,null,null,null,{"$f":"IF(R266>P266,\"！　(17）が(16)を超えています。\",\"\")","v":""},null,null,null,{"$f":"IF(G266=\"\",\"\",IF(SIGN(G266)=SIGN(R266),\"！(11)と(17)の符号が逆になっていません。\",\"\"))","v":""}]
[null,null,null,null,null,null,null,null,null,null,{"$f":"IF(G268<>\"\",IF(総括表①!$D$10=\"-\",総括表①!$C$10,総括表①!$D$10),\"\")","v":""},null,null,{"$f":"IF(SUM(K269:M269)=0,0,ROUND(K269/SUM(K269:M269),3))","v":0},null,{"$f":"IF(I250>0,ROUND(-G268*N268,0),0)","v":0}]
[null,null,null,null,null,null,null,null,null,null,null,null,null,null,null,null,null,null,null,null,null,null,{"$f":"IF(R268>P268,\"！　(17）が(16)を超えています。\",\"\")","v":""},null,null,null,{"$f":"IF(G268=\"\",\"\",IF(SIGN(G268)=SIGN(R268),\"！(11)と(17)の符号が逆になっていません。\",\"\"))","v":""}]
[null,4,null,null,null,null,null,null,{"$f":"IF(SUM(G270:H289)>=0,0,-1*SUM(G270:H289))","v":0},null,{"$f":"IF(G270<>\"\",IF(総括表①!$D$10=\"-\",総括表①!$C$10,総括表①!$D$10),\"\")","v":""},null,null,{"$f":"IF(SUM(K271:M271)=0,0,ROUND(K271/SUM(K271:M271),3))","v":0},null,{"$f":"IF(I270>0,ROUND(-G270*N270,0),0)","v":0},null,null,null,null,null,null,null,null,null,null,null,null,null,null,null,{"$f":"IF(AND(I270>0,SUM(P270:Q289)<=0)=TRUE,0,SUM(P270:Q289))","v":0},{"$f":"IF(AND(I270>0,SUM(R270:S289)<=0)=TRUE,0,SUM(R270:S289))","v":0}]
[null,null,null,null,null,null,null,null,null,null,null,null,null,null,null,null,null,null,null,null,null,null,{"$f":"IF(R270>P270,\"！　(17）が(16)を超えています。\",\"\")","v":""},null,null,null,{"$f":"IF(G270=\"\",\"\",IF(SIGN(G270)=SIGN(R270),\"！(11)と(17)の符号が逆になっていません。\",\"\"))","v":""}]
[null,null,null,null,null,null,null,null,null,null,{"$f":"IF(G272<>\"\",IF(総括表①!$D$10=\"-\",総括表①!$C$10,総括表①!$D$10),\"\")","v":""},null,null,{"$f":"IF(SUM(K273:M273)=0,0,ROUND(K273/SUM(K273:M273),3))","v":0},null,{"$f":"IF(I270>0,ROUND(-G272*N272,0),0)","v":0}]
[null,null,null,null,null,null,null,null,null,null,null,null,null,null,null,null,null,null,null,null,null,null,{"$f":"IF(R272>P272,\"！　(17）が(16)を超えています。\",\"\")","v":""},null,null,null,{"$f":"IF(G272=\"\",\"\",IF(SIGN(G272)=SIGN(R272),\"！(11)と(17)の符号が逆になっていません。\",\"\"))","v":""}]
[null,null,null,null,null,null,null,null,null,null,{"$f":"IF(G274<>\"\",IF(総括表①!$D$10=\"-\",総括表①!$C$10,総括表①!$D$10),\"\")","v":""},null,null,{"$f":"IF(SUM(K275:M275)=0,0,ROUND(K275/SUM(K275:M275),3))","v":0},null,{"$f":"IF(I270>0,ROUND(-G274*N274,0),0)","v":0}]
[null,null,null,null,null,null,null,null,null,null,null,null,null,null,null,null,null,null,null,null,null,null,{"$f":"IF(R274>P274,\"！　(17）が(16)を超えています。\",\"\")","v":""},null,null,null,{"$f":"IF(G274=\"\",\"\",IF(SIGN(G274)=SIGN(R274),\"！(11)と(17)の符号が逆になっていません。\",\"\"))","v":""}]
[null,null,null,null,null,null,null,null,null,null,{"$f":"IF(G276<>\"\",IF(総括表①!$D$10=\"-\",総括表①!$C$10,総括表①!$D$10),\"\")","v":""},null,null,{"$f":"IF(SUM(K277:M277)=0,0,ROUND(K277/SUM(K277:M277),3))","v":0},null,{"$f":"IF(I270>0,ROUND(-G276*N276,0),0)","v":0}]
[null,null,null,null,null,null,null,null,null,null,null,null,null,null,null,null,null,null,null,null,null,null,{"$f":"IF(R276>P276,\"！　(17）が(16)を超えています。\",\"\")","v":""},null,null,null,{"$f":"IF(G276=\"\",\"\",IF(SIGN(G276)=SIGN(R276),\"！(11)と(17)の符号が逆になっていません。\",\"\"))","v":""}]
[null,null,null,null,null,null,null,null,null,null,{"$f":"IF(G278<>\"\",IF(総括表①!$D$10=\"-\",総括表①!$C$10,総括表①!$D$10),\"\")","v":""},null,null,{"$f":"IF(SUM(K279:M279)=0,0,ROUND(K279/SUM(K279:M279),3))","v":0},null,{"$f":"IF(I270>0,ROUND(-G278*N278,0),0)","v":0}]
[null,null,null,null,null,null,null,null,null,null,null,null,null,null,null,null,null,null,null,null,null,null,{"$f":"IF(R278>P278,\"！　(17）が(16)を超えています。\",\"\")","v":""},null,null,null,{"$f":"IF(G278=\"\",\"\",IF(SIGN(G278)=SIGN(R278),\"！(11)と(17)の符号が逆になっていません。\",\"\"))","v":""}]
[null,null,null,null,null,null,null,null,null,null,{"$f":"IF(G280<>\"\",IF(総括表①!$D$10=\"-\",総括表①!$C$10,総括表①!$D$10),\"\")","v":""},null,null,{"$f":"IF(SUM(K281:M281)=0,0,ROUND(K281/SUM(K281:M281),3))","v":0},null,{"$f":"IF(I270>0,ROUND(-G280*N280,0),0)","v":0}]
[null,null,null,null,null,null,null,null,null,null,null,null,null,null,null,null,null,null,null,null,null,null,{"$f":"IF(R280>P280,\"！　(17）が(16)を超えています。\",\"\")","v":""},null,null,null,{"$f":"IF(G280=\"\",\"\",IF(SIGN(G280)=SIGN(R280),\"！(11)と(17)の符号が逆になっていません。\",\"\"))","v":""}]
[null,null,null,null,null,null,null,null,null,null,{"$f":"IF(G282<>\"\",IF(総括表①!$D$10=\"-\",総括表①!$C$10,総括表①!$D$10),\"\")","v":""},null,null,{"$f":"IF(SUM(K283:M283)=0,0,ROUND(K283/SUM(K283:M283),3))","v":0},null,{"$f":"IF(I270>0,ROUND(-G282*N282,0),0)","v":0}]
[null,null,null,null,null,null,null,null,null,null,null,null,null,null,null,null,null,null,null,null,null,null,{"$f":"IF(R282>P282,\"！　(17）が(16)を超えています。\",\"\")","v":""},null,null,null,{"$f":"IF(G282=\"\",\"\",IF(SIGN(G282)=SIGN(R282),\"！(11)と(17)の符号が逆になっていません。\",\"\"))","v":""}]
[null,null,null,null,null,null,null,null,null,null,{"$f":"IF(G284<>\"\",IF(総括表①!$D$10=\"-\",総括表①!$C$10,総括表①!$D$10),\"\")","v":""},null,null,{"$f":"IF(SUM(K285:M285)=0,0,ROUND(K285/SUM(K285:M285),3))","v":0},null,{"$f":"IF(I270>0,ROUND(-G284*N284,0),0)","v":0}]
[null,null,null,null,null,null,null,null,null,null,null,null,null,null,null,null,null,null,null,null,null,null,{"$f":"IF(R284>P284,\"！　(17）が(16)を超えています。\",\"\")","v":""},null,null,null,{"$f":"IF(G284=\"\",\"\",IF(SIGN(G284)=SIGN(R284),\"！(11)と(17)の符号が逆になっていません。\",\"\"))","v":""}]
[null,null,null,null,null,null,null,null,null,null,{"$f":"IF(G286<>\"\",IF(総括表①!$D$10=\"-\",総括表①!$C$10,総括表①!$D$10),\"\")","v":""},null,null,{"$f":"IF(SUM(K287:M287)=0,0,ROUND(K287/SUM(K287:M287),3))","v":0},null,{"$f":"IF(I270>0,ROUND(-G286*N286,0),0)","v":0}]
[null,null,null,null,null,null,null,null,null,null,null,null,null,null,null,null,null,null,null,null,null,null,{"$f":"IF(R286>P286,\"！　(17）が(16)を超えています。\",\"\")","v":""},null,null,null,{"$f":"IF(G286=\"\",\"\",IF(SIGN(G286)=SIGN(R286),\"！(11)と(17)の符号が逆になっていません。\",\"\"))","v":""}]
[null,null,null,null,null,null,null,null,null,null,{"$f":"IF(G288<>\"\",IF(総括表①!$D$10=\"-\",総括表①!$C$10,総括表①!$D$10),\"\")","v":""},null,null,{"$f":"IF(SUM(K289:M289)=0,0,ROUND(K289/SUM(K289:M289),3))","v":0},null,{"$f":"IF(I270>0,ROUND(-G288*N288,0),0)","v":0}]
[null,null,null,null,null,null,null,null,null,null,null,null,null,null,null,null,null,null,null,null,null,null,{"$f":"IF(R288>P288,\"！　(17）が(16)を超えています。\",\"\")","v":""},null,null,null,{"$f":"IF(G288=\"\",\"\",IF(SIGN(G288)=SIGN(R288),\"！(11)と(17)の符号が逆になっていません。\",\"\"))","v":""}]
[null,5,null,null,null,null,null,null,{"$f":"IF(SUM(G290:H309)>=0,0,-1*SUM(G290:H309))","v":0},null,{"$f":"IF(G290<>\"\",IF(総括表①!$D$10=\"-\",総括表①!$C$10,総括表①!$D$10),\"\")","v":""},null,null,{"$f":"IF(SUM(K291:M291)=0,0,ROUND(K291/SUM(K291:M291),3))","v":0},null,{"$f":"IF(I290>0,ROUND(-G290*N290,0),0)","v":0},null,null,null,null,null,null,null,null,null,null,null,null,null,null,null,{"$f":"IF(AND(I290>0,SUM(P290:Q309)<=0)=TRUE,0,SUM(P290:Q309))","v":0},{"$f":"IF(AND(I290>0,SUM(R290:S309)<=0)=TRUE,0,SUM(R290:S309))","v":0}]
[null,null,null,null,null,null,null,null,null,null,null,null,null,null,null,null,null,null,null,null,null,null,{"$f":"IF(R290>P290,\"！　(17）が(16)を超えています。\",\"\")","v":""},null,null,null,{"$f":"IF(G290=\"\",\"\",IF(SIGN(G290)=SIGN(R290),\"！(11)と(17)の符号が逆になっていません。\",\"\"))","v":""}]
[null,null,null,null,null,null,null,null,null,null,{"$f":"IF(G292<>\"\",IF(総括表①!$D$10=\"-\",総括表①!$C$10,総括表①!$D$10),\"\")","v":""},null,null,{"$f":"IF(SUM(K293:M293)=0,0,ROUND(K293/SUM(K293:M293),3))","v":0},null,{"$f":"IF(I290>0,ROUND(-G292*N292,0),0)","v":0}]
[null,null,null,null,null,null,null,null,null,null,null,null,null,null,null,null,null,null,null,null,null,null,{"$f":"IF(R292>P292,\"！　(17）が(16)を超えています。\",\"\")","v":""},null,null,null,{"$f":"IF(G292=\"\",\"\",IF(SIGN(G292)=SIGN(R292),\"！(11)と(17)の符号が逆になっていません。\",\"\"))","v":""}]
[null,null,null,null,null,null,null,null,null,null,{"$f":"IF(G294<>\"\",IF(総括表①!$D$10=\"-\",総括表①!$C$10,総括表①!$D$10),\"\")","v":""},null,null,{"$f":"IF(SUM(K295:M295)=0,0,ROUND(K295/SUM(K295:M295),3))","v":0},null,{"$f":"IF(I290>0,ROUND(-G294*N294,0),0)","v":0}]
[null,null,null,null,null,null,null,null,null,null,null,null,null,null,null,null,null,null,null,null,null,null,{"$f":"IF(R294>P294,\"！　(17）が(16)を超えています。\",\"\")","v":""},null,null,null,{"$f":"IF(G294=\"\",\"\",IF(SIGN(G294)=SIGN(R294),\"！(11)と(17)の符号が逆になっていません。\",\"\"))","v":""}]
[null,null,null,null,null,null,null,null,null,null,{"$f":"IF(G296<>\"\",IF(総括表①!$D$10=\"-\",総括表①!$C$10,総括表①!$D$10),\"\")","v":""},null,null,{"$f":"IF(SUM(K297:M297)=0,0,ROUND(K297/SUM(K297:M297),3))","v":0},null,{"$f":"IF(I290>0,ROUND(-G296*N296,0),0)","v":0}]
[null,null,null,null,null,null,null,null,null,null,null,null,null,null,null,null,null,null,null,null,null,null,{"$f":"IF(R296>P296,\"！　(17）が(16)を超えています。\",\"\")","v":""},null,null,null,{"$f":"IF(G296=\"\",\"\",IF(SIGN(G296)=SIGN(R296),\"！(11)と(17)の符号が逆になっていません。\",\"\"))","v":""}]
[null,null,null,null,null,null,null,null,null,null,{"$f":"IF(G298<>\"\",IF(総括表①!$D$10=\"-\",総括表①!$C$10,総括表①!$D$10),\"\")","v":""},null,null,{"$f":"IF(SUM(K299:M299)=0,0,ROUND(K299/SUM(K299:M299),3))","v":0},null,{"$f":"IF(I290>0,ROUND(-G298*N298,0),0)","v":0}]
[null,null,null,null,null,null,null,null,null,null,null,null,null,null,null,null,null,null,null,null,null,null,{"$f":"IF(R298>P298,\"！　(17）が(16)を超えています。\",\"\")","v":""},null,null,null,{"$f":"IF(G298=\"\",\"\",IF(SIGN(G298)=SIGN(R298),\"！(11)と(17)の符号が逆になっていません。\",\"\"))","v":""}]
[null,null,null,null,null,null,null,null,null,null,{"$f":"IF(G300<>\"\",IF(総括表①!$D$10=\"-\",総括表①!$C$10,総括表①!$D$10),\"\")","v":""},null,null,{"$f":"IF(SUM(K301:M301)=0,0,ROUND(K301/SUM(K301:M301),3))","v":0},null,{"$f":"IF(I290>0,ROUND(-G300*N300,0),0)","v":0}]
[null,null,null,null,null,null,null,null,null,null,null,null,null,null,null,null,null,null,null,null,null,null,{"$f":"IF(R300>P300,\"！　(17）が(16)を超えています。\",\"\")","v":""},null,null,null,{"$f":"IF(G300=\"\",\"\",IF(SIGN(G300)=SIGN(R300),\"！(11)と(17)の符号が逆になっていません。\",\"\"))","v":""}]
[null,null,null,null,null,null,null,null,null,null,{"$f":"IF(G302<>\"\",IF(総括表①!$D$10=\"-\",総括表①!$C$10,総括表①!$D$10),\"\")","v":""},null,null,{"$f":"IF(SUM(K303:M303)=0,0,ROUND(K303/SUM(K303:M303),3))","v":0},null,{"$f":"IF(I290>0,ROUND(-G302*N302,0),0)","v":0}]
[null,null,null,null,null,null,null,null,null,null,null,null,null,null,null,null,null,null,null,null,null,null,{"$f":"IF(R302>P302,\"！　(17）が(16)を超えています。\",\"\")","v":""},null,null,null,{"$f":"IF(G302=\"\",\"\",IF(SIGN(G302)=SIGN(R302),\"！(11)と(17)の符号が逆になっていません。\",\"\"))","v":""}]
[null,null,null,null,null,null,null,null,null,null,{"$f":"IF(G304<>\"\",IF(総括表①!$D$10=\"-\",総括表①!$C$10,総括表①!$D$10),\"\")","v":""},null,null,{"$f":"IF(SUM(K305:M305)=0,0,ROUND(K305/SUM(K305:M305),3))","v":0},null,{"$f":"IF(I290>0,ROUND(-G304*N304,0),0)","v":0}]
[null,null,null,null,null,null,null,null,null,null,null,null,null,null,null,null,null,null,null,null,null,null,{"$f":"IF(R304>P304,\"！　(17）が(16)を超えています。\",\"\")","v":""},null,null,null,{"$f":"IF(G304=\"\",\"\",IF(SIGN(G304)=SIGN(R304),\"！(11)と(17)の符号が逆になっていません。\",\"\"))","v":""}]
[null,null,null,null,null,null,null,null,null,null,{"$f":"IF(G306<>\"\",IF(総括表①!$D$10=\"-\",総括表①!$C$10,総括表①!$D$10),\"\")","v":""},null,null,{"$f":"IF(SUM(K307:M307)=0,0,ROUND(K307/SUM(K307:M307),3))","v":0},null,{"$f":"IF(I290>0,ROUND(-G306*N306,0),0)","v":0}]
[null,null,null,null,null,null,null,null,null,null,null,null,null,null,null,null,null,null,null,null,null,null,{"$f":"IF(R306>P306,\"！　(17）が(16)を超えています。\",\"\")","v":""},null,null,null,{"$f":"IF(G306=\"\",\"\",IF(SIGN(G306)=SIGN(R306),\"！(11)と(17)の符号が逆になっていません。\",\"\"))","v":""}]
[null,null,null,null,null,null,null,null,null,null,{"$f":"IF(G308<>\"\",IF(総括表①!$D$10=\"-\",総括表①!$C$10,総括表①!$D$10),\"\")","v":""},null,null,{"$f":"IF(SUM(K309:M309)=0,0,ROUND(K309/SUM(K309:M309),3))","v":0},null,{"$f":"IF(I290>0,ROUND(-G308*N308,0),0)","v":0}]
[null,null,null,null,null,null,null,null,null,null,null,null,null,null,null,null,null,null,null,null,null,null,{"$f":"IF(R308>P308,\"！　(17）が(16)を超えています。\",\"\")","v":""},null,null,null,{"$f":"IF(G308=\"\",\"\",IF(SIGN(G308)=SIGN(R308),\"！(11)と(17)の符号が逆になっていません。\",\"\"))","v":""}]
[null,6,null,null,null,null,null,null,{"$f":"IF(SUM(G310:H329)>=0,0,-1*SUM(G310:H329))","v":0},null,{"$f":"IF(G310<>\"\",IF(総括表①!$D$10=\"-\",総括表①!$C$10,総括表①!$D$10),\"\")","v":""},null,null,{"$f":"IF(SUM(K311:M311)=0,0,ROUND(K311/SUM(K311:M311),3))","v":0},null,{"$f":"IF(I310>0,ROUND(-G310*N310,0),0)","v":0},null,null,null,null,null,null,null,null,null,null,null,null,null,null,null,{"$f":"IF(AND(I310>0,SUM(P310:Q329)<=0)=TRUE,0,SUM(P310:Q329))","v":0},{"$f":"IF(AND(I310>0,SUM(R310:S329)<=0)=TRUE,0,SUM(R310:S329))","v":0}]
[null,null,null,null,null,null,null,null,null,null,null,null,null,null,null,null,null,null,null,null,null,null,{"$f":"IF(R310>P310,\"！　(17）が(16)を超えています。\",\"\")","v":""},null,null,null,{"$f":"IF(G310=\"\",\"\",IF(SIGN(G310)=SIGN(R310),\"！(11)と(17)の符号が逆になっていません。\",\"\"))","v":""}]
[null,null,null,null,null,null,null,null,null,null,{"$f":"IF(G312<>\"\",IF(総括表①!$D$10=\"-\",総括表①!$C$10,総括表①!$D$10),\"\")","v":""},null,null,{"$f":"IF(SUM(K313:M313)=0,0,ROUND(K313/SUM(K313:M313),3))","v":0},null,{"$f":"IF(I310>0,ROUND(-G312*N312,0),0)","v":0}]
[null,null,null,null,null,null,null,null,null,null,null,null,null,null,null,null,null,null,null,null,null,null,{"$f":"IF(R312>P312,\"！　(17）が(16)を超えています。\",\"\")","v":""},null,null,null,{"$f":"IF(G312=\"\",\"\",IF(SIGN(G312)=SIGN(R312),\"！(11)と(17)の符号が逆になっていません。\",\"\"))","v":""}]
[null,null,null,null,null,null,null,null,null,null,{"$f":"IF(G314<>\"\",IF(総括表①!$D$10=\"-\",総括表①!$C$10,総括表①!$D$10),\"\")","v":""},null,null,{"$f":"IF(SUM(K315:M315)=0,0,ROUND(K315/SUM(K315:M315),3))","v":0},null,{"$f":"IF(I310>0,ROUND(-G314*N314,0),0)","v":0}]
[null,null,null,null,null,null,null,null,null,null,null,null,null,null,null,null,null,null,null,null,null,null,{"$f":"IF(R314>P314,\"！　(17）が(16)を超えています。\",\"\")","v":""},null,null,null,{"$f":"IF(G314=\"\",\"\",IF(SIGN(G314)=SIGN(R314),\"！(11)と(17)の符号が逆になっていません。\",\"\"))","v":""}]
[null,null,null,null,null,null,null,null,null,null,{"$f":"IF(G316<>\"\",IF(総括表①!$D$10=\"-\",総括表①!$C$10,総括表①!$D$10),\"\")","v":""},null,null,{"$f":"IF(SUM(K317:M317)=0,0,ROUND(K317/SUM(K317:M317),3))","v":0},null,{"$f":"IF(I310>0,ROUND(-G316*N316,0),0)","v":0}]
[null,null,null,null,null,null,null,null,null,null,null,null,null,null,null,null,null,null,null,null,null,null,{"$f":"IF(R316>P316,\"！　(17）が(16)を超えています。\",\"\")","v":""},null,null,null,{"$f":"IF(G316=\"\",\"\",IF(SIGN(G316)=SIGN(R316),\"！(11)と(17)の符号が逆になっていません。\",\"\"))","v":""}]
[null,null,null,null,null,null,null,null,null,null,{"$f":"IF(G318<>\"\",IF(総括表①!$D$10=\"-\",総括表①!$C$10,総括表①!$D$10),\"\")","v":""},null,null,{"$f":"IF(SUM(K319:M319)=0,0,ROUND(K319/SUM(K319:M319),3))","v":0},null,{"$f":"IF(I310>0,ROUND(-G318*N318,0),0)","v":0}]
[null,null,null,null,null,null,null,null,null,null,null,null,null,null,null,null,null,null,null,null,null,null,{"$f":"IF(R318>P318,\"！　(17）が(16)を超えています。\",\"\")","v":""},null,null,null,{"$f":"IF(G318=\"\",\"\",IF(SIGN(G318)=SIGN(R318),\"！(11)と(17)の符号が逆になっていません。\",\"\"))","v":""}]
[null,null,null,null,null,null,null,null,null,null,{"$f":"IF(G320<>\"\",IF(総括表①!$D$10=\"-\",総括表①!$C$10,総括表①!$D$10),\"\")","v":""},null,null,{"$f":"IF(SUM(K321:M321)=0,0,ROUND(K321/SUM(K321:M321),3))","v":0},null,{"$f":"IF(I310>0,ROUND(-G320*N320,0),0)","v":0}]
[null,null,null,null,null,null,null,null,null,null,null,null,null,null,null,null,null,null,null,null,null,null,{"$f":"IF(R320>P320,\"！　(17）が(16)を超えています。\",\"\")","v":""},null,null,null,{"$f":"IF(G320=\"\",\"\",IF(SIGN(G320)=SIGN(R320),\"！(11)と(17)の符号が逆になっていません。\",\"\"))","v":""}]
[null,null,null,null,null,null,null,null,null,null,{"$f":"IF(G322<>\"\",IF(総括表①!$D$10=\"-\",総括表①!$C$10,総括表①!$D$10),\"\")","v":""},null,null,{"$f":"IF(SUM(K323:M323)=0,0,ROUND(K323/SUM(K323:M323),3))","v":0},null,{"$f":"IF(I310>0,ROUND(-G322*N322,0),0)","v":0}]
[null,null,null,null,null,null,null,null,null,null,null,null,null,null,null,null,null,null,null,null,null,null,{"$f":"IF(R322>P322,\"！　(17）が(16)を超えています。\",\"\")","v":""},null,null,null,{"$f":"IF(G322=\"\",\"\",IF(SIGN(G322)=SIGN(R322),\"！(11)と(17)の符号が逆になっていません。\",\"\"))","v":""}]
[null,null,null,null,null,null,null,null,null,null,{"$f":"IF(G324<>\"\",IF(総括表①!$D$10=\"-\",総括表①!$C$10,総括表①!$D$10),\"\")","v":""},null,null,{"$f":"IF(SUM(K325:M325)=0,0,ROUND(K325/SUM(K325:M325),3))","v":0},null,{"$f":"IF(I310>0,ROUND(-G324*N324,0),0)","v":0}]
[null,null,null,null,null,null,null,null,null,null,null,null,null,null,null,null,null,null,null,null,null,null,{"$f":"IF(R324>P324,\"！　(17）が(16)を超えています。\",\"\")","v":""},null,null,null,{"$f":"IF(G324=\"\",\"\",IF(SIGN(G324)=SIGN(R324),\"！(11)と(17)の符号が逆になっていません。\",\"\"))","v":""}]
[null,null,null,null,null,null,null,null,null,null,{"$f":"IF(G326<>\"\",IF(総括表①!$D$10=\"-\",総括表①!$C$10,総括表①!$D$10),\"\")","v":""},null,null,{"$f":"IF(SUM(K327:M327)=0,0,ROUND(K327/SUM(K327:M327),3))","v":0},null,{"$f":"IF(I310>0,ROUND(-G326*N326,0),0)","v":0}]
[null,null,null,null,null,null,null,null,null,null,null,null,null,null,null,null,null,null,null,null,null,null,{"$f":"IF(R326>P326,\"！　(17）が(16)を超えています。\",\"\")","v":""},null,null,null,{"$f":"IF(G326=\"\",\"\",IF(SIGN(G326)=SIGN(R326),\"！(11)と(17)の符号が逆になっていません。\",\"\"))","v":""}]
[null,null,null,null,null,null,null,null,null,null,{"$f":"IF(G328<>\"\",IF(総括表①!$D$10=\"-\",総括表①!$C$10,総括表①!$D$10),\"\")","v":""},null,null,{"$f":"IF(SUM(K329:M329)=0,0,ROUND(K329/SUM(K329:M329),3))","v":0},null,{"$f":"IF(I310>0,ROUND(-G328*N328,0),0)","v":0}]
[null,null,null,null,null,null,null,null,null,null,null,null,null,null,null,null,null,null,null,null,null,null,{"$f":"IF(R328>P328,\"！　(17）が(16)を超えています。\",\"\")","v":""},null,null,null,{"$f":"IF(G328=\"\",\"\",IF(SIGN(G328)=SIGN(R328),\"！(11)と(17)の符号が逆になっていません。\",\"\"))","v":""}]
[null,7,null,null,null,null,null,null,{"$f":"IF(SUM(G330:H349)>=0,0,-1*SUM(G330:H349))","v":0},null,{"$f":"IF(G330<>\"\",IF(総括表①!$D$10=\"-\",総括表①!$C$10,総括表①!$D$10),\"\")","v":""},null,null,{"$f":"IF(SUM(K331:M331)=0,0,ROUND(K331/SUM(K331:M331),3))","v":0},null,{"$f":"IF(I330>0,ROUND(-G330*N330,0),0)","v":0},null,null,null,null,null,null,null,null,null,null,null,null,null,null,null,{"$f":"IF(AND(I330>0,SUM(P330:Q349)<=0)=TRUE,0,SUM(P330:Q349))","v":0},{"$f":"IF(AND(I330>0,SUM(R330:S349)<=0)=TRUE,0,SUM(R330:S349))","v":0}]
[null,null,null,null,null,null,null,null,null,null,null,null,null,null,null,null,null,null,null,null,null,null,{"$f":"IF(R330>P330,\"！　(17）が(16)を超えています。\",\"\")","v":""},null,null,null,{"$f":"IF(G330=\"\",\"\",IF(SIGN(G330)=SIGN(R330),\"！(11)と(17)の符号が逆になっていません。\",\"\"))","v":""}]
[null,null,null,null,null,null,null,null,null,null,{"$f":"IF(G332<>\"\",IF(総括表①!$D$10=\"-\",総括表①!$C$10,総括表①!$D$10),\"\")","v":""},null,null,{"$f":"IF(SUM(K333:M333)=0,0,ROUND(K333/SUM(K333:M333),3))","v":0},null,{"$f":"IF(I330>0,ROUND(-G332*N332,0),0)","v":0}]
[null,null,null,null,null,null,null,null,null,null,null,null,null,null,null,null,null,null,null,null,null,null,{"$f":"IF(R332>P332,\"！　(17）が(16)を超えています。\",\"\")","v":""},null,null,null,{"$f":"IF(G332=\"\",\"\",IF(SIGN(G332)=SIGN(R332),\"！(11)と(17)の符号が逆になっていません。\",\"\"))","v":""}]
[null,null,null,null,null,null,null,null,null,null,{"$f":"IF(G334<>\"\",IF(総括表①!$D$10=\"-\",総括表①!$C$10,総括表①!$D$10),\"\")","v":""},null,null,{"$f":"IF(SUM(K335:M335)=0,0,ROUND(K335/SUM(K335:M335),3))","v":0},null,{"$f":"IF(I330>0,ROUND(-G334*N334,0),0)","v":0}]
[null,null,null,null,null,null,null,null,null,null,null,null,null,null,null,null,null,null,null,null,null,null,{"$f":"IF(R334>P334,\"！　(17）が(16)を超えています。\",\"\")","v":""},null,null,null,{"$f":"IF(G334=\"\",\"\",IF(SIGN(G334)=SIGN(R334),\"！(11)と(17)の符号が逆になっていません。\",\"\"))","v":""}]
[null,null,null,null,null,null,null,null,null,null,{"$f":"IF(G336<>\"\",IF(総括表①!$D$10=\"-\",総括表①!$C$10,総括表①!$D$10),\"\")","v":""},null,null,{"$f":"IF(SUM(K337:M337)=0,0,ROUND(K337/SUM(K337:M337),3))","v":0},null,{"$f":"IF(I330>0,ROUND(-G336*N336,0),0)","v":0}]
[null,null,null,null,null,null,null,null,null,null,null,null,null,null,null,null,null,null,null,null,null,null,{"$f":"IF(R336>P336,\"！　(17）が(16)を超えています。\",\"\")","v":""},null,null,null,{"$f":"IF(G336=\"\",\"\",IF(SIGN(G336)=SIGN(R336),\"！(11)と(17)の符号が逆になっていません。\",\"\"))","v":""}]
[null,null,null,null,null,null,null,null,null,null,{"$f":"IF(G338<>\"\",IF(総括表①!$D$10=\"-\",総括表①!$C$10,総括表①!$D$10),\"\")","v":""},null,null,{"$f":"IF(SUM(K339:M339)=0,0,ROUND(K339/SUM(K339:M339),3))","v":0},null,{"$f":"IF(I330>0,ROUND(-G338*N338,0),0)","v":0}]
[null,null,null,null,null,null,null,null,null,null,null,null,null,null,null,null,null,null,null,null,null,null,{"$f":"IF(R338>P338,\"！　(17）が(16)を超えています。\",\"\")","v":""},null,null,null,{"$f":"IF(G338=\"\",\"\",IF(SIGN(G338)=SIGN(R338),\"！(11)と(17)の符号が逆になっていません。\",\"\"))","v":""}]
[null,null,null,null,null,null,null,null,null,null,{"$f":"IF(G340<>\"\",IF(総括表①!$D$10=\"-\",総括表①!$C$10,総括表①!$D$10),\"\")","v":""},null,null,{"$f":"IF(SUM(K341:M341)=0,0,ROUND(K341/SUM(K341:M341),3))","v":0},null,{"$f":"IF(I330>0,ROUND(-G340*N340,0),0)","v":0}]
[null,null,null,null,null,null,null,null,null,null,null,null,null,null,null,null,null,null,null,null,null,null,{"$f":"IF(R340>P340,\"！　(17）が(16)を超えています。\",\"\")","v":""},null,null,null,{"$f":"IF(G340=\"\",\"\",IF(SIGN(G340)=SIGN(R340),\"！(11)と(17)の符号が逆になっていません。\",\"\"))","v":""}]
[null,null,null,null,null,null,null,null,null,null,{"$f":"IF(G342<>\"\",IF(総括表①!$D$10=\"-\",総括表①!$C$10,総括表①!$D$10),\"\")","v":""},null,null,{"$f":"IF(SUM(K343:M343)=0,0,ROUND(K343/SUM(K343:M343),3))","v":0},null,{"$f":"IF(I330>0,ROUND(-G342*N342,0),0)","v":0}]
[null,null,null,null,null,null,null,null,null,null,null,null,null,null,null,null,null,null,null,null,null,null,{"$f":"IF(R342>P342,\"！　(17）が(16)を超えています。\",\"\")","v":""},null,null,null,{"$f":"IF(G342=\"\",\"\",IF(SIGN(G342)=SIGN(R342),\"！(11)と(17)の符号が逆になっていません。\",\"\"))","v":""}]
[null,null,null,null,null,null,null,null,null,null,{"$f":"IF(G344<>\"\",IF(総括表①!$D$10=\"-\",総括表①!$C$10,総括表①!$D$10),\"\")","v":""},null,null,{"$f":"IF(SUM(K345:M345)=0,0,ROUND(K345/SUM(K345:M345),3))","v":0},null,{"$f":"IF(I330>0,ROUND(-G344*N344,0),0)","v":0}]
[null,null,null,null,null,null,null,null,null,null,null,null,null,null,null,null,null,null,null,null,null,null,{"$f":"IF(R344>P344,\"！　(17）が(16)を超えています。\",\"\")","v":""},null,null,null,{"$f":"IF(G344=\"\",\"\",IF(SIGN(G344)=SIGN(R344),\"！(11)と(17)の符号が逆になっていません。\",\"\"))","v":""}]
[null,null,null,null,null,null,null,null,null,null,{"$f":"IF(G346<>\"\",IF(総括表①!$D$10=\"-\",総括表①!$C$10,総括表①!$D$10),\"\")","v":""},null,null,{"$f":"IF(SUM(K347:M347)=0,0,ROUND(K347/SUM(K347:M347),3))","v":0},null,{"$f":"IF(I330>0,ROUND(-G346*N346,0),0)","v":0}]
[null,null,null,null,null,null,null,null,null,null,null,null,null,null,null,null,null,null,null,null,null,null,{"$f":"IF(R346>P346,\"！　(17）が(16)を超えています。\",\"\")","v":""},null,null,null,{"$f":"IF(G346=\"\",\"\",IF(SIGN(G346)=SIGN(R346),\"！(11)と(17)の符号が逆になっていません。\",\"\"))","v":""}]
[null,null,null,null,null,null,null,null,null,null,{"$f":"IF(G348<>\"\",IF(総括表①!$D$10=\"-\",総括表①!$C$10,総括表①!$D$10),\"\")","v":""},null,null,{"$f":"IF(SUM(K349:M349)=0,0,ROUND(K349/SUM(K349:M349),3))","v":0},null,{"$f":"IF(I330>0,ROUND(-G348*N348,0),0)","v":0}]
[null,null,null,null,null,null,null,null,null,null,null,null,null,null,null,null,null,null,null,null,null,null,{"$f":"IF(R348>P348,\"！　(17）が(16)を超えています。\",\"\")","v":""},null,null,null,{"$f":"IF(G348=\"\",\"\",IF(SIGN(G348)=SIGN(R348),\"！(11)と(17)の符号が逆になっていません。\",\"\"))","v":""}]
[null,8,null,null,null,null,null,null,{"$f":"IF(SUM(G350:H369)>=0,0,-1*SUM(G350:H369))","v":0},null,{"$f":"IF(G350<>\"\",IF(総括表①!$D$10=\"-\",総括表①!$C$10,総括表①!$D$10),\"\")","v":""},null,null,{"$f":"IF(SUM(K351:M351)=0,0,ROUND(K351/SUM(K351:M351),3))","v":0},null,{"$f":"IF(I350>0,ROUND(-G350*N350,0),0)","v":0},null,null,null,null,null,null,null,null,null,null,null,null,null,null,null,{"$f":"IF(AND(I350>0,SUM(P350:Q369)<=0)=TRUE,0,SUM(P350:Q369))","v":0},{"$f":"IF(AND(I350>0,SUM(R350:S369)<=0)=TRUE,0,SUM(R350:S369))","v":0}]
[null,null,null,null,null,null,null,null,null,null,null,null,null,null,null,null,null,null,null,null,null,null,{"$f":"IF(R350>P350,\"！　(17）が(16)を超えています。\",\"\")","v":""},null,null,null,{"$f":"IF(G350=\"\",\"\",IF(SIGN(G350)=SIGN(R350),\"！(11)と(17)の符号が逆になっていません。\",\"\"))","v":""}]
[null,null,null,null,null,null,null,null,null,null,{"$f":"IF(G352<>\"\",IF(総括表①!$D$10=\"-\",総括表①!$C$10,総括表①!$D$10),\"\")","v":""},null,null,{"$f":"IF(SUM(K353:M353)=0,0,ROUND(K353/SUM(K353:M353),3))","v":0},null,{"$f":"IF(I350>0,ROUND(-G352*N352,0),0)","v":0}]
[null,null,null,null,null,null,null,null,null,null,null,null,null,null,null,null,null,null,null,null,null,null,{"$f":"IF(R352>P352,\"！　(17）が(16)を超えています。\",\"\")","v":""},null,null,null,{"$f":"IF(G352=\"\",\"\",IF(SIGN(G352)=SIGN(R352),\"！(11)と(17)の符号が逆になっていません。\",\"\"))","v":""}]
[null,null,null,null,null,null,null,null,null,null,{"$f":"IF(G354<>\"\",IF(総括表①!$D$10=\"-\",総括表①!$C$10,総括表①!$D$10),\"\")","v":""},null,null,{"$f":"IF(SUM(K355:M355)=0,0,ROUND(K355/SUM(K355:M355),3))","v":0},null,{"$f":"IF(I350>0,ROUND(-G354*N354,0),0)","v":0}]
[null,null,null,null,null,null,null,null,null,null,null,null,null,null,null,null,null,null,null,null,null,null,{"$f":"IF(R354>P354,\"！　(17）が(16)を超えています。\",\"\")","v":""},null,null,null,{"$f":"IF(G354=\"\",\"\",IF(SIGN(G354)=SIGN(R354),\"！(11)と(17)の符号が逆になっていません。\",\"\"))","v":""}]
[null,null,null,null,null,null,null,null,null,null,{"$f":"IF(G356<>\"\",IF(総括表①!$D$10=\"-\",総括表①!$C$10,総括表①!$D$10),\"\")","v":""},null,null,{"$f":"IF(SUM(K357:M357)=0,0,ROUND(K357/SUM(K357:M357),3))","v":0},null,{"$f":"IF(I350>0,ROUND(-G356*N356,0),0)","v":0}]
[null,null,null,null,null,null,null,null,null,null,null,null,null,null,null,null,null,null,null,null,null,null,{"$f":"IF(R356>P356,\"！　(17）が(16)を超えています。\",\"\")","v":""},null,null,null,{"$f":"IF(G356=\"\",\"\",IF(SIGN(G356)=SIGN(R356),\"！(11)と(17)の符号が逆になっていません。\",\"\"))","v":""}]
[null,null,null,null,null,null,null,null,null,null,{"$f":"IF(G358<>\"\",IF(総括表①!$D$10=\"-\",総括表①!$C$10,総括表①!$D$10),\"\")","v":""},null,null,{"$f":"IF(SUM(K359:M359)=0,0,ROUND(K359/SUM(K359:M359),3))","v":0},null,{"$f":"IF(I350>0,ROUND(-G358*N358,0),0)","v":0}]
[null,null,null,null,null,null,null,null,null,null,null,null,null,null,null,null,null,null,null,null,null,null,{"$f":"IF(R358>P358,\"！　(17）が(16)を超えています。\",\"\")","v":""},null,null,null,{"$f":"IF(G358=\"\",\"\",IF(SIGN(G358)=SIGN(R358),\"！(11)と(17)の符号が逆になっていません。\",\"\"))","v":""}]
[null,null,null,null,null,null,null,null,null,null,{"$f":"IF(G360<>\"\",IF(総括表①!$D$10=\"-\",総括表①!$C$10,総括表①!$D$10),\"\")","v":""},null,null,{"$f":"IF(SUM(K361:M361)=0,0,ROUND(K361/SUM(K361:M361),3))","v":0},null,{"$f":"IF(I350>0,ROUND(-G360*N360,0),0)","v":0}]
[null,null,null,null,null,null,null,null,null,null,null,null,null,null,null,null,null,null,null,null,null,null,{"$f":"IF(R360>P360,\"！　(17）が(16)を超えています。\",\"\")","v":""},null,null,null,{"$f":"IF(G360=\"\",\"\",IF(SIGN(G360)=SIGN(R360),\"！(11)と(17)の符号が逆になっていません。\",\"\"))","v":""}]
[null,null,null,null,null,null,null,null,null,null,{"$f":"IF(G362<>\"\",IF(総括表①!$D$10=\"-\",総括表①!$C$10,総括表①!$D$10),\"\")","v":""},null,null,{"$f":"IF(SUM(K363:M363)=0,0,ROUND(K363/SUM(K363:M363),3))","v":0},null,{"$f":"IF(I350>0,ROUND(-G362*N362,0),0)","v":0}]
[null,null,null,null,null,null,null,null,null,null,null,null,null,null,null,null,null,null,null,null,null,null,{"$f":"IF(R362>P362,\"！　(17）が(16)を超えています。\",\"\")","v":""},null,null,null,{"$f":"IF(G362=\"\",\"\",IF(SIGN(G362)=SIGN(R362),\"！(11)と(17)の符号が逆になっていません。\",\"\"))","v":""}]
[null,null,null,null,null,null,null,null,null,null,{"$f":"IF(G364<>\"\",IF(総括表①!$D$10=\"-\",総括表①!$C$10,総括表①!$D$10),\"\")","v":""},null,null,{"$f":"IF(SUM(K365:M365)=0,0,ROUND(K365/SUM(K365:M365),3))","v":0},null,{"$f":"IF(I350>0,ROUND(-G364*N364,0),0)","v":0}]
[null,null,null,null,null,null,null,null,null,null,null,null,null,null,null,null,null,null,null,null,null,null,{"$f":"IF(R364>P364,\"！　(17）が(16)を超えています。\",\"\")","v":""},null,null,null,{"$f":"IF(G364=\"\",\"\",IF(SIGN(G364)=SIGN(R364),\"！(11)と(17)の符号が逆になっていません。\",\"\"))","v":""}]
[null,null,null,null,null,null,null,null,null,null,{"$f":"IF(G366<>\"\",IF(総括表①!$D$10=\"-\",総括表①!$C$10,総括表①!$D$10),\"\")","v":""},null,null,{"$f":"IF(SUM(K367:M367)=0,0,ROUND(K367/SUM(K367:M367),3))","v":0},null,{"$f":"IF(I350>0,ROUND(-G366*N366,0),0)","v":0}]
[null,null,null,null,null,null,null,null,null,null,null,null,null,null,null,null,null,null,null,null,null,null,{"$f":"IF(R366>P366,\"！　(17）が(16)を超えています。\",\"\")","v":""},null,null,null,{"$f":"IF(G366=\"\",\"\",IF(SIGN(G366)=SIGN(R366),\"！(11)と(17)の符号が逆になっていません。\",\"\"))","v":""}]
[null,null,null,null,null,null,null,null,null,null,{"$f":"IF(G368<>\"\",IF(総括表①!$D$10=\"-\",総括表①!$C$10,総括表①!$D$10),\"\")","v":""},null,null,{"$f":"IF(SUM(K369:M369)=0,0,ROUND(K369/SUM(K369:M369),3))","v":0},null,{"$f":"IF(I350>0,ROUND(-G368*N368,0),0)","v":0}]
[null,null,null,null,null,null,null,null,null,null,null,null,null,null,null,null,null,null,null,null,null,null,{"$f":"IF(R368>P368,\"！　(17）が(16)を超えています。\",\"\")","v":""},null,null,null,{"$f":"IF(G368=\"\",\"\",IF(SIGN(G368)=SIGN(R368),\"！(11)と(17)の符号が逆になっていません。\",\"\"))","v":""}]
[null,9,null,null,null,null,null,null,{"$f":"IF(SUM(G370:H389)>=0,0,-1*SUM(G370:H389))","v":0},null,{"$f":"IF(G370<>\"\",IF(総括表①!$D$10=\"-\",総括表①!$C$10,総括表①!$D$10),\"\")","v":""},null,null,{"$f":"IF(SUM(K371:M371)=0,0,ROUND(K371/SUM(K371:M371),3))","v":0},null,{"$f":"IF(I370>0,ROUND(-G370*N370,0),0)","v":0},null,null,null,null,null,null,null,null,null,null,null,null,null,null,null,{"$f":"IF(AND(I370>0,SUM(P370:Q389)<=0)=TRUE,0,SUM(P370:Q389))","v":0},{"$f":"IF(AND(I370>0,SUM(R370:S389)<=0)=TRUE,0,SUM(R370:S389))","v":0}]
[null,null,null,null,null,null,null,null,null,null,null,null,null,null,null,null,null,null,null,null,null,null,{"$f":"IF(R370>P370,\"！　(17）が(16)を超えています。\",\"\")","v":""},null,null,null,{"$f":"IF(G370=\"\",\"\",IF(SIGN(G370)=SIGN(R370),\"！(11)と(17)の符号が逆になっていません。\",\"\"))","v":""}]
[null,null,null,null,null,null,null,null,null,null,{"$f":"IF(G372<>\"\",IF(総括表①!$D$10=\"-\",総括表①!$C$10,総括表①!$D$10),\"\")","v":""},null,null,{"$f":"IF(SUM(K373:M373)=0,0,ROUND(K373/SUM(K373:M373),3))","v":0},null,{"$f":"IF(I370>0,ROUND(-G372*N372,0),0)","v":0}]
[null,null,null,null,null,null,null,null,null,null,null,null,null,null,null,null,null,null,null,null,null,null,{"$f":"IF(R372>P372,\"！　(17）が(16)を超えています。\",\"\")","v":""},null,null,null,{"$f":"IF(G372=\"\",\"\",IF(SIGN(G372)=SIGN(R372),\"！(11)と(17)の符号が逆になっていません。\",\"\"))","v":""}]
[null,null,null,null,null,null,null,null,null,null,{"$f":"IF(G374<>\"\",IF(総括表①!$D$10=\"-\",総括表①!$C$10,総括表①!$D$10),\"\")","v":""},null,null,{"$f":"IF(SUM(K375:M375)=0,0,ROUND(K375/SUM(K375:M375),3))","v":0},null,{"$f":"IF(I370>0,ROUND(-G374*N374,0),0)","v":0}]
[null,null,null,null,null,null,null,null,null,null,null,null,null,null,null,null,null,null,null,null,null,null,{"$f":"IF(R374>P374,\"！　(17）が(16)を超えています。\",\"\")","v":""},null,null,null,{"$f":"IF(G374=\"\",\"\",IF(SIGN(G374)=SIGN(R374),\"！(11)と(17)の符号が逆になっていません。\",\"\"))","v":""}]
[null,null,null,null,null,null,null,null,null,null,{"$f":"IF(G376<>\"\",IF(総括表①!$D$10=\"-\",総括表①!$C$10,総括表①!$D$10),\"\")","v":""},null,null,{"$f":"IF(SUM(K377:M377)=0,0,ROUND(K377/SUM(K377:M377),3))","v":0},null,{"$f":"IF(I370>0,ROUND(-G376*N376,0),0)","v":0}]
[null,null,null,null,null,null,null,null,null,null,null,null,null,null,null,null,null,null,null,null,null,null,{"$f":"IF(R376>P376,\"！　(17）が(16)を超えています。\",\"\")","v":""},null,null,null,{"$f":"IF(G376=\"\",\"\",IF(SIGN(G376)=SIGN(R376),\"！(11)と(17)の符号が逆になっていません。\",\"\"))","v":""}]
[null,null,null,null,null,null,null,null,null,null,{"$f":"IF(G378<>\"\",IF(総括表①!$D$10=\"-\",総括表①!$C$10,総括表①!$D$10),\"\")","v":""},null,null,{"$f":"IF(SUM(K379:M379)=0,0,ROUND(K379/SUM(K379:M379),3))","v":0},null,{"$f":"IF(I370>0,ROUND(-G378*N378,0),0)","v":0}]
[null,null,null,null,null,null,null,null,null,null,null,null,null,null,null,null,null,null,null,null,null,null,{"$f":"IF(R378>P378,\"！　(17）が(16)を超えています。\",\"\")","v":""},null,null,null,{"$f":"IF(G378=\"\",\"\",IF(SIGN(G378)=SIGN(R378),\"！(11)と(17)の符号が逆になっていません。\",\"\"))","v":""}]
[null,null,null,null,null,null,null,null,null,null,{"$f":"IF(G380<>\"\",IF(総括表①!$D$10=\"-\",総括表①!$C$10,総括表①!$D$10),\"\")","v":""},null,null,{"$f":"IF(SUM(K381:M381)=0,0,ROUND(K381/SUM(K381:M381),3))","v":0},null,{"$f":"IF(I370>0,ROUND(-G380*N380,0),0)","v":0}]
[null,null,null,null,null,null,null,null,null,null,null,null,null,null,null,null,null,null,null,null,null,null,{"$f":"IF(R380>P380,\"！　(17）が(16)を超えています。\",\"\")","v":""},null,null,null,{"$f":"IF(G380=\"\",\"\",IF(SIGN(G380)=SIGN(R380),\"！(11)と(17)の符号が逆になっていません。\",\"\"))","v":""}]
[null,null,null,null,null,null,null,null,null,null,{"$f":"IF(G382<>\"\",IF(総括表①!$D$10=\"-\",総括表①!$C$10,総括表①!$D$10),\"\")","v":""},null,null,{"$f":"IF(SUM(K383:M383)=0,0,ROUND(K383/SUM(K383:M383),3))","v":0},null,{"$f":"IF(I370>0,ROUND(-G382*N382,0),0)","v":0}]
[null,null,null,null,null,null,null,null,null,null,null,null,null,null,null,null,null,null,null,null,null,null,{"$f":"IF(R382>P382,\"！　(17）が(16)を超えています。\",\"\")","v":""},null,null,null,{"$f":"IF(G382=\"\",\"\",IF(SIGN(G382)=SIGN(R382),\"！(11)と(17)の符号が逆になっていません。\",\"\"))","v":""}]
[null,null,null,null,null,null,null,null,null,null,{"$f":"IF(G384<>\"\",IF(総括表①!$D$10=\"-\",総括表①!$C$10,総括表①!$D$10),\"\")","v":""},null,null,{"$f":"IF(SUM(K385:M385)=0,0,ROUND(K385/SUM(K385:M385),3))","v":0},null,{"$f":"IF(I370>0,ROUND(-G384*N384,0),0)","v":0}]
[null,null,null,null,null,null,null,null,null,null,null,null,null,null,null,null,null,null,null,null,null,null,{"$f":"IF(R384>P384,\"！　(17）が(16)を超えています。\",\"\")","v":""},null,null,null,{"$f":"IF(G384=\"\",\"\",IF(SIGN(G384)=SIGN(R384),\"！(11)と(17)の符号が逆になっていません。\",\"\"))","v":""}]
[null,null,null,null,null,null,null,null,null,null,{"$f":"IF(G386<>\"\",IF(総括表①!$D$10=\"-\",総括表①!$C$10,総括表①!$D$10),\"\")","v":""},null,null,{"$f":"IF(SUM(K387:M387)=0,0,ROUND(K387/SUM(K387:M387),3))","v":0},null,{"$f":"IF(I370>0,ROUND(-G386*N386,0),0)","v":0}]
[null,null,null,null,null,null,null,null,null,null,null,null,null,null,null,null,null,null,null,null,null,null,{"$f":"IF(R386>P386,\"！　(17）が(16)を超えています。\",\"\")","v":""},null,null,null,{"$f":"IF(G386=\"\",\"\",IF(SIGN(G386)=SIGN(R386),\"！(11)と(17)の符号が逆になっていません。\",\"\"))","v":""}]
[null,null,null,null,null,null,null,null,null,null,{"$f":"IF(G388<>\"\",IF(総括表①!$D$10=\"-\",総括表①!$C$10,総括表①!$D$10),\"\")","v":""},null,null,{"$f":"IF(SUM(K389:M389)=0,0,ROUND(K389/SUM(K389:M389),3))","v":0},null,{"$f":"IF(I370>0,ROUND(-G388*N388,0),0)","v":0}]
[null,null,null,null,null,null,null,null,null,null,null,null,null,null,null,null,null,null,null,null,null,null,{"$f":"IF(R388>P388,\"！　(17）が(16)を超えています。\",\"\")","v":""},null,null,null,{"$f":"IF(G388=\"\",\"\",IF(SIGN(G388)=SIGN(R388),\"！(11)と(17)の符号が逆になっていません。\",\"\"))","v":""}]
[null,10,null,null,null,null,null,null,{"$f":"IF(SUM(G390:H409)>=0,0,-1*SUM(G390:H409))","v":0},null,{"$f":"IF(G390<>\"\",IF(総括表①!$D$10=\"-\",総括表①!$C$10,総括表①!$D$10),\"\")","v":""},null,null,{"$f":"IF(SUM(K391:M391)=0,0,ROUND(K391/SUM(K391:M391),3))","v":0},null,{"$f":"IF(I390>0,ROUND(-G390*N390,0),0)","v":0},null,null,null,null,null,null,null,null,null,null,null,null,null,null,null,{"$f":"IF(AND(I390>0,SUM(P390:Q409)<=0)=TRUE,0,SUM(P390:Q409))","v":0},{"$f":"IF(AND(I390>0,SUM(R390:S409)<=0)=TRUE,0,SUM(R390:S409))","v":0}]
[null,null,null,null,null,null,null,null,null,null,null,null,null,null,null,null,null,null,null,null,null,null,{"$f":"IF(R390>P390,\"！　(17）が(16)を超えています。\",\"\")","v":""},null,null,null,{"$f":"IF(G390=\"\",\"\",IF(SIGN(G390)=SIGN(R390),\"！(11)と(17)の符号が逆になっていません。\",\"\"))","v":""}]
[null,null,null,null,null,null,null,null,null,null,{"$f":"IF(G392<>\"\",IF(総括表①!$D$10=\"-\",総括表①!$C$10,総括表①!$D$10),\"\")","v":""},null,null,{"$f":"IF(SUM(K393:M393)=0,0,ROUND(K393/SUM(K393:M393),3))","v":0},null,{"$f":"IF(I390>0,ROUND(-G392*N392,0),0)","v":0}]
[null,null,null,null,null,null,null,null,null,null,null,null,null,null,null,null,null,null,null,null,null,null,{"$f":"IF(R392>P392,\"！　(17）が(16)を超えています。\",\"\")","v":""},null,null,null,{"$f":"IF(G392=\"\",\"\",IF(SIGN(G392)=SIGN(R392),\"！(11)と(17)の符号が逆になっていません。\",\"\"))","v":""}]
[null,null,null,null,null,null,null,null,null,null,{"$f":"IF(G394<>\"\",IF(総括表①!$D$10=\"-\",総括表①!$C$10,総括表①!$D$10),\"\")","v":""},null,null,{"$f":"IF(SUM(K395:M395)=0,0,ROUND(K395/SUM(K395:M395),3))","v":0},null,{"$f":"IF(I390>0,ROUND(-G394*N394,0),0)","v":0}]
[null,null,null,null,null,null,null,null,null,null,null,null,null,null,null,null,null,null,null,null,null,null,{"$f":"IF(R394>P394,\"！　(17）が(16)を超えています。\",\"\")","v":""},null,null,null,{"$f":"IF(G394=\"\",\"\",IF(SIGN(G394)=SIGN(R394),\"！(11)と(17)の符号が逆になっていません。\",\"\"))","v":""}]
[null,null,null,null,null,null,null,null,null,null,{"$f":"IF(G396<>\"\",IF(総括表①!$D$10=\"-\",総括表①!$C$10,総括表①!$D$10),\"\")","v":""},null,null,{"$f":"IF(SUM(K397:M397)=0,0,ROUND(K397/SUM(K397:M397),3))","v":0},null,{"$f":"IF(I390>0,ROUND(-G396*N396,0),0)","v":0}]
[null,null,null,null,null,null,null,null,null,null,null,null,null,null,null,null,null,null,null,null,null,null,{"$f":"IF(R396>P396,\"！　(17）が(16)を超えています。\",\"\")","v":""},null,null,null,{"$f":"IF(G396=\"\",\"\",IF(SIGN(G396)=SIGN(R396),\"！(11)と(17)の符号が逆になっていません。\",\"\"))","v":""}]
[null,null,null,null,null,null,null,null,null,null,{"$f":"IF(G398<>\"\",IF(総括表①!$D$10=\"-\",総括表①!$C$10,総括表①!$D$10),\"\")","v":""},null,null,{"$f":"IF(SUM(K399:M399)=0,0,ROUND(K399/SUM(K399:M399),3))","v":0},null,{"$f":"IF(I390>0,ROUND(-G398*N398,0),0)","v":0}]
[null,null,null,null,null,null,null,null,null,null,null,null,null,null,null,null,null,null,null,null,null,null,{"$f":"IF(R398>P398,\"！　(17）が(16)を超えています。\",\"\")","v":""},null,null,null,{"$f":"IF(G398=\"\",\"\",IF(SIGN(G398)=SIGN(R398),\"！(11)と(17)の符号が逆になっていません。\",\"\"))","v":""}]
[null,null,null,null,null,null,null,null,null,null,{"$f":"IF(G400<>\"\",IF(総括表①!$D$10=\"-\",総括表①!$C$10,総括表①!$D$10),\"\")","v":""},null,null,{"$f":"IF(SUM(K401:M401)=0,0,ROUND(K401/SUM(K401:M401),3))","v":0},null,{"$f":"IF(I390>0,ROUND(-G400*N400,0),0)","v":0}]
[null,null,null,null,null,null,null,null,null,null,null,null,null,null,null,null,null,null,null,null,null,null,{"$f":"IF(R400>P400,\"！　(17）が(16)を超えています。\",\"\")","v":""},null,null,null,{"$f":"IF(G400=\"\",\"\",IF(SIGN(G400)=SIGN(R400),\"！(11)と(17)の符号が逆になっていません。\",\"\"))","v":""}]
[null,null,null,null,null,null,null,null,null,null,{"$f":"IF(G402<>\"\",IF(総括表①!$D$10=\"-\",総括表①!$C$10,総括表①!$D$10),\"\")","v":""},null,null,{"$f":"IF(SUM(K403:M403)=0,0,ROUND(K403/SUM(K403:M403),3))","v":0},null,{"$f":"IF(I390>0,ROUND(-G402*N402,0),0)","v":0}]
[null,null,null,null,null,null,null,null,null,null,null,null,null,null,null,null,null,null,null,null,null,null,{"$f":"IF(R402>P402,\"！　(17）が(16)を超えています。\",\"\")","v":""},null,null,null,{"$f":"IF(G402=\"\",\"\",IF(SIGN(G402)=SIGN(R402),\"！(11)と(17)の符号が逆になっていません。\",\"\"))","v":""}]
[null,null,null,null,null,null,null,null,null,null,{"$f":"IF(G404<>\"\",IF(総括表①!$D$10=\"-\",総括表①!$C$10,総括表①!$D$10),\"\")","v":""},null,null,{"$f":"IF(SUM(K405:M405)=0,0,ROUND(K405/SUM(K405:M405),3))","v":0},null,{"$f":"IF(I390>0,ROUND(-G404*N404,0),0)","v":0}]
[null,null,null,null,null,null,null,null,null,null,null,null,null,null,null,null,null,null,null,null,null,null,{"$f":"IF(R404>P404,\"！　(17）が(16)を超えています。\",\"\")","v":""},null,null,null,{"$f":"IF(G404=\"\",\"\",IF(SIGN(G404)=SIGN(R404),\"！(11)と(17)の符号が逆になっていません。\",\"\"))","v":""}]
[null,null,null,null,null,null,null,null,null,null,{"$f":"IF(G406<>\"\",IF(総括表①!$D$10=\"-\",総括表①!$C$10,総括表①!$D$10),\"\")","v":""},null,null,{"$f":"IF(SUM(K407:M407)=0,0,ROUND(K407/SUM(K407:M407),3))","v":0},null,{"$f":"IF(I390>0,ROUND(-G406*N406,0),0)","v":0}]
[null,null,null,null,null,null,null,null,null,null,null,null,null,null,null,null,null,null,null,null,null,null,{"$f":"IF(R406>P406,\"！　(17）が(16)を超えています。\",\"\")","v":""},null,null,null,{"$f":"IF(G406=\"\",\"\",IF(SIGN(G406)=SIGN(R406),\"！(11)と(17)の符号が逆になっていません。\",\"\"))","v":""}]
[null,null,null,null,null,null,null,null,null,null,{"$f":"IF(G408<>\"\",IF(総括表①!$D$10=\"-\",総括表①!$C$10,総括表①!$D$10),\"\")","v":""},null,null,{"$f":"IF(SUM(K409:M409)=0,0,ROUND(K409/SUM(K409:M409),3))","v":0},null,{"$f":"IF(I390>0,ROUND(-G408*N408,0),0)","v":0}]
[null,null,null,null,null,null,null,null,null,null,null,null,null,null,null,null,null,null,null,null,null,null,{"$f":"IF(R408>P408,\"！　(17）が(16)を超えています。\",\"\")","v":""},null,null,null,{"$f":"IF(G408=\"\",\"\",IF(SIGN(G408)=SIGN(R408),\"！(11)と(17)の符号が逆になっていません。\",\"\"))","v":""}]
[null,11,null,null,null,null,null,null,{"$f":"IF(SUM(G410:H429)>=0,0,-1*SUM(G410:H429))","v":0},null,{"$f":"IF(G410<>\"\",IF(総括表①!$D$10=\"-\",総括表①!$C$10,総括表①!$D$10),\"\")","v":""},null,null,{"$f":"IF(SUM(K411:M411)=0,0,ROUND(K411/SUM(K411:M411),3))","v":0},null,{"$f":"IF(I410>0,ROUND(-G410*N410,0),0)","v":0},null,null,null,null,null,null,null,null,null,null,null,null,null,null,null,{"$f":"IF(AND(I410>0,SUM(P410:Q429)<=0)=TRUE,0,SUM(P410:Q429))","v":0},{"$f":"IF(AND(I410>0,SUM(R410:S429)<=0)=TRUE,0,SUM(R410:S429))","v":0}]
[null,null,null,null,null,null,null,null,null,null,null,null,null,null,null,null,null,null,null,null,null,null,{"$f":"IF(R410>P410,\"！　(17）が(16)を超えています。\",\"\")","v":""},null,null,null,{"$f":"IF(G410=\"\",\"\",IF(SIGN(G410)=SIGN(R410),\"！(11)と(17)の符号が逆になっていません。\",\"\"))","v":""}]
[null,null,null,null,null,null,null,null,null,null,{"$f":"IF(G412<>\"\",IF(総括表①!$D$10=\"-\",総括表①!$C$10,総括表①!$D$10),\"\")","v":""},null,null,{"$f":"IF(SUM(K413:M413)=0,0,ROUND(K413/SUM(K413:M413),3))","v":0},null,{"$f":"IF(I410>0,ROUND(-G412*N412,0),0)","v":0}]
[null,null,null,null,null,null,null,null,null,null,null,null,null,null,null,null,null,null,null,null,null,null,{"$f":"IF(R412>P412,\"！　(17）が(16)を超えています。\",\"\")","v":""},null,null,null,{"$f":"IF(G412=\"\",\"\",IF(SIGN(G412)=SIGN(R412),\"！(11)と(17)の符号が逆になっていません。\",\"\"))","v":""}]
[null,null,null,null,null,null,null,null,null,null,{"$f":"IF(G414<>\"\",IF(総括表①!$D$10=\"-\",総括表①!$C$10,総括表①!$D$10),\"\")","v":""},null,null,{"$f":"IF(SUM(K415:M415)=0,0,ROUND(K415/SUM(K415:M415),3))","v":0},null,{"$f":"IF(I410>0,ROUND(-G414*N414,0),0)","v":0}]
[null,null,null,null,null,null,null,null,null,null,null,null,null,null,null,null,null,null,null,null,null,null,{"$f":"IF(R414>P414,\"！　(17）が(16)を超えています。\",\"\")","v":""},null,null,null,{"$f":"IF(G414=\"\",\"\",IF(SIGN(G414)=SIGN(R414),\"！(11)と(17)の符号が逆になっていません。\",\"\"))","v":""}]
[null,null,null,null,null,null,null,null,null,null,{"$f":"IF(G416<>\"\",IF(総括表①!$D$10=\"-\",総括表①!$C$10,総括表①!$D$10),\"\")","v":""},null,null,{"$f":"IF(SUM(K417:M417)=0,0,ROUND(K417/SUM(K417:M417),3))","v":0},null,{"$f":"IF(I410>0,ROUND(-G416*N416,0),0)","v":0}]
[null,null,null,null,null,null,null,null,null,null,null,null,null,null,null,null,null,null,null,null,null,null,{"$f":"IF(R416>P416,\"！　(17）が(16)を超えています。\",\"\")","v":""},null,null,null,{"$f":"IF(G416=\"\",\"\",IF(SIGN(G416)=SIGN(R416),\"！(11)と(17)の符号が逆になっていません。\",\"\"))","v":""}]
[null,null,null,null,null,null,null,null,null,null,{"$f":"IF(G418<>\"\",IF(総括表①!$D$10=\"-\",総括表①!$C$10,総括表①!$D$10),\"\")","v":""},null,null,{"$f":"IF(SUM(K419:M419)=0,0,ROUND(K419/SUM(K419:M419),3))","v":0},null,{"$f":"IF(I410>0,ROUND(-G418*N418,0),0)","v":0}]
[null,null,null,null,null,null,null,null,null,null,null,null,null,null,null,null,null,null,null,null,null,null,{"$f":"IF(R418>P418,\"！　(17）が(16)を超えています。\",\"\")","v":""},null,null,null,{"$f":"IF(G418=\"\",\"\",IF(SIGN(G418)=SIGN(R418),\"！(11)と(17)の符号が逆になっていません。\",\"\"))","v":""}]
[null,null,null,null,null,null,null,null,null,null,{"$f":"IF(G420<>\"\",IF(総括表①!$D$10=\"-\",総括表①!$C$10,総括表①!$D$10),\"\")","v":""},null,null,{"$f":"IF(SUM(K421:M421)=0,0,ROUND(K421/SUM(K421:M421),3))","v":0},null,{"$f":"IF(I410>0,ROUND(-G420*N420,0),0)","v":0}]
[null,null,null,null,null,null,null,null,null,null,null,null,null,null,null,null,null,null,null,null,null,null,{"$f":"IF(R420>P420,\"！　(17）が(16)を超えています。\",\"\")","v":""},null,null,null,{"$f":"IF(G420=\"\",\"\",IF(SIGN(G420)=SIGN(R420),\"！(11)と(17)の符号が逆になっていません。\",\"\"))","v":""}]
[null,null,null,null,null,null,null,null,null,null,{"$f":"IF(G422<>\"\",IF(総括表①!$D$10=\"-\",総括表①!$C$10,総括表①!$D$10),\"\")","v":""},null,null,{"$f":"IF(SUM(K423:M423)=0,0,ROUND(K423/SUM(K423:M423),3))","v":0},null,{"$f":"IF(I410>0,ROUND(-G422*N422,0),0)","v":0}]
[null,null,null,null,null,null,null,null,null,null,null,null,null,null,null,null,null,null,null,null,null,null,{"$f":"IF(R422>P422,\"！　(17）が(16)を超えています。\",\"\")","v":""},null,null,null,{"$f":"IF(G422=\"\",\"\",IF(SIGN(G422)=SIGN(R422),\"！(11)と(17)の符号が逆になっていません。\",\"\"))","v":""}]
[null,null,null,null,null,null,null,null,null,null,{"$f":"IF(G424<>\"\",IF(総括表①!$D$10=\"-\",総括表①!$C$10,総括表①!$D$10),\"\")","v":""},null,null,{"$f":"IF(SUM(K425:M425)=0,0,ROUND(K425/SUM(K425:M425),3))","v":0},null,{"$f":"IF(I410>0,ROUND(-G424*N424,0),0)","v":0}]
[null,null,null,null,null,null,null,null,null,null,null,null,null,null,null,null,null,null,null,null,null,null,{"$f":"IF(R424>P424,\"！　(17）が(16)を超えています。\",\"\")","v":""},null,null,null,{"$f":"IF(G424=\"\",\"\",IF(SIGN(G424)=SIGN(R424),\"！(11)と(17)の符号が逆になっていません。\",\"\"))","v":""}]
[null,null,null,null,null,null,null,null,null,null,{"$f":"IF(G426<>\"\",IF(総括表①!$D$10=\"-\",総括表①!$C$10,総括表①!$D$10),\"\")","v":""},null,null,{"$f":"IF(SUM(K427:M427)=0,0,ROUND(K427/SUM(K427:M427),3))","v":0},null,{"$f":"IF(I410>0,ROUND(-G426*N426,0),0)","v":0}]
[null,null,null,null,null,null,null,null,null,null,null,null,null,null,null,null,null,null,null,null,null,null,{"$f":"IF(R426>P426,\"！　(17）が(16)を超えています。\",\"\")","v":""},null,null,null,{"$f":"IF(G426=\"\",\"\",IF(SIGN(G426)=SIGN(R426),\"！(11)と(17)の符号が逆になっていません。\",\"\"))","v":""}]
[null,null,null,null,null,null,null,null,null,null,{"$f":"IF(G428<>\"\",IF(総括表①!$D$10=\"-\",総括表①!$C$10,総括表①!$D$10),\"\")","v":""},null,null,{"$f":"IF(SUM(K429:M429)=0,0,ROUND(K429/SUM(K429:M429),3))","v":0},null,{"$f":"IF(I410>0,ROUND(-G428*N428,0),0)","v":0}]
[null,null,null,null,null,null,null,null,null,null,null,null,null,null,null,null,null,null,null,null,null,null,{"$f":"IF(R428>P428,\"！　(17）が(16)を超えています。\",\"\")","v":""},null,null,null,{"$f":"IF(G428=\"\",\"\",IF(SIGN(G428)=SIGN(R428),\"！(11)と(17)の符号が逆になっていません。\",\"\"))","v":""}]
[null,12,null,null,null,null,null,null,{"$f":"IF(SUM(G430:H449)>=0,0,-1*SUM(G430:H449))","v":0},null,{"$f":"IF(G430<>\"\",IF(総括表①!$D$10=\"-\",総括表①!$C$10,総括表①!$D$10),\"\")","v":""},null,null,{"$f":"IF(SUM(K431:M431)=0,0,ROUND(K431/SUM(K431:M431),3))","v":0},null,{"$f":"IF(I430>0,ROUND(-G430*N430,0),0)","v":0},null,null,null,null,null,null,null,null,null,null,null,null,null,null,null,{"$f":"IF(AND(I430>0,SUM(P430:Q449)<=0)=TRUE,0,SUM(P430:Q449))","v":0},{"$f":"IF(AND(I430>0,SUM(R430:S449)<=0)=TRUE,0,SUM(R430:S449))","v":0}]
[null,null,null,null,null,null,null,null,null,null,null,null,null,null,null,null,null,null,null,null,null,null,{"$f":"IF(R430>P430,\"！　(17）が(16)を超えています。\",\"\")","v":""},null,null,null,{"$f":"IF(G430=\"\",\"\",IF(SIGN(G430)=SIGN(R430),\"！(11)と(17)の符号が逆になっていません。\",\"\"))","v":""}]
[null,null,null,null,null,null,null,null,null,null,{"$f":"IF(G432<>\"\",IF(総括表①!$D$10=\"-\",総括表①!$C$10,総括表①!$D$10),\"\")","v":""},null,null,{"$f":"IF(SUM(K433:M433)=0,0,ROUND(K433/SUM(K433:M433),3))","v":0},null,{"$f":"IF(I430>0,ROUND(-G432*N432,0),0)","v":0}]
[null,null,null,null,null,null,null,null,null,null,null,null,null,null,null,null,null,null,null,null,null,null,{"$f":"IF(R432>P432,\"！　(17）が(16)を超えています。\",\"\")","v":""},null,null,null,{"$f":"IF(G432=\"\",\"\",IF(SIGN(G432)=SIGN(R432),\"！(11)と(17)の符号が逆になっていません。\",\"\"))","v":""}]
[null,null,null,null,null,null,null,null,null,null,{"$f":"IF(G434<>\"\",IF(総括表①!$D$10=\"-\",総括表①!$C$10,総括表①!$D$10),\"\")","v":""},null,null,{"$f":"IF(SUM(K435:M435)=0,0,ROUND(K435/SUM(K435:M435),3))","v":0},null,{"$f":"IF(I430>0,ROUND(-G434*N434,0),0)","v":0}]
[null,null,null,null,null,null,null,null,null,null,null,null,null,null,null,null,null,null,null,null,null,null,{"$f":"IF(R434>P434,\"！　(17）が(16)を超えています。\",\"\")","v":""},null,null,null,{"$f":"IF(G434=\"\",\"\",IF(SIGN(G434)=SIGN(R434),\"！(11)と(17)の符号が逆になっていません。\",\"\"))","v":""}]
[null,null,null,null,null,null,null,null,null,null,{"$f":"IF(G436<>\"\",IF(総括表①!$D$10=\"-\",総括表①!$C$10,総括表①!$D$10),\"\")","v":""},null,null,{"$f":"IF(SUM(K437:M437)=0,0,ROUND(K437/SUM(K437:M437),3))","v":0},null,{"$f":"IF(I430>0,ROUND(-G436*N436,0),0)","v":0}]
[null,null,null,null,null,null,null,null,null,null,null,null,null,null,null,null,null,null,null,null,null,null,{"$f":"IF(R436>P436,\"！　(17）が(16)を超えています。\",\"\")","v":""},null,null,null,{"$f":"IF(G436=\"\",\"\",IF(SIGN(G436)=SIGN(R436),\"！(11)と(17)の符号が逆になっていません。\",\"\"))","v":""}]
[null,null,null,null,null,null,null,null,null,null,{"$f":"IF(G438<>\"\",IF(総括表①!$D$10=\"-\",総括表①!$C$10,総括表①!$D$10),\"\")","v":""},null,null,{"$f":"IF(SUM(K439:M439)=0,0,ROUND(K439/SUM(K439:M439),3))","v":0},null,{"$f":"IF(I430>0,ROUND(-G438*N438,0),0)","v":0}]
[null,null,null,null,null,null,null,null,null,null,null,null,null,null,null,null,null,null,null,null,null,null,{"$f":"IF(R438>P438,\"！　(17）が(16)を超えています。\",\"\")","v":""},null,null,null,{"$f":"IF(G438=\"\",\"\",IF(SIGN(G438)=SIGN(R438),\"！(11)と(17)の符号が逆になっていません。\",\"\"))","v":""}]
[null,null,null,null,null,null,null,null,null,null,{"$f":"IF(G440<>\"\",IF(総括表①!$D$10=\"-\",総括表①!$C$10,総括表①!$D$10),\"\")","v":""},null,null,{"$f":"IF(SUM(K441:M441)=0,0,ROUND(K441/SUM(K441:M441),3))","v":0},null,{"$f":"IF(I430>0,ROUND(-G440*N440,0),0)","v":0}]
[null,null,null,null,null,null,null,null,null,null,null,null,null,null,null,null,null,null,null,null,null,null,{"$f":"IF(R440>P440,\"！　(17）が(16)を超えています。\",\"\")","v":""},null,null,null,{"$f":"IF(G440=\"\",\"\",IF(SIGN(G440)=SIGN(R440),\"！(11)と(17)の符号が逆になっていません。\",\"\"))","v":""}]
[null,null,null,null,null,null,null,null,null,null,{"$f":"IF(G442<>\"\",IF(総括表①!$D$10=\"-\",総括表①!$C$10,総括表①!$D$10),\"\")","v":""},null,null,{"$f":"IF(SUM(K443:M443)=0,0,ROUND(K443/SUM(K443:M443),3))","v":0},null,{"$f":"IF(I430>0,ROUND(-G442*N442,0),0)","v":0}]
[null,null,null,null,null,null,null,null,null,null,null,null,null,null,null,null,null,null,null,null,null,null,{"$f":"IF(R442>P442,\"！　(17）が(16)を超えています。\",\"\")","v":""},null,null,null,{"$f":"IF(G442=\"\",\"\",IF(SIGN(G442)=SIGN(R442),\"！(11)と(17)の符号が逆になっていません。\",\"\"))","v":""}]
[null,null,null,null,null,null,null,null,null,null,{"$f":"IF(G444<>\"\",IF(総括表①!$D$10=\"-\",総括表①!$C$10,総括表①!$D$10),\"\")","v":""},null,null,{"$f":"IF(SUM(K445:M445)=0,0,ROUND(K445/SUM(K445:M445),3))","v":0},null,{"$f":"IF(I430>0,ROUND(-G444*N444,0),0)","v":0}]
[null,null,null,null,null,null,null,null,null,null,null,null,null,null,null,null,null,null,null,null,null,null,{"$f":"IF(R444>P444,\"！　(17）が(16)を超えています。\",\"\")","v":""},null,null,null,{"$f":"IF(G444=\"\",\"\",IF(SIGN(G444)=SIGN(R444),\"！(11)と(17)の符号が逆になっていません。\",\"\"))","v":""}]
[null,null,null,null,null,null,null,null,null,null,{"$f":"IF(G446<>\"\",IF(総括表①!$D$10=\"-\",総括表①!$C$10,総括表①!$D$10),\"\")","v":""},null,null,{"$f":"IF(SUM(K447:M447)=0,0,ROUND(K447/SUM(K447:M447),3))","v":0},null,{"$f":"IF(I430>0,ROUND(-G446*N446,0),0)","v":0}]
[null,null,null,null,null,null,null,null,null,null,null,null,null,null,null,null,null,null,null,null,null,null,{"$f":"IF(R446>P446,\"！　(17）が(16)を超えています。\",\"\")","v":""},null,null,null,{"$f":"IF(G446=\"\",\"\",IF(SIGN(G446)=SIGN(R446),\"！(11)と(17)の符号が逆になっていません。\",\"\"))","v":""}]
[null,null,null,null,null,null,null,null,null,null,{"$f":"IF(G448<>\"\",IF(総括表①!$D$10=\"-\",総括表①!$C$10,総括表①!$D$10),\"\")","v":""},null,null,{"$f":"IF(SUM(K449:M449)=0,0,ROUND(K449/SUM(K449:M449),3))","v":0},null,{"$f":"IF(I430>0,ROUND(-G448*N448,0),0)","v":0}]
[null,null,null,null,null,null,null,null,null,null,null,null,null,null,null,null,null,null,null,null,null,null,{"$f":"IF(R448>P448,\"！　(17）が(16)を超えています。\",\"\")","v":""},null,null,null,{"$f":"IF(G448=\"\",\"\",IF(SIGN(G448)=SIGN(R448),\"！(11)と(17)の符号が逆になっていません。\",\"\"))","v":""}]
[null,13,null,null,null,null,null,null,{"$f":"IF(SUM(G450:H469)>=0,0,-1*SUM(G450:H469))","v":0},null,{"$f":"IF(G450<>\"\",IF(総括表①!$D$10=\"-\",総括表①!$C$10,総括表①!$D$10),\"\")","v":""},null,null,{"$f":"IF(SUM(K451:M451)=0,0,ROUND(K451/SUM(K451:M451),3))","v":0},null,{"$f":"IF(I450>0,ROUND(-G450*N450,0),0)","v":0},null,null,null,null,null,null,null,null,null,null,null,null,null,null,null,{"$f":"IF(AND(I450>0,SUM(P450:Q469)<=0)=TRUE,0,SUM(P450:Q469))","v":0},{"$f":"IF(AND(I450>0,SUM(R450:S469)<=0)=TRUE,0,SUM(R450:S469))","v":0}]
[null,null,null,null,null,null,null,null,null,null,null,null,null,null,null,null,null,null,null,null,null,null,{"$f":"IF(R450>P450,\"！　(17）が(16)を超えています。\",\"\")","v":""},null,null,null,{"$f":"IF(G450=\"\",\"\",IF(SIGN(G450)=SIGN(R450),\"！(11)と(17)の符号が逆になっていません。\",\"\"))","v":""}]
[null,null,null,null,null,null,null,null,null,null,{"$f":"IF(G452<>\"\",IF(総括表①!$D$10=\"-\",総括表①!$C$10,総括表①!$D$10),\"\")","v":""},null,null,{"$f":"IF(SUM(K453:M453)=0,0,ROUND(K453/SUM(K453:M453),3))","v":0},null,{"$f":"IF(I450>0,ROUND(-G452*N452,0),0)","v":0}]
[null,null,null,null,null,null,null,null,null,null,null,null,null,null,null,null,null,null,null,null,null,null,{"$f":"IF(R452>P452,\"！　(17）が(16)を超えています。\",\"\")","v":""},null,null,null,{"$f":"IF(G452=\"\",\"\",IF(SIGN(G452)=SIGN(R452),\"！(11)と(17)の符号が逆になっていません。\",\"\"))","v":""}]
[null,null,null,null,null,null,null,null,null,null,{"$f":"IF(G454<>\"\",IF(総括表①!$D$10=\"-\",総括表①!$C$10,総括表①!$D$10),\"\")","v":""},null,null,{"$f":"IF(SUM(K455:M455)=0,0,ROUND(K455/SUM(K455:M455),3))","v":0},null,{"$f":"IF(I450>0,ROUND(-G454*N454,0),0)","v":0}]
[null,null,null,null,null,null,null,null,null,null,null,null,null,null,null,null,null,null,null,null,null,null,{"$f":"IF(R454>P454,\"！　(17）が(16)を超えています。\",\"\")","v":""},null,null,null,{"$f":"IF(G454=\"\",\"\",IF(SIGN(G454)=SIGN(R454),\"！(11)と(17)の符号が逆になっていません。\",\"\"))","v":""}]
[null,null,null,null,null,null,null,null,null,null,{"$f":"IF(G456<>\"\",IF(総括表①!$D$10=\"-\",総括表①!$C$10,総括表①!$D$10),\"\")","v":""},null,null,{"$f":"IF(SUM(K457:M457)=0,0,ROUND(K457/SUM(K457:M457),3))","v":0},null,{"$f":"IF(I450>0,ROUND(-G456*N456,0),0)","v":0}]
[null,null,null,null,null,null,null,null,null,null,null,null,null,null,null,null,null,null,null,null,null,null,{"$f":"IF(R456>P456,\"！　(17）が(16)を超えています。\",\"\")","v":""},null,null,null,{"$f":"IF(G456=\"\",\"\",IF(SIGN(G456)=SIGN(R456),\"！(11)と(17)の符号が逆になっていません。\",\"\"))","v":""}]
[null,null,null,null,null,null,null,null,null,null,{"$f":"IF(G458<>\"\",IF(総括表①!$D$10=\"-\",総括表①!$C$10,総括表①!$D$10),\"\")","v":""},null,null,{"$f":"IF(SUM(K459:M459)=0,0,ROUND(K459/SUM(K459:M459),3))","v":0},null,{"$f":"IF(I450>0,ROUND(-G458*N458,0),0)","v":0}]
[null,null,null,null,null,null,null,null,null,null,null,null,null,null,null,null,null,null,null,null,null,null,{"$f":"IF(R458>P458,\"！　(17）が(16)を超えています。\",\"\")","v":""},null,null,null,{"$f":"IF(G458=\"\",\"\",IF(SIGN(G458)=SIGN(R458),\"！(11)と(17)の符号が逆になっていません。\",\"\"))","v":""}]
[null,null,null,null,null,null,null,null,null,null,{"$f":"IF(G460<>\"\",IF(総括表①!$D$10=\"-\",総括表①!$C$10,総括表①!$D$10),\"\")","v":""},null,null,{"$f":"IF(SUM(K461:M461)=0,0,ROUND(K461/SUM(K461:M461),3))","v":0},null,{"$f":"IF(I450>0,ROUND(-G460*N460,0),0)","v":0}]
[null,null,null,null,null,null,null,null,null,null,null,null,null,null,null,null,null,null,null,null,null,null,{"$f":"IF(R460>P460,\"！　(17）が(16)を超えています。\",\"\")","v":""},null,null,null,{"$f":"IF(G460=\"\",\"\",IF(SIGN(G460)=SIGN(R460),\"！(11)と(17)の符号が逆になっていません。\",\"\"))","v":""}]
[null,null,null,null,null,null,null,null,null,null,{"$f":"IF(G462<>\"\",IF(総括表①!$D$10=\"-\",総括表①!$C$10,総括表①!$D$10),\"\")","v":""},null,null,{"$f":"IF(SUM(K463:M463)=0,0,ROUND(K463/SUM(K463:M463),3))","v":0},null,{"$f":"IF(I450>0,ROUND(-G462*N462,0),0)","v":0}]
[null,null,null,null,null,null,null,null,null,null,null,null,null,null,null,null,null,null,null,null,null,null,{"$f":"IF(R462>P462,\"！　(17）が(16)を超えています。\",\"\")","v":""},null,null,null,{"$f":"IF(G462=\"\",\"\",IF(SIGN(G462)=SIGN(R462),\"！(11)と(17)の符号が逆になっていません。\",\"\"))","v":""}]
[null,null,null,null,null,null,null,null,null,null,{"$f":"IF(G464<>\"\",IF(総括表①!$D$10=\"-\",総括表①!$C$10,総括表①!$D$10),\"\")","v":""},null,null,{"$f":"IF(SUM(K465:M465)=0,0,ROUND(K465/SUM(K465:M465),3))","v":0},null,{"$f":"IF(I450>0,ROUND(-G464*N464,0),0)","v":0}]
[null,null,null,null,null,null,null,null,null,null,null,null,null,null,null,null,null,null,null,null,null,null,{"$f":"IF(R464>P464,\"！　(17）が(16)を超えています。\",\"\")","v":""},null,null,null,{"$f":"IF(G464=\"\",\"\",IF(SIGN(G464)=SIGN(R464),\"！(11)と(17)の符号が逆になっていません。\",\"\"))","v":""}]
[null,null,null,null,null,null,null,null,null,null,{"$f":"IF(G466<>\"\",IF(総括表①!$D$10=\"-\",総括表①!$C$10,総括表①!$D$10),\"\")","v":""},null,null,{"$f":"IF(SUM(K467:M467)=0,0,ROUND(K467/SUM(K467:M467),3))","v":0},null,{"$f":"IF(I450>0,ROUND(-G466*N466,0),0)","v":0}]
[null,null,null,null,null,null,null,null,null,null,null,null,null,null,null,null,null,null,null,null,null,null,{"$f":"IF(R466>P466,\"！　(17）が(16)を超えています。\",\"\")","v":""},null,null,null,{"$f":"IF(G466=\"\",\"\",IF(SIGN(G466)=SIGN(R466),\"！(11)と(17)の符号が逆になっていません。\",\"\"))","v":""}]
[null,null,null,null,null,null,null,null,null,null,{"$f":"IF(G468<>\"\",IF(総括表①!$D$10=\"-\",総括表①!$C$10,総括表①!$D$10),\"\")","v":""},null,null,{"$f":"IF(SUM(K469:M469)=0,0,ROUND(K469/SUM(K469:M469),3))","v":0},null,{"$f":"IF(I450>0,ROUND(-G468*N468,0),0)","v":0}]
[null,null,null,null,null,null,null,null,null,null,null,null,null,null,null,null,null,null,null,null,null,null,{"$f":"IF(R468>P468,\"！　(17）が(16)を超えています。\",\"\")","v":""},null,null,null,{"$f":"IF(G468=\"\",\"\",IF(SIGN(G468)=SIGN(R468),\"！(11)と(17)の符号が逆になっていません。\",\"\"))","v":""}]
[null,14,null,null,null,null,null,null,{"$f":"IF(SUM(G470:H489)>=0,0,-1*SUM(G470:H489))","v":0},null,{"$f":"IF(G470<>\"\",IF(総括表①!$D$10=\"-\",総括表①!$C$10,総括表①!$D$10),\"\")","v":""},null,null,{"$f":"IF(SUM(K471:M471)=0,0,ROUND(K471/SUM(K471:M471),3))","v":0},null,{"$f":"IF(I470>0,ROUND(-G470*N470,0),0)","v":0},null,null,null,null,null,null,null,null,null,null,null,null,null,null,null,{"$f":"IF(AND(I470>0,SUM(P470:Q489)<=0)=TRUE,0,SUM(P470:Q489))","v":0},{"$f":"IF(AND(I470>0,SUM(R470:S489)<=0)=TRUE,0,SUM(R470:S489))","v":0}]
[null,null,null,null,null,null,null,null,null,null,null,null,null,null,null,null,null,null,null,null,null,null,{"$f":"IF(R470>P470,\"！　(17）が(16)を超えています。\",\"\")","v":""},null,null,null,{"$f":"IF(G470=\"\",\"\",IF(SIGN(G470)=SIGN(R470),\"！(11)と(17)の符号が逆になっていません。\",\"\"))","v":""}]
[null,null,null,null,null,null,null,null,null,null,{"$f":"IF(G472<>\"\",IF(総括表①!$D$10=\"-\",総括表①!$C$10,総括表①!$D$10),\"\")","v":""},null,null,{"$f":"IF(SUM(K473:M473)=0,0,ROUND(K473/SUM(K473:M473),3))","v":0},null,{"$f":"IF(I470>0,ROUND(-G472*N472,0),0)","v":0}]
[null,null,null,null,null,null,null,null,null,null,null,null,null,null,null,null,null,null,null,null,null,null,{"$f":"IF(R472>P472,\"！　(17）が(16)を超えています。\",\"\")","v":""},null,null,null,{"$f":"IF(G472=\"\",\"\",IF(SIGN(G472)=SIGN(R472),\"！(11)と(17)の符号が逆になっていません。\",\"\"))","v":""}]
[null,null,null,null,null,null,null,null,null,null,{"$f":"IF(G474<>\"\",IF(総括表①!$D$10=\"-\",総括表①!$C$10,総括表①!$D$10),\"\")","v":""},null,null,{"$f":"IF(SUM(K475:M475)=0,0,ROUND(K475/SUM(K475:M475),3))","v":0},null,{"$f":"IF(I470>0,ROUND(-G474*N474,0),0)","v":0}]
[null,null,null,null,null,null,null,null,null,null,null,null,null,null,null,null,null,null,null,null,null,null,{"$f":"IF(R474>P474,\"！　(17）が(16)を超えています。\",\"\")","v":""},null,null,null,{"$f":"IF(G474=\"\",\"\",IF(SIGN(G474)=SIGN(R474),\"！(11)と(17)の符号が逆になっていません。\",\"\"))","v":""}]
[null,null,null,null,null,null,null,null,null,null,{"$f":"IF(G476<>\"\",IF(総括表①!$D$10=\"-\",総括表①!$C$10,総括表①!$D$10),\"\")","v":""},null,null,{"$f":"IF(SUM(K477:M477)=0,0,ROUND(K477/SUM(K477:M477),3))","v":0},null,{"$f":"IF(I470>0,ROUND(-G476*N476,0),0)","v":0}]
[null,null,null,null,null,null,null,null,null,null,null,null,null,null,null,null,null,null,null,null,null,null,{"$f":"IF(R476>P476,\"！　(17）が(16)を超えています。\",\"\")","v":""},null,null,null,{"$f":"IF(G476=\"\",\"\",IF(SIGN(G476)=SIGN(R476),\"！(11)と(17)の符号が逆になっていません。\",\"\"))","v":""}]
[null,null,null,null,null,null,null,null,null,null,{"$f":"IF(G478<>\"\",IF(総括表①!$D$10=\"-\",総括表①!$C$10,総括表①!$D$10),\"\")","v":""},null,null,{"$f":"IF(SUM(K479:M479)=0,0,ROUND(K479/SUM(K479:M479),3))","v":0},null,{"$f":"IF(I470>0,ROUND(-G478*N478,0),0)","v":0}]
[null,null,null,null,null,null,null,null,null,null,null,null,null,null,null,null,null,null,null,null,null,null,{"$f":"IF(R478>P478,\"！　(17）が(16)を超えています。\",\"\")","v":""},null,null,null,{"$f":"IF(G478=\"\",\"\",IF(SIGN(G478)=SIGN(R478),\"！(11)と(17)の符号が逆になっていません。\",\"\"))","v":""}]
[null,null,null,null,null,null,null,null,null,null,{"$f":"IF(G480<>\"\",IF(総括表①!$D$10=\"-\",総括表①!$C$10,総括表①!$D$10),\"\")","v":""},null,null,{"$f":"IF(SUM(K481:M481)=0,0,ROUND(K481/SUM(K481:M481),3))","v":0},null,{"$f":"IF(I470>0,ROUND(-G480*N480,0),0)","v":0}]
[null,null,null,null,null,null,null,null,null,null,null,null,null,null,null,null,null,null,null,null,null,null,{"$f":"IF(R480>P480,\"！　(17）が(16)を超えています。\",\"\")","v":""},null,null,null,{"$f":"IF(G480=\"\",\"\",IF(SIGN(G480)=SIGN(R480),\"！(11)と(17)の符号が逆になっていません。\",\"\"))","v":""}]
[null,null,null,null,null,null,null,null,null,null,{"$f":"IF(G482<>\"\",IF(総括表①!$D$10=\"-\",総括表①!$C$10,総括表①!$D$10),\"\")","v":""},null,null,{"$f":"IF(SUM(K483:M483)=0,0,ROUND(K483/SUM(K483:M483),3))","v":0},null,{"$f":"IF(I470>0,ROUND(-G482*N482,0),0)","v":0}]
[null,null,null,null,null,null,null,null,null,null,null,null,null,null,null,null,null,null,null,null,null,null,{"$f":"IF(R482>P482,\"！　(17）が(16)を超えています。\",\"\")","v":""},null,null,null,{"$f":"IF(G482=\"\",\"\",IF(SIGN(G482)=SIGN(R482),\"！(11)と(17)の符号が逆になっていません。\",\"\"))","v":""}]
[null,null,null,null,null,null,null,null,null,null,{"$f":"IF(G484<>\"\",IF(総括表①!$D$10=\"-\",総括表①!$C$10,総括表①!$D$10),\"\")","v":""},null,null,{"$f":"IF(SUM(K485:M485)=0,0,ROUND(K485/SUM(K485:M485),3))","v":0},null,{"$f":"IF(I470>0,ROUND(-G484*N484,0),0)","v":0}]
[null,null,null,null,null,null,null,null,null,null,null,null,null,null,null,null,null,null,null,null,null,null,{"$f":"IF(R484>P484,\"！　(17）が(16)を超えています。\",\"\")","v":""},null,null,null,{"$f":"IF(G484=\"\",\"\",IF(SIGN(G484)=SIGN(R484),\"！(11)と(17)の符号が逆になっていません。\",\"\"))","v":""}]
[null,null,null,null,null,null,null,null,null,null,{"$f":"IF(G486<>\"\",IF(総括表①!$D$10=\"-\",総括表①!$C$10,総括表①!$D$10),\"\")","v":""},null,null,{"$f":"IF(SUM(K487:M487)=0,0,ROUND(K487/SUM(K487:M487),3))","v":0},null,{"$f":"IF(I470>0,ROUND(-G486*N486,0),0)","v":0}]
[null,null,null,null,null,null,null,null,null,null,null,null,null,null,null,null,null,null,null,null,null,null,{"$f":"IF(R486>P486,\"！　(17）が(16)を超えています。\",\"\")","v":""},null,null,null,{"$f":"IF(G486=\"\",\"\",IF(SIGN(G486)=SIGN(R486),\"！(11)と(17)の符号が逆になっていません。\",\"\"))","v":""}]
[null,null,null,null,null,null,null,null,null,null,{"$f":"IF(G488<>\"\",IF(総括表①!$D$10=\"-\",総括表①!$C$10,総括表①!$D$10),\"\")","v":""},null,null,{"$f":"IF(SUM(K489:M489)=0,0,ROUND(K489/SUM(K489:M489),3))","v":0},null,{"$f":"IF(I470>0,ROUND(-G488*N488,0),0)","v":0}]
[null,null,null,null,null,null,null,null,null,null,null,null,null,null,null,null,null,null,null,null,null,null,{"$f":"IF(R488>P488,\"！　(17）が(16)を超えています。\",\"\")","v":""},null,null,null,{"$f":"IF(G488=\"\",\"\",IF(SIGN(G488)=SIGN(R488),\"！(11)と(17)の符号が逆になっていません。\",\"\"))","v":""}]
[null,15,null,null,null,null,null,null,{"$f":"IF(SUM(G490:H509)>=0,0,-1*SUM(G490:H509))","v":0},null,{"$f":"IF(G490<>\"\",IF(総括表①!$D$10=\"-\",総括表①!$C$10,総括表①!$D$10),\"\")","v":""},null,null,{"$f":"IF(SUM(K491:M491)=0,0,ROUND(K491/SUM(K491:M491),3))","v":0},null,{"$f":"IF(I490>0,ROUND(-G490*N490,0),0)","v":0},null,null,null,null,null,null,null,null,null,null,null,null,null,null,null,{"$f":"IF(AND(I490>0,SUM(P490:Q509)<=0)=TRUE,0,SUM(P490:Q509))","v":0},{"$f":"IF(AND(I490>0,SUM(R490:S509)<=0)=TRUE,0,SUM(R490:S509))","v":0}]
[null,null,null,null,null,null,null,null,null,null,null,null,null,null,null,null,null,null,null,null,null,null,{"$f":"IF(R490>P490,\"！　(17）が(16)を超えています。\",\"\")","v":""},null,null,null,{"$f":"IF(G490=\"\",\"\",IF(SIGN(G490)=SIGN(R490),\"！(11)と(17)の符号が逆になっていません。\",\"\"))","v":""}]
[null,null,null,null,null,null,null,null,null,null,{"$f":"IF(G492<>\"\",IF(総括表①!$D$10=\"-\",総括表①!$C$10,総括表①!$D$10),\"\")","v":""},null,null,{"$f":"IF(SUM(K493:M493)=0,0,ROUND(K493/SUM(K493:M493),3))","v":0},null,{"$f":"IF(I490>0,ROUND(-G492*N492,0),0)","v":0}]
[null,null,null,null,null,null,null,null,null,null,null,null,null,null,null,null,null,null,null,null,null,null,{"$f":"IF(R492>P492,\"！　(17）が(16)を超えています。\",\"\")","v":""},null,null,null,{"$f":"IF(G492=\"\",\"\",IF(SIGN(G492)=SIGN(R492),\"！(11)と(17)の符号が逆になっていません。\",\"\"))","v":""}]
[null,null,null,null,null,null,null,null,null,null,{"$f":"IF(G494<>\"\",IF(総括表①!$D$10=\"-\",総括表①!$C$10,総括表①!$D$10),\"\")","v":""},null,null,{"$f":"IF(SUM(K495:M495)=0,0,ROUND(K495/SUM(K495:M495),3))","v":0},null,{"$f":"IF(I490>0,ROUND(-G494*N494,0),0)","v":0}]
[null,null,null,null,null,null,null,null,null,null,null,null,null,null,null,null,null,null,null,null,null,null,{"$f":"IF(R494>P494,\"！　(17）が(16)を超えています。\",\"\")","v":""},null,null,null,{"$f":"IF(G494=\"\",\"\",IF(SIGN(G494)=SIGN(R494),\"！(11)と(17)の符号が逆になっていません。\",\"\"))","v":""}]
[null,null,null,null,null,null,null,null,null,null,{"$f":"IF(G496<>\"\",IF(総括表①!$D$10=\"-\",総括表①!$C$10,総括表①!$D$10),\"\")","v":""},null,null,{"$f":"IF(SUM(K497:M497)=0,0,ROUND(K497/SUM(K497:M497),3))","v":0},null,{"$f":"IF(I490>0,ROUND(-G496*N496,0),0)","v":0}]
[null,null,null,null,null,null,null,null,null,null,null,null,null,null,null,null,null,null,null,null,null,null,{"$f":"IF(R496>P496,\"！　(17）が(16)を超えています。\",\"\")","v":""},null,null,null,{"$f":"IF(G496=\"\",\"\",IF(SIGN(G496)=SIGN(R496),\"！(11)と(17)の符号が逆になっていません。\",\"\"))","v":""}]
[null,null,null,null,null,null,null,null,null,null,{"$f":"IF(G498<>\"\",IF(総括表①!$D$10=\"-\",総括表①!$C$10,総括表①!$D$10),\"\")","v":""},null,null,{"$f":"IF(SUM(K499:M499)=0,0,ROUND(K499/SUM(K499:M499),3))","v":0},null,{"$f":"IF(I490>0,ROUND(-G498*N498,0),0)","v":0}]
[null,null,null,null,null,null,null,null,null,null,null,null,null,null,null,null,null,null,null,null,null,null,{"$f":"IF(R498>P498,\"！　(17）が(16)を超えています。\",\"\")","v":""},null,null,null,{"$f":"IF(G498=\"\",\"\",IF(SIGN(G498)=SIGN(R498),\"！(11)と(17)の符号が逆になっていません。\",\"\"))","v":""}]
[null,null,null,null,null,null,null,null,null,null,{"$f":"IF(G500<>\"\",IF(総括表①!$D$10=\"-\",総括表①!$C$10,総括表①!$D$10),\"\")","v":""},null,null,{"$f":"IF(SUM(K501:M501)=0,0,ROUND(K501/SUM(K501:M501),3))","v":0},null,{"$f":"IF(I490>0,ROUND(-G500*N500,0),0)","v":0}]
[null,null,null,null,null,null,null,null,null,null,null,null,null,null,null,null,null,null,null,null,null,null,{"$f":"IF(R500>P500,\"！　(17）が(16)を超えています。\",\"\")","v":""},null,null,null,{"$f":"IF(G500=\"\",\"\",IF(SIGN(G500)=SIGN(R500),\"！(11)と(17)の符号が逆になっていません。\",\"\"))","v":""}]
[null,null,null,null,null,null,null,null,null,null,{"$f":"IF(G502<>\"\",IF(総括表①!$D$10=\"-\",総括表①!$C$10,総括表①!$D$10),\"\")","v":""},null,null,{"$f":"IF(SUM(K503:M503)=0,0,ROUND(K503/SUM(K503:M503),3))","v":0},null,{"$f":"IF(I490>0,ROUND(-G502*N502,0),0)","v":0}]
[null,null,null,null,null,null,null,null,null,null,null,null,null,null,null,null,null,null,null,null,null,null,{"$f":"IF(R502>P502,\"！　(17）が(16)を超えています。\",\"\")","v":""},null,null,null,{"$f":"IF(G502=\"\",\"\",IF(SIGN(G502)=SIGN(R502),\"！(11)と(17)の符号が逆になっていません。\",\"\"))","v":""}]
[null,null,null,null,null,null,null,null,null,null,{"$f":"IF(G504<>\"\",IF(総括表①!$D$10=\"-\",総括表①!$C$10,総括表①!$D$10),\"\")","v":""},null,null,{"$f":"IF(SUM(K505:M505)=0,0,ROUND(K505/SUM(K505:M505),3))","v":0},null,{"$f":"IF(I490>0,ROUND(-G504*N504,0),0)","v":0}]
[null,null,null,null,null,null,null,null,null,null,null,null,null,null,null,null,null,null,null,null,null,null,{"$f":"IF(R504>P504,\"！　(17）が(16)を超えています。\",\"\")","v":""},null,null,null,{"$f":"IF(G504=\"\",\"\",IF(SIGN(G504)=SIGN(R504),\"！(11)と(17)の符号が逆になっていません。\",\"\"))","v":""}]
[null,null,null,null,null,null,null,null,null,null,{"$f":"IF(G506<>\"\",IF(総括表①!$D$10=\"-\",総括表①!$C$10,総括表①!$D$10),\"\")","v":""},null,null,{"$f":"IF(SUM(K507:M507)=0,0,ROUND(K507/SUM(K507:M507),3))","v":0},null,{"$f":"IF(I490>0,ROUND(-G506*N506,0),0)","v":0}]
[null,null,null,null,null,null,null,null,null,null,null,null,null,null,null,null,null,null,null,null,null,null,{"$f":"IF(R506>P506,\"！　(17）が(16)を超えています。\",\"\")","v":""},null,null,null,{"$f":"IF(G506=\"\",\"\",IF(SIGN(G506)=SIGN(R506),\"！(11)と(17)の符号が逆になっていません。\",\"\"))","v":""}]
[null,null,null,null,null,null,null,null,null,null,{"$f":"IF(G508<>\"\",IF(総括表①!$D$10=\"-\",総括表①!$C$10,総括表①!$D$10),\"\")","v":""},null,null,{"$f":"IF(SUM(K509:M509)=0,0,ROUND(K509/SUM(K509:M509),3))","v":0},null,{"$f":"IF(I490>0,ROUND(-G508*N508,0),0)","v":0}]
[null,null,null,null,null,null,null,null,null,null,null,null,null,null,null,null,null,null,null,null,null,null,{"$f":"IF(R508>P508,\"！　(17）が(16)を超えています。\",\"\")","v":""},null,null,null,{"$f":"IF(G508=\"\",\"\",IF(SIGN(G508)=SIGN(R508),\"！(11)と(17)の符号が逆になっていません。\",\"\"))","v":""}]
[null,16,null,null,null,null,null,null,{"$f":"IF(SUM(G510:H529)>=0,0,-1*SUM(G510:H529))","v":0},null,{"$f":"IF(G510<>\"\",IF(総括表①!$D$10=\"-\",総括表①!$C$10,総括表①!$D$10),\"\")","v":""},null,null,{"$f":"IF(SUM(K511:M511)=0,0,ROUND(K511/SUM(K511:M511),3))","v":0},null,{"$f":"IF(I510>0,ROUND(-G510*N510,0),0)","v":0},null,null,null,null,null,null,null,null,null,null,null,null,null,null,null,{"$f":"IF(AND(I510>0,SUM(P510:Q529)<=0)=TRUE,0,SUM(P510:Q529))","v":0},{"$f":"IF(AND(I510>0,SUM(R510:S529)<=0)=TRUE,0,SUM(R510:S529))","v":0}]
[null,null,null,null,null,null,null,null,null,null,null,null,null,null,null,null,null,null,null,null,null,null,{"$f":"IF(R510>P510,\"！　(17）が(16)を超えています。\",\"\")","v":""},null,null,null,{"$f":"IF(G510=\"\",\"\",IF(SIGN(G510)=SIGN(R510),\"！(11)と(17)の符号が逆になっていません。\",\"\"))","v":""}]
[null,null,null,null,null,null,null,null,null,null,{"$f":"IF(G512<>\"\",IF(総括表①!$D$10=\"-\",総括表①!$C$10,総括表①!$D$10),\"\")","v":""},null,null,{"$f":"IF(SUM(K513:M513)=0,0,ROUND(K513/SUM(K513:M513),3))","v":0},null,{"$f":"IF(I510>0,ROUND(-G512*N512,0),0)","v":0}]
[null,null,null,null,null,null,null,null,null,null,null,null,null,null,null,null,null,null,null,null,null,null,{"$f":"IF(R512>P512,\"！　(17）が(16)を超えています。\",\"\")","v":""},null,null,null,{"$f":"IF(G512=\"\",\"\",IF(SIGN(G512)=SIGN(R512),\"！(11)と(17)の符号が逆になっていません。\",\"\"))","v":""}]
[null,null,null,null,null,null,null,null,null,null,{"$f":"IF(G514<>\"\",IF(総括表①!$D$10=\"-\",総括表①!$C$10,総括表①!$D$10),\"\")","v":""},null,null,{"$f":"IF(SUM(K515:M515)=0,0,ROUND(K515/SUM(K515:M515),3))","v":0},null,{"$f":"IF(I510>0,ROUND(-G514*N514,0),0)","v":0}]
[null,null,null,null,null,null,null,null,null,null,null,null,null,null,null,null,null,null,null,null,null,null,{"$f":"IF(R514>P514,\"！　(17）が(16)を超えています。\",\"\")","v":""},null,null,null,{"$f":"IF(G514=\"\",\"\",IF(SIGN(G514)=SIGN(R514),\"！(11)と(17)の符号が逆になっていません。\",\"\"))","v":""}]
[null,null,null,null,null,null,null,null,null,null,{"$f":"IF(G516<>\"\",IF(総括表①!$D$10=\"-\",総括表①!$C$10,総括表①!$D$10),\"\")","v":""},null,null,{"$f":"IF(SUM(K517:M517)=0,0,ROUND(K517/SUM(K517:M517),3))","v":0},null,{"$f":"IF(I510>0,ROUND(-G516*N516,0),0)","v":0}]
[null,null,null,null,null,null,null,null,null,null,null,null,null,null,null,null,null,null,null,null,null,null,{"$f":"IF(R516>P516,\"！　(17）が(16)を超えています。\",\"\")","v":""},null,null,null,{"$f":"IF(G516=\"\",\"\",IF(SIGN(G516)=SIGN(R516),\"！(11)と(17)の符号が逆になっていません。\",\"\"))","v":""}]
[null,null,null,null,null,null,null,null,null,null,{"$f":"IF(G518<>\"\",IF(総括表①!$D$10=\"-\",総括表①!$C$10,総括表①!$D$10),\"\")","v":""},null,null,{"$f":"IF(SUM(K519:M519)=0,0,ROUND(K519/SUM(K519:M519),3))","v":0},null,{"$f":"IF(I510>0,ROUND(-G518*N518,0),0)","v":0}]
[null,null,null,null,null,null,null,null,null,null,null,null,null,null,null,null,null,null,null,null,null,null,{"$f":"IF(R518>P518,\"！　(17）が(16)を超えています。\",\"\")","v":""},null,null,null,{"$f":"IF(G518=\"\",\"\",IF(SIGN(G518)=SIGN(R518),\"！(11)と(17)の符号が逆になっていません。\",\"\"))","v":""}]
[null,null,null,null,null,null,null,null,null,null,{"$f":"IF(G520<>\"\",IF(総括表①!$D$10=\"-\",総括表①!$C$10,総括表①!$D$10),\"\")","v":""},null,null,{"$f":"IF(SUM(K521:M521)=0,0,ROUND(K521/SUM(K521:M521),3))","v":0},null,{"$f":"IF(I510>0,ROUND(-G520*N520,0),0)","v":0}]
[null,null,null,null,null,null,null,null,null,null,null,null,null,null,null,null,null,null,null,null,null,null,{"$f":"IF(R520>P520,\"！　(17）が(16)を超えています。\",\"\")","v":""},null,null,null,{"$f":"IF(G520=\"\",\"\",IF(SIGN(G520)=SIGN(R520),\"！(11)と(17)の符号が逆になっていません。\",\"\"))","v":""}]
[null,null,null,null,null,null,null,null,null,null,{"$f":"IF(G522<>\"\",IF(総括表①!$D$10=\"-\",総括表①!$C$10,総括表①!$D$10),\"\")","v":""},null,null,{"$f":"IF(SUM(K523:M523)=0,0,ROUND(K523/SUM(K523:M523),3))","v":0},null,{"$f":"IF(I510>0,ROUND(-G522*N522,0),0)","v":0}]
[null,null,null,null,null,null,null,null,null,null,null,null,null,null,null,null,null,null,null,null,null,null,{"$f":"IF(R522>P522,\"！　(17）が(16)を超えています。\",\"\")","v":""},null,null,null,{"$f":"IF(G522=\"\",\"\",IF(SIGN(G522)=SIGN(R522),\"！(11)と(17)の符号が逆になっていません。\",\"\"))","v":""}]
[null,null,null,null,null,null,null,null,null,null,{"$f":"IF(G524<>\"\",IF(総括表①!$D$10=\"-\",総括表①!$C$10,総括表①!$D$10),\"\")","v":""},null,null,{"$f":"IF(SUM(K525:M525)=0,0,ROUND(K525/SUM(K525:M525),3))","v":0},null,{"$f":"IF(I510>0,ROUND(-G524*N524,0),0)","v":0}]
[null,null,null,null,null,null,null,null,null,null,null,null,null,null,null,null,null,null,null,null,null,null,{"$f":"IF(R524>P524,\"！　(17）が(16)を超えています。\",\"\")","v":""},null,null,null,{"$f":"IF(G524=\"\",\"\",IF(SIGN(G524)=SIGN(R524),\"！(11)と(17)の符号が逆になっていません。\",\"\"))","v":""}]
[null,null,null,null,null,null,null,null,null,null,{"$f":"IF(G526<>\"\",IF(総括表①!$D$10=\"-\",総括表①!$C$10,総括表①!$D$10),\"\")","v":""},null,null,{"$f":"IF(SUM(K527:M527)=0,0,ROUND(K527/SUM(K527:M527),3))","v":0},null,{"$f":"IF(I510>0,ROUND(-G526*N526,0),0)","v":0}]
[null,null,null,null,null,null,null,null,null,null,null,null,null,null,null,null,null,null,null,null,null,null,{"$f":"IF(R526>P526,\"！　(17）が(16)を超えています。\",\"\")","v":""},null,null,null,{"$f":"IF(G526=\"\",\"\",IF(SIGN(G526)=SIGN(R526),\"！(11)と(17)の符号が逆になっていません。\",\"\"))","v":""}]
[null,null,null,null,null,null,null,null,null,null,{"$f":"IF(G528<>\"\",IF(総括表①!$D$10=\"-\",総括表①!$C$10,総括表①!$D$10),\"\")","v":""},null,null,{"$f":"IF(SUM(K529:M529)=0,0,ROUND(K529/SUM(K529:M529),3))","v":0},null,{"$f":"IF(I510>0,ROUND(-G528*N528,0),0)","v":0}]
[null,null,null,null,null,null,null,null,null,null,null,null,null,null,null,null,null,null,null,null,null,null,{"$f":"IF(R528>P528,\"！　(17）が(16)を超えています。\",\"\")","v":""},null,null,null,{"$f":"IF(G528=\"\",\"\",IF(SIGN(G528)=SIGN(R528),\"！(11)と(17)の符号が逆になっていません。\",\"\"))","v":""}]
[null,17,null,null,null,null,null,null,{"$f":"IF(SUM(G530:H549)>=0,0,-1*SUM(G530:H549))","v":0},null,{"$f":"IF(G530<>\"\",IF(総括表①!$D$10=\"-\",総括表①!$C$10,総括表①!$D$10),\"\")","v":""},null,null,{"$f":"IF(SUM(K531:M531)=0,0,ROUND(K531/SUM(K531:M531),3))","v":0},null,{"$f":"IF(I530>0,ROUND(-G530*N530,0),0)","v":0},null,null,null,null,null,null,null,null,null,null,null,null,null,null,null,{"$f":"IF(AND(I530>0,SUM(P530:Q549)<=0)=TRUE,0,SUM(P530:Q549))","v":0},{"$f":"IF(AND(I530>0,SUM(R530:S549)<=0)=TRUE,0,SUM(R530:S549))","v":0}]
[null,null,null,null,null,null,null,null,null,null,null,null,null,null,null,null,null,null,null,null,null,null,{"$f":"IF(R530>P530,\"！　(17）が(16)を超えています。\",\"\")","v":""},null,null,null,{"$f":"IF(G530=\"\",\"\",IF(SIGN(G530)=SIGN(R530),\"！(11)と(17)の符号が逆になっていません。\",\"\"))","v":""}]
[null,null,null,null,null,null,null,null,null,null,{"$f":"IF(G532<>\"\",IF(総括表①!$D$10=\"-\",総括表①!$C$10,総括表①!$D$10),\"\")","v":""},null,null,{"$f":"IF(SUM(K533:M533)=0,0,ROUND(K533/SUM(K533:M533),3))","v":0},null,{"$f":"IF(I530>0,ROUND(-G532*N532,0),0)","v":0}]
[null,null,null,null,null,null,null,null,null,null,null,null,null,null,null,null,null,null,null,null,null,null,{"$f":"IF(R532>P532,\"！　(17）が(16)を超えています。\",\"\")","v":""},null,null,null,{"$f":"IF(G532=\"\",\"\",IF(SIGN(G532)=SIGN(R532),\"！(11)と(17)の符号が逆になっていません。\",\"\"))","v":""}]
[null,null,null,null,null,null,null,null,null,null,{"$f":"IF(G534<>\"\",IF(総括表①!$D$10=\"-\",総括表①!$C$10,総括表①!$D$10),\"\")","v":""},null,null,{"$f":"IF(SUM(K535:M535)=0,0,ROUND(K535/SUM(K535:M535),3))","v":0},null,{"$f":"IF(I530>0,ROUND(-G534*N534,0),0)","v":0}]
[null,null,null,null,null,null,null,null,null,null,null,null,null,null,null,null,null,null,null,null,null,null,{"$f":"IF(R534>P534,\"！　(17）が(16)を超えています。\",\"\")","v":""},null,null,null,{"$f":"IF(G534=\"\",\"\",IF(SIGN(G534)=SIGN(R534),\"！(11)と(17)の符号が逆になっていません。\",\"\"))","v":""}]
[null,null,null,null,null,null,null,null,null,null,{"$f":"IF(G536<>\"\",IF(総括表①!$D$10=\"-\",総括表①!$C$10,総括表①!$D$10),\"\")","v":""},null,null,{"$f":"IF(SUM(K537:M537)=0,0,ROUND(K537/SUM(K537:M537),3))","v":0},null,{"$f":"IF(I530>0,ROUND(-G536*N536,0),0)","v":0}]
[null,null,null,null,null,null,null,null,null,null,null,null,null,null,null,null,null,null,null,null,null,null,{"$f":"IF(R536>P536,\"！　(17）が(16)を超えています。\",\"\")","v":""},null,null,null,{"$f":"IF(G536=\"\",\"\",IF(SIGN(G536)=SIGN(R536),\"！(11)と(17)の符号が逆になっていません。\",\"\"))","v":""}]
[null,null,null,null,null,null,null,null,null,null,{"$f":"IF(G538<>\"\",IF(総括表①!$D$10=\"-\",総括表①!$C$10,総括表①!$D$10),\"\")","v":""},null,null,{"$f":"IF(SUM(K539:M539)=0,0,ROUND(K539/SUM(K539:M539),3))","v":0},null,{"$f":"IF(I530>0,ROUND(-G538*N538,0),0)","v":0}]
[null,null,null,null,null,null,null,null,null,null,null,null,null,null,null,null,null,null,null,null,null,null,{"$f":"IF(R538>P538,\"！　(17）が(16)を超えています。\",\"\")","v":""},null,null,null,{"$f":"IF(G538=\"\",\"\",IF(SIGN(G538)=SIGN(R538),\"！(11)と(17)の符号が逆になっていません。\",\"\"))","v":""}]
[null,null,null,null,null,null,null,null,null,null,{"$f":"IF(G540<>\"\",IF(総括表①!$D$10=\"-\",総括表①!$C$10,総括表①!$D$10),\"\")","v":""},null,null,{"$f":"IF(SUM(K541:M541)=0,0,ROUND(K541/SUM(K541:M541),3))","v":0},null,{"$f":"IF(I530>0,ROUND(-G540*N540,0),0)","v":0}]
[null,null,null,null,null,null,null,null,null,null,null,null,null,null,null,null,null,null,null,null,null,null,{"$f":"IF(R540>P540,\"！　(17）が(16)を超えています。\",\"\")","v":""},null,null,null,{"$f":"IF(G540=\"\",\"\",IF(SIGN(G540)=SIGN(R540),\"！(11)と(17)の符号が逆になっていません。\",\"\"))","v":""}]
[null,null,null,null,null,null,null,null,null,null,{"$f":"IF(G542<>\"\",IF(総括表①!$D$10=\"-\",総括表①!$C$10,総括表①!$D$10),\"\")","v":""},null,null,{"$f":"IF(SUM(K543:M543)=0,0,ROUND(K543/SUM(K543:M543),3))","v":0},null,{"$f":"IF(I530>0,ROUND(-G542*N542,0),0)","v":0}]
[null,null,null,null,null,null,null,null,null,null,null,null,null,null,null,null,null,null,null,null,null,null,{"$f":"IF(R542>P542,\"！　(17）が(16)を超えています。\",\"\")","v":""},null,null,null,{"$f":"IF(G542=\"\",\"\",IF(SIGN(G542)=SIGN(R542),\"！(11)と(17)の符号が逆になっていません。\",\"\"))","v":""}]
[null,null,null,null,null,null,null,null,null,null,{"$f":"IF(G544<>\"\",IF(総括表①!$D$10=\"-\",総括表①!$C$10,総括表①!$D$10),\"\")","v":""},null,null,{"$f":"IF(SUM(K545:M545)=0,0,ROUND(K545/SUM(K545:M545),3))","v":0},null,{"$f":"IF(I530>0,ROUND(-G544*N544,0),0)","v":0}]
[null,null,null,null,null,null,null,null,null,null,null,null,null,null,null,null,null,null,null,null,null,null,{"$f":"IF(R544>P544,\"！　(17）が(16)を超えています。\",\"\")","v":""},null,null,null,{"$f":"IF(G544=\"\",\"\",IF(SIGN(G544)=SIGN(R544),\"！(11)と(17)の符号が逆になっていません。\",\"\"))","v":""}]
[null,null,null,null,null,null,null,null,null,null,{"$f":"IF(G546<>\"\",IF(総括表①!$D$10=\"-\",総括表①!$C$10,総括表①!$D$10),\"\")","v":""},null,null,{"$f":"IF(SUM(K547:M547)=0,0,ROUND(K547/SUM(K547:M547),3))","v":0},null,{"$f":"IF(I530>0,ROUND(-G546*N546,0),0)","v":0}]
[null,null,null,null,null,null,null,null,null,null,null,null,null,null,null,null,null,null,null,null,null,null,{"$f":"IF(R546>P546,\"！　(17）が(16)を超えています。\",\"\")","v":""},null,null,null,{"$f":"IF(G546=\"\",\"\",IF(SIGN(G546)=SIGN(R546),\"！(11)と(17)の符号が逆になっていません。\",\"\"))","v":""}]
[null,null,null,null,null,null,null,null,null,null,{"$f":"IF(G548<>\"\",IF(総括表①!$D$10=\"-\",総括表①!$C$10,総括表①!$D$10),\"\")","v":""},null,null,{"$f":"IF(SUM(K549:M549)=0,0,ROUND(K549/SUM(K549:M549),3))","v":0},null,{"$f":"IF(I530>0,ROUND(-G548*N548,0),0)","v":0}]
[null,null,null,null,null,null,null,null,null,null,null,null,null,null,null,null,null,null,null,null,null,null,{"$f":"IF(R548>P548,\"！　(17）が(16)を超えています。\",\"\")","v":""},null,null,null,{"$f":"IF(G548=\"\",\"\",IF(SIGN(G548)=SIGN(R548),\"！(11)と(17)の符号が逆になっていません。\",\"\"))","v":""}]
[null,18,null,null,null,null,null,null,{"$f":"IF(SUM(G550:H569)>=0,0,-1*SUM(G550:H569))","v":0},null,{"$f":"IF(G550<>\"\",IF(総括表①!$D$10=\"-\",総括表①!$C$10,総括表①!$D$10),\"\")","v":""},null,null,{"$f":"IF(SUM(K551:M551)=0,0,ROUND(K551/SUM(K551:M551),3))","v":0},null,{"$f":"IF(I550>0,ROUND(-G550*N550,0),0)","v":0},null,null,null,null,null,null,null,null,null,null,null,null,null,null,null,{"$f":"IF(AND(I550>0,SUM(P550:Q569)<=0)=TRUE,0,SUM(P550:Q569))","v":0},{"$f":"IF(AND(I550>0,SUM(R550:S569)<=0)=TRUE,0,SUM(R550:S569))","v":0}]
[null,null,null,null,null,null,null,null,null,null,null,null,null,null,null,null,null,null,null,null,null,null,{"$f":"IF(R550>P550,\"！　(17）が(16)を超えています。\",\"\")","v":""},null,null,null,{"$f":"IF(G550=\"\",\"\",IF(SIGN(G550)=SIGN(R550),\"！(11)と(17)の符号が逆になっていません。\",\"\"))","v":""}]
[null,null,null,null,null,null,null,null,null,null,{"$f":"IF(G552<>\"\",IF(総括表①!$D$10=\"-\",総括表①!$C$10,総括表①!$D$10),\"\")","v":""},null,null,{"$f":"IF(SUM(K553:M553)=0,0,ROUND(K553/SUM(K553:M553),3))","v":0},null,{"$f":"IF(I550>0,ROUND(-G552*N552,0),0)","v":0}]
[null,null,null,null,null,null,null,null,null,null,null,null,null,null,null,null,null,null,null,null,null,null,{"$f":"IF(R552>P552,\"！　(17）が(16)を超えています。\",\"\")","v":""},null,null,null,{"$f":"IF(G552=\"\",\"\",IF(SIGN(G552)=SIGN(R552),\"！(11)と(17)の符号が逆になっていません。\",\"\"))","v":""}]
[null,null,null,null,null,null,null,null,null,null,{"$f":"IF(G554<>\"\",IF(総括表①!$D$10=\"-\",総括表①!$C$10,総括表①!$D$10),\"\")","v":""},null,null,{"$f":"IF(SUM(K555:M555)=0,0,ROUND(K555/SUM(K555:M555),3))","v":0},null,{"$f":"IF(I550>0,ROUND(-G554*N554,0),0)","v":0}]
[null,null,null,null,null,null,null,null,null,null,null,null,null,null,null,null,null,null,null,null,null,null,{"$f":"IF(R554>P554,\"！　(17）が(16)を超えています。\",\"\")","v":""},null,null,null,{"$f":"IF(G554=\"\",\"\",IF(SIGN(G554)=SIGN(R554),\"！(11)と(17)の符号が逆になっていません。\",\"\"))","v":""}]
[null,null,null,null,null,null,null,null,null,null,{"$f":"IF(G556<>\"\",IF(総括表①!$D$10=\"-\",総括表①!$C$10,総括表①!$D$10),\"\")","v":""},null,null,{"$f":"IF(SUM(K557:M557)=0,0,ROUND(K557/SUM(K557:M557),3))","v":0},null,{"$f":"IF(I550>0,ROUND(-G556*N556,0),0)","v":0}]
[null,null,null,null,null,null,null,null,null,null,null,null,null,null,null,null,null,null,null,null,null,null,{"$f":"IF(R556>P556,\"！　(17）が(16)を超えています。\",\"\")","v":""},null,null,null,{"$f":"IF(G556=\"\",\"\",IF(SIGN(G556)=SIGN(R556),\"！(11)と(17)の符号が逆になっていません。\",\"\"))","v":""}]
[null,null,null,null,null,null,null,null,null,null,{"$f":"IF(G558<>\"\",IF(総括表①!$D$10=\"-\",総括表①!$C$10,総括表①!$D$10),\"\")","v":""},null,null,{"$f":"IF(SUM(K559:M559)=0,0,ROUND(K559/SUM(K559:M559),3))","v":0},null,{"$f":"IF(I550>0,ROUND(-G558*N558,0),0)","v":0}]
[null,null,null,null,null,null,null,null,null,null,null,null,null,null,null,null,null,null,null,null,null,null,{"$f":"IF(R558>P558,\"！　(17）が(16)を超えています。\",\"\")","v":""},null,null,null,{"$f":"IF(G558=\"\",\"\",IF(SIGN(G558)=SIGN(R558),\"！(11)と(17)の符号が逆になっていません。\",\"\"))","v":""}]
[null,null,null,null,null,null,null,null,null,null,{"$f":"IF(G560<>\"\",IF(総括表①!$D$10=\"-\",総括表①!$C$10,総括表①!$D$10),\"\")","v":""},null,null,{"$f":"IF(SUM(K561:M561)=0,0,ROUND(K561/SUM(K561:M561),3))","v":0},null,{"$f":"IF(I550>0,ROUND(-G560*N560,0),0)","v":0}]
[null,null,null,null,null,null,null,null,null,null,null,null,null,null,null,null,null,null,null,null,null,null,{"$f":"IF(R560>P560,\"！　(17）が(16)を超えています。\",\"\")","v":""},null,null,null,{"$f":"IF(G560=\"\",\"\",IF(SIGN(G560)=SIGN(R560),\"！(11)と(17)の符号が逆になっていません。\",\"\"))","v":""}]
[null,null,null,null,null,null,null,null,null,null,{"$f":"IF(G562<>\"\",IF(総括表①!$D$10=\"-\",総括表①!$C$10,総括表①!$D$10),\"\")","v":""},null,null,{"$f":"IF(SUM(K563:M563)=0,0,ROUND(K563/SUM(K563:M563),3))","v":0},null,{"$f":"IF(I550>0,ROUND(-G562*N562,0),0)","v":0}]
[null,null,null,null,null,null,null,null,null,null,null,null,null,null,null,null,null,null,null,null,null,null,{"$f":"IF(R562>P562,\"！　(17）が(16)を超えています。\",\"\")","v":""},null,null,null,{"$f":"IF(G562=\"\",\"\",IF(SIGN(G562)=SIGN(R562),\"！(11)と(17)の符号が逆になっていません。\",\"\"))","v":""}]
[null,null,null,null,null,null,null,null,null,null,{"$f":"IF(G564<>\"\",IF(総括表①!$D$10=\"-\",総括表①!$C$10,総括表①!$D$10),\"\")","v":""},null,null,{"$f":"IF(SUM(K565:M565)=0,0,ROUND(K565/SUM(K565:M565),3))","v":0},null,{"$f":"IF(I550>0,ROUND(-G564*N564,0),0)","v":0}]
[null,null,null,null,null,null,null,null,null,null,null,null,null,null,null,null,null,null,null,null,null,null,{"$f":"IF(R564>P564,\"！　(17）が(16)を超えています。\",\"\")","v":""},null,null,null,{"$f":"IF(G564=\"\",\"\",IF(SIGN(G564)=SIGN(R564),\"！(11)と(17)の符号が逆になっていません。\",\"\"))","v":""}]
[null,null,null,null,null,null,null,null,null,null,{"$f":"IF(G566<>\"\",IF(総括表①!$D$10=\"-\",総括表①!$C$10,総括表①!$D$10),\"\")","v":""},null,null,{"$f":"IF(SUM(K567:M567)=0,0,ROUND(K567/SUM(K567:M567),3))","v":0},null,{"$f":"IF(I550>0,ROUND(-G566*N566,0),0)","v":0}]
[null,null,null,null,null,null,null,null,null,null,null,null,null,null,null,null,null,null,null,null,null,null,{"$f":"IF(R566>P566,\"！　(17）が(16)を超えています。\",\"\")","v":""},null,null,null,{"$f":"IF(G566=\"\",\"\",IF(SIGN(G566)=SIGN(R566),\"！(11)と(17)の符号が逆になっていません。\",\"\"))","v":""}]
[null,null,null,null,null,null,null,null,null,null,{"$f":"IF(G568<>\"\",IF(総括表①!$D$10=\"-\",総括表①!$C$10,総括表①!$D$10),\"\")","v":""},null,null,{"$f":"IF(SUM(K569:M569)=0,0,ROUND(K569/SUM(K569:M569),3))","v":0},null,{"$f":"IF(I550>0,ROUND(-G568*N568,0),0)","v":0}]
[null,null,null,null,null,null,null,null,null,null,null,null,null,null,null,null,null,null,null,null,null,null,{"$f":"IF(R568>P568,\"！　(17）が(16)を超えています。\",\"\")","v":""},null,null,null,{"$f":"IF(G568=\"\",\"\",IF(SIGN(G568)=SIGN(R568),\"！(11)と(17)の符号が逆になっていません。\",\"\"))","v":""}]
[null,19,null,null,null,null,null,null,{"$f":"IF(SUM(G570:H589)>=0,0,-1*SUM(G570:H589))","v":0},null,{"$f":"IF(G570<>\"\",IF(総括表①!$D$10=\"-\",総括表①!$C$10,総括表①!$D$10),\"\")","v":""},null,null,{"$f":"IF(SUM(K571:M571)=0,0,ROUND(K571/SUM(K571:M571),3))","v":0},null,{"$f":"IF(I570>0,ROUND(-G570*N570,0),0)","v":0},null,null,null,null,null,null,null,null,null,null,null,null,null,null,null,{"$f":"IF(AND(I570>0,SUM(P570:Q589)<=0)=TRUE,0,SUM(P570:Q589))","v":0},{"$f":"IF(AND(I570>0,SUM(R570:S589)<=0)=TRUE,0,SUM(R570:S589))","v":0}]
[null,null,null,null,null,null,null,null,null,null,null,null,null,null,null,null,null,null,null,null,null,null,{"$f":"IF(R570>P570,\"！　(17）が(16)を超えています。\",\"\")","v":""},null,null,null,{"$f":"IF(G570=\"\",\"\",IF(SIGN(G570)=SIGN(R570),\"！(11)と(17)の符号が逆になっていません。\",\"\"))","v":""}]
[null,null,null,null,null,null,null,null,null,null,{"$f":"IF(G572<>\"\",IF(総括表①!$D$10=\"-\",総括表①!$C$10,総括表①!$D$10),\"\")","v":""},null,null,{"$f":"IF(SUM(K573:M573)=0,0,ROUND(K573/SUM(K573:M573),3))","v":0},null,{"$f":"IF(I570>0,ROUND(-G572*N572,0),0)","v":0}]
[null,null,null,null,null,null,null,null,null,null,null,null,null,null,null,null,null,null,null,null,null,null,{"$f":"IF(R572>P572,\"！　(17）が(16)を超えています。\",\"\")","v":""},null,null,null,{"$f":"IF(G572=\"\",\"\",IF(SIGN(G572)=SIGN(R572),\"！(11)と(17)の符号が逆になっていません。\",\"\"))","v":""}]
[null,null,null,null,null,null,null,null,null,null,{"$f":"IF(G574<>\"\",IF(総括表①!$D$10=\"-\",総括表①!$C$10,総括表①!$D$10),\"\")","v":""},null,null,{"$f":"IF(SUM(K575:M575)=0,0,ROUND(K575/SUM(K575:M575),3))","v":0},null,{"$f":"IF(I570>0,ROUND(-G574*N574,0),0)","v":0}]
[null,null,null,null,null,null,null,null,null,null,null,null,null,null,null,null,null,null,null,null,null,null,{"$f":"IF(R574>P574,\"！　(17）が(16)を超えています。\",\"\")","v":""},null,null,null,{"$f":"IF(G574=\"\",\"\",IF(SIGN(G574)=SIGN(R574),\"！(11)と(17)の符号が逆になっていません。\",\"\"))","v":""}]
[null,null,null,null,null,null,null,null,null,null,{"$f":"IF(G576<>\"\",IF(総括表①!$D$10=\"-\",総括表①!$C$10,総括表①!$D$10),\"\")","v":""},null,null,{"$f":"IF(SUM(K577:M577)=0,0,ROUND(K577/SUM(K577:M577),3))","v":0},null,{"$f":"IF(I570>0,ROUND(-G576*N576,0),0)","v":0}]
[null,null,null,null,null,null,null,null,null,null,null,null,null,null,null,null,null,null,null,null,null,null,{"$f":"IF(R576>P576,\"！　(17）が(16)を超えています。\",\"\")","v":""},null,null,null,{"$f":"IF(G576=\"\",\"\",IF(SIGN(G576)=SIGN(R576),\"！(11)と(17)の符号が逆になっていません。\",\"\"))","v":""}]
[null,null,null,null,null,null,null,null,null,null,{"$f":"IF(G578<>\"\",IF(総括表①!$D$10=\"-\",総括表①!$C$10,総括表①!$D$10),\"\")","v":""},null,null,{"$f":"IF(SUM(K579:M579)=0,0,ROUND(K579/SUM(K579:M579),3))","v":0},null,{"$f":"IF(I570>0,ROUND(-G578*N578,0),0)","v":0}]
[null,null,null,null,null,null,null,null,null,null,null,null,null,null,null,null,null,null,null,null,null,null,{"$f":"IF(R578>P578,\"！　(17）が(16)を超えています。\",\"\")","v":""},null,null,null,{"$f":"IF(G578=\"\",\"\",IF(SIGN(G578)=SIGN(R578),\"！(11)と(17)の符号が逆になっていません。\",\"\"))","v":""}]
[null,null,null,null,null,null,null,null,null,null,{"$f":"IF(G580<>\"\",IF(総括表①!$D$10=\"-\",総括表①!$C$10,総括表①!$D$10),\"\")","v":""},null,null,{"$f":"IF(SUM(K581:M581)=0,0,ROUND(K581/SUM(K581:M581),3))","v":0},null,{"$f":"IF(I570>0,ROUND(-G580*N580,0),0)","v":0}]
[null,null,null,null,null,null,null,null,null,null,null,null,null,null,null,null,null,null,null,null,null,null,{"$f":"IF(R580>P580,\"！　(17）が(16)を超えています。\",\"\")","v":""},null,null,null,{"$f":"IF(G580=\"\",\"\",IF(SIGN(G580)=SIGN(R580),\"！(11)と(17)の符号が逆になっていません。\",\"\"))","v":""}]
[null,null,null,null,null,null,null,null,null,null,{"$f":"IF(G582<>\"\",IF(総括表①!$D$10=\"-\",総括表①!$C$10,総括表①!$D$10),\"\")","v":""},null,null,{"$f":"IF(SUM(K583:M583)=0,0,ROUND(K583/SUM(K583:M583),3))","v":0},null,{"$f":"IF(I570>0,ROUND(-G582*N582,0),0)","v":0}]
[null,null,null,null,null,null,null,null,null,null,null,null,null,null,null,null,null,null,null,null,null,null,{"$f":"IF(R582>P582,\"！　(17）が(16)を超えています。\",\"\")","v":""},null,null,null,{"$f":"IF(G582=\"\",\"\",IF(SIGN(G582)=SIGN(R582),\"！(11)と(17)の符号が逆になっていません。\",\"\"))","v":""}]
[null,null,null,null,null,null,null,null,null,null,{"$f":"IF(G584<>\"\",IF(総括表①!$D$10=\"-\",総括表①!$C$10,総括表①!$D$10),\"\")","v":""},null,null,{"$f":"IF(SUM(K585:M585)=0,0,ROUND(K585/SUM(K585:M585),3))","v":0},null,{"$f":"IF(I570>0,ROUND(-G584*N584,0),0)","v":0}]
[null,null,null,null,null,null,null,null,null,null,null,null,null,null,null,null,null,null,null,null,null,null,{"$f":"IF(R584>P584,\"！　(17）が(16)を超えています。\",\"\")","v":""},null,null,null,{"$f":"IF(G584=\"\",\"\",IF(SIGN(G584)=SIGN(R584),\"！(11)と(17)の符号が逆になっていません。\",\"\"))","v":""}]
[null,null,null,null,null,null,null,null,null,null,{"$f":"IF(G586<>\"\",IF(総括表①!$D$10=\"-\",総括表①!$C$10,総括表①!$D$10),\"\")","v":""},null,null,{"$f":"IF(SUM(K587:M587)=0,0,ROUND(K587/SUM(K587:M587),3))","v":0},null,{"$f":"IF(I570>0,ROUND(-G586*N586,0),0)","v":0}]
[null,null,null,null,null,null,null,null,null,null,null,null,null,null,null,null,null,null,null,null,null,null,{"$f":"IF(R586>P586,\"！　(17）が(16)を超えています。\",\"\")","v":""},null,null,null,{"$f":"IF(G586=\"\",\"\",IF(SIGN(G586)=SIGN(R586),\"！(11)と(17)の符号が逆になっていません。\",\"\"))","v":""}]
[null,null,null,null,null,null,null,null,null,null,{"$f":"IF(G588<>\"\",IF(総括表①!$D$10=\"-\",総括表①!$C$10,総括表①!$D$10),\"\")","v":""},null,null,{"$f":"IF(SUM(K589:M589)=0,0,ROUND(K589/SUM(K589:M589),3))","v":0},null,{"$f":"IF(I570>0,ROUND(-G588*N588,0),0)","v":0}]
[null,null,null,null,null,null,null,null,null,null,null,null,null,null,null,null,null,null,null,null,null,null,{"$f":"IF(R588>P588,\"！　(17）が(16)を超えています。\",\"\")","v":""},null,null,null,{"$f":"IF(G588=\"\",\"\",IF(SIGN(G588)=SIGN(R588),\"！(11)と(17)の符号が逆になっていません。\",\"\"))","v":""}]
[null,20,null,null,null,null,null,null,{"$f":"IF(SUM(G590:H609)>=0,0,-1*SUM(G590:H609))","v":0},null,{"$f":"IF(G590<>\"\",IF(総括表①!$D$10=\"-\",総括表①!$C$10,総括表①!$D$10),\"\")","v":""},null,null,{"$f":"IF(SUM(K591:M591)=0,0,ROUND(K591/SUM(K591:M591),3))","v":0},null,{"$f":"IF(I590>0,ROUND(-G590*N590,0),0)","v":0},null,null,null,null,null,null,null,null,null,null,null,null,null,null,null,{"$f":"IF(AND(I590>0,SUM(P590:Q609)<=0)=TRUE,0,SUM(P590:Q609))","v":0},{"$f":"IF(AND(I590>0,SUM(R590:S609)<=0)=TRUE,0,SUM(R590:S609))","v":0}]
[null,null,null,null,null,null,null,null,null,null,null,null,null,null,null,null,null,null,null,null,null,null,{"$f":"IF(R590>P590,\"！　(17）が(16)を超えています。\",\"\")","v":""},null,null,null,{"$f":"IF(G590=\"\",\"\",IF(SIGN(G590)=SIGN(R590),\"！(11)と(17)の符号が逆になっていません。\",\"\"))","v":""}]
[null,null,null,null,null,null,null,null,null,null,{"$f":"IF(G592<>\"\",IF(総括表①!$D$10=\"-\",総括表①!$C$10,総括表①!$D$10),\"\")","v":""},null,null,{"$f":"IF(SUM(K593:M593)=0,0,ROUND(K593/SUM(K593:M593),3))","v":0},null,{"$f":"IF(I590>0,ROUND(-G592*N592,0),0)","v":0}]
[null,null,null,null,null,null,null,null,null,null,null,null,null,null,null,null,null,null,null,null,null,null,{"$f":"IF(R592>P592,\"！　(17）が(16)を超えています。\",\"\")","v":""},null,null,null,{"$f":"IF(G592=\"\",\"\",IF(SIGN(G592)=SIGN(R592),\"！(11)と(17)の符号が逆になっていません。\",\"\"))","v":""}]
[null,null,null,null,null,null,null,null,null,null,{"$f":"IF(G594<>\"\",IF(総括表①!$D$10=\"-\",総括表①!$C$10,総括表①!$D$10),\"\")","v":""},null,null,{"$f":"IF(SUM(K595:M595)=0,0,ROUND(K595/SUM(K595:M595),3))","v":0},null,{"$f":"IF(I590>0,ROUND(-G594*N594,0),0)","v":0}]
[null,null,null,null,null,null,null,null,null,null,null,null,null,null,null,null,null,null,null,null,null,null,{"$f":"IF(R594>P594,\"！　(17）が(16)を超えています。\",\"\")","v":""},null,null,null,{"$f":"IF(G594=\"\",\"\",IF(SIGN(G594)=SIGN(R594),\"！(11)と(17)の符号が逆になっていません。\",\"\"))","v":""}]
[null,null,null,null,null,null,null,null,null,null,{"$f":"IF(G596<>\"\",IF(総括表①!$D$10=\"-\",総括表①!$C$10,総括表①!$D$10),\"\")","v":""},null,null,{"$f":"IF(SUM(K597:M597)=0,0,ROUND(K597/SUM(K597:M597),3))","v":0},null,{"$f":"IF(I590>0,ROUND(-G596*N596,0),0)","v":0}]
[null,null,null,null,null,null,null,null,null,null,null,null,null,null,null,null,null,null,null,null,null,null,{"$f":"IF(R596>P596,\"！　(17）が(16)を超えています。\",\"\")","v":""},null,null,null,{"$f":"IF(G596=\"\",\"\",IF(SIGN(G596)=SIGN(R596),\"！(11)と(17)の符号が逆になっていません。\",\"\"))","v":""}]
[null,null,null,null,null,null,null,null,null,null,{"$f":"IF(G598<>\"\",IF(総括表①!$D$10=\"-\",総括表①!$C$10,総括表①!$D$10),\"\")","v":""},null,null,{"$f":"IF(SUM(K599:M599)=0,0,ROUND(K599/SUM(K599:M599),3))","v":0},null,{"$f":"IF(I590>0,ROUND(-G598*N598,0),0)","v":0}]
[null,null,null,null,null,null,null,null,null,null,null,null,null,null,null,null,null,null,null,null,null,null,{"$f":"IF(R598>P598,\"！　(17）が(16)を超えています。\",\"\")","v":""},null,null,null,{"$f":"IF(G598=\"\",\"\",IF(SIGN(G598)=SIGN(R598),\"！(11)と(17)の符号が逆になっていません。\",\"\"))","v":""}]
[null,null,null,null,null,null,null,null,null,null,{"$f":"IF(G600<>\"\",IF(総括表①!$D$10=\"-\",総括表①!$C$10,総括表①!$D$10),\"\")","v":""},null,null,{"$f":"IF(SUM(K601:M601)=0,0,ROUND(K601/SUM(K601:M601),3))","v":0},null,{"$f":"IF(I590>0,ROUND(-G600*N600,0),0)","v":0}]
[null,null,null,null,null,null,null,null,null,null,null,null,null,null,null,null,null,null,null,null,null,null,{"$f":"IF(R600>P600,\"！　(17）が(16)を超えています。\",\"\")","v":""},null,null,null,{"$f":"IF(G600=\"\",\"\",IF(SIGN(G600)=SIGN(R600),\"！(11)と(17)の符号が逆になっていません。\",\"\"))","v":""}]
[null,null,null,null,null,null,null,null,null,null,{"$f":"IF(G602<>\"\",IF(総括表①!$D$10=\"-\",総括表①!$C$10,総括表①!$D$10),\"\")","v":""},null,null,{"$f":"IF(SUM(K603:M603)=0,0,ROUND(K603/SUM(K603:M603),3))","v":0},null,{"$f":"IF(I590>0,ROUND(-G602*N602,0),0)","v":0}]
[null,null,null,null,null,null,null,null,null,null,null,null,null,null,null,null,null,null,null,null,null,null,{"$f":"IF(R602>P602,\"！　(17）が(16)を超えています。\",\"\")","v":""},null,null,null,{"$f":"IF(G602=\"\",\"\",IF(SIGN(G602)=SIGN(R602),\"！(11)と(17)の符号が逆になっていません。\",\"\"))","v":""}]
[null,null,null,null,null,null,null,null,null,null,{"$f":"IF(G604<>\"\",IF(総括表①!$D$10=\"-\",総括表①!$C$10,総括表①!$D$10),\"\")","v":""},null,null,{"$f":"IF(SUM(K605:M605)=0,0,ROUND(K605/SUM(K605:M605),3))","v":0},null,{"$f":"IF(I590>0,ROUND(-G604*N604,0),0)","v":0}]
[null,null,null,null,null,null,null,null,null,null,null,null,null,null,null,null,null,null,null,null,null,null,{"$f":"IF(R604>P604,\"！　(17）が(16)を超えています。\",\"\")","v":""},null,null,null,{"$f":"IF(G604=\"\",\"\",IF(SIGN(G604)=SIGN(R604),\"！(11)と(17)の符号が逆になっていません。\",\"\"))","v":""}]
[null,null,null,null,null,null,null,null,null,null,{"$f":"IF(G606<>\"\",IF(総括表①!$D$10=\"-\",総括表①!$C$10,総括表①!$D$10),\"\")","v":""},null,null,{"$f":"IF(SUM(K607:M607)=0,0,ROUND(K607/SUM(K607:M607),3))","v":0},null,{"$f":"IF(I590>0,ROUND(-G606*N606,0),0)","v":0}]
[null,null,null,null,null,null,null,null,null,null,null,null,null,null,null,null,null,null,null,null,null,null,{"$f":"IF(R606>P606,\"！　(17）が(16)を超えています。\",\"\")","v":""},null,null,null,{"$f":"IF(G606=\"\",\"\",IF(SIGN(G606)=SIGN(R606),\"！(11)と(17)の符号が逆になっていません。\",\"\"))","v":""}]
[null,null,null,null,null,null,null,null,null,null,{"$f":"IF(G608<>\"\",IF(総括表①!$D$10=\"-\",総括表①!$C$10,総括表①!$D$10),\"\")","v":""},null,null,{"$f":"IF(SUM(K609:M609)=0,0,ROUND(K609/SUM(K609:M609),3))","v":0},null,{"$f":"IF(I590>0,ROUND(-G608*N608,0),0)","v":0}]
[null,null,null,null,null,null,null,null,null,null,null,null,null,null,null,null,null,null,null,null,null,null,{"$f":"IF(R608>P608,\"！　(17）が(16)を超えています。\",\"\")","v":""},null,null,null,{"$f":"IF(G608=\"\",\"\",IF(SIGN(G608)=SIGN(R608),\"！(11)と(17)の符号が逆になっていません。\",\"\"))","v":""}]
[1,null,null,null,null,null,"※赤字額を負の値で、黒字額を正の値で入力してください。",null,null,null,null,null,null,null,"合計",{"$f":"SUM(AF210:AF609)","v":0},null,{"$f":"SUM(AG210:AG609)","v":0}]
[1,null,null,null,null,null,null,null,null,null,null,null,null,null,null,"※(11)欄と(16)・(17)欄は符号が逆になるので注意してください。"]
[1,"３　加入団体間で連結実質赤字のあん分方法が取り決められていない地方開発事業団",null,null,null,null,null,null,null,null,null,null,null,null,"（単位：千円）",null,null,null,null,"４　将来負担額",null,"（単位：千円）"]
[1,"地方開発事業団名 (19)",null,null,"事業名 (20)",null,"実質赤字（黒字）額・資金不足（剰余）額 (21)",null,"連結実質赤字額 (22)",null,"事業の委託団体 (23)","負担額 (24)",null,"一般会計等\n負担額 (25)",null,"理　由 (26)",null,null,null,"将来負担額(27)\n(7)+(17)+(25)",null,null,"エラーメッセージ",null,null,null,"エラーメッセージ",null,null,null,null,"(24)の計算用","(25)の計算用"]
[1,1,null,null,null,null,null,null,{"$f":"IF(SUM(G614:H618)>=0,0,-1*SUM(G614:H618))","v":0},null,{"$f":"IF(C614<>\"\",IF(総括表①!$D$10=\"-\",総括表①!$C$10,総括表①!$D$10),\"\")","v":""},null,null,null,null,null,null,null,null,{"$f":"IF(R206+R610+N639<0,\"\",R206+R610+N639)","v":0},null,null,{"$f":"IF(N614>L614,\"！　(25）が(24)を超えています。\",\"\")","v":""},null,null,null,{"$f":"IF(G614=\"\",\"\",IF(SIGN(G614)=SIGN(N614),\"！(21)と(25)の符号が逆になっていません。\",\"\"))","v":""},null,null,null,null,{"$f":"IF(AND(I614>0,SUM(L614:M618)<=0)=TRUE,0,SUM(L614:M618))","v":0},{"$f":"IF(AND(I614>0,SUM(N614:O618)<=0)=TRUE,0,SUM(N614:O618))","v":0}]
[1,null,null,null,null,null,null,null,null,null,null,null,null,null,null,null,null,null,null,"（分母比）",{"$f":"IF(T614=0,\"\",IF(総括表④!$H$18=0,\"-\",ROUND(T614/総括表④!$H$18*100,1)))","v":""},null,{"$f":"IF(N615>L615,\"！　(25）が(24)を超えています。\",\"\")","v":""},null,null,null,""]
[1,null,null,null,null,null,null,null,null,null,null,null,null,null,null,null,null,null,null,null,null,null,"",null,null,null,""]
[null,null,null,null,null,null,null,null,null,null,null,null,null,null,null,null,null,null,null,null,null,null,"",null,null,null,""]
[null,null,null,null,null,null,null,null,null,null,null,null,null,null,null,null,null,null,null,null,null,null,"",null,null,null,""]
[1,2,null,null,null,null,null,null,{"$f":"IF(SUM(G619:H623)>=0,0,-1*SUM(G619:H623))","v":0},null,{"$f":"IF(C619<>\"\",IF(総括表①!$D$10=\"-\",総括表①!$C$10,総括表①!$D$10),\"\")","v":""},null,null,null,null,null,null,null,null,null,null,null,{"$f":"IF(N619>L619,\"！　(25）が(24)を超えています。\",\"\")","v":""},null,null,null,{"$f":"IF(G619=\"\",\"\",IF(SIGN(G619)=SIGN(N619),\"！(21)と(25)の符号が逆になっていません。\",\"\"))","v":""},null,null,null,null,{"$f":"IF(AND(I619>0,SUM(L619:M623)<=0)=TRUE,0,SUM(L619:M623))","v":0},{"$f":"IF(AND(I619>0,SUM(N619:O623)<=0)=TRUE,0,SUM(N619:O623))","v":0}]
[1,null,null,null,null,null,null,null,null,null,null,null,null,null,null,null,null,null,null,null,null,null,"",null,null,null,""]
[1,null,null,null,null,null,null,null,null,null,null,null,null,null,null,null,null,null,null,null,null,null,"",null,null,null,""]
[null,null,null,null,null,null,null,null,null,null,null,null,null,null,null,null,null,null,null,null,null,null,"",null,null,null,""]
[null,null,null,null,null,null,null,null,null,null,null,null,null,null,null,null,null,null,null,null,null,null,"",null,null,null,""]
[null,3,null,null,null,null,null,null,{"$f":"IF(SUM(G624:H628)>=0,0,-1*SUM(G624:H628))","v":0},null,{"$f":"IF(C624<>\"\",IF(総括表①!$D$10=\"-\",総括表①!$C$10,総括表①!$D$10),\"\")","v":""},null,null,null,null,null,null,null,null,null,null,null,"",null,null,null,"",null,null,null,null,{"$f":"IF(AND(I624>0,SUM(L624:M628)<=0)=TRUE,0,SUM(L624:M628))","v":0},{"$f":"IF(AND(I624>0,SUM(N624:O628)<=0)=TRUE,0,SUM(N624:O628))","v":0}]
[null,null,null,null,null,null,null,null,null,null,null,null,null,null,null,null,null,null,null,null,null,null,"",null,null,null,""]
[null,null,null,null,null,null,null,null,null,null,null,null,null,null,null,null,null,null,null,null,null,null,"",null,null,null,""]
[null,null,null,null,null,null,null,null,null,null,null,null,null,null,null,null,null,null,null,null,null,null,"",null,null,null,""]
[null,null,null,null,null,null,null,null,null,null,null,null,null,null,null,null,null,null,null,null,null,null,"",null,null,null,""]
[null,4,null,null,null,null,null,null,{"$f":"IF(SUM(G629:H633)>=0,0,-1*SUM(G629:H633))","v":0},null,{"$f":"IF(C629<>\"\",IF(総括表①!$D$10=\"-\",総括表①!$C$10,総括表①!$D$10),\"\")","v":""},null,null,null,null,null,null,null,null,null,null,null,"",null,null,null,"",null,null,null,null,{"$f":"IF(AND(I629>0,SUM(L629:M633)<=0)=TRUE,0,SUM(L629:M633))","v":0},{"$f":"IF(AND(I629>0,SUM(N629:O633)<=0)=TRUE,0,SUM(N629:O633))","v":0}]
[null,null,null,null,null,null,null,null,null,null,null,null,null,null,null,null,null,null,null,null,null,null,"",null,null,null,""]
[null,null,null,null,null,null,null,null,null,null,null,null,null,null,null,null,null,null,null,null,null,null,"",null,null,null,""]
[null,null,null,null,null,null,null,null,null,null,null,null,null,null,null,null,null,null,null,null,null,null,"",null,null,null,""]
[null,null,null,null,null,null,null,null,null,null,null,null,null,null,null,null,null,null,null,null,null,null,"",null,null,null,""]
[null,5,null,null,null,null,null,null,{"$f":"IF(SUM(G634:H638)>=0,0,-1*SUM(G634:H638))","v":0},null,{"$f":"IF(C634<>\"\",IF(総括表①!$D$10=\"-\",総括表①!$C$10,総括表①!$D$10),\"\")","v":""},null,null,null,null,null,null,null,null,null,null,null,"",null,null,null,"",null,null,null,null,{"$f":"IF(AND(I634>0,SUM(L634:M638)<=0)=TRUE,0,SUM(L634:M638))","v":0},{"$f":"IF(AND(I634>0,SUM(N634:O638)<=0)=TRUE,0,SUM(N634:O638))","v":0}]
[null,null,null,null,null,null,null,null,null,null,null,null,null,null,null,null,null,null,null,null,null,null,"",null,null,null,""]
[null,null,null,null,null,null,null,null,null,null,null,null,null,null,null,null,null,null,null,null,null,null,"",null,null,null,""]
[null,null,null,null,null,null,null,null,null,null,null,null,null,null,null,null,null,null,null,null,null,null,{"$f":"IF(N637>L637,\"！　(25）が(24)を超えています。\",\"\")","v":""},null,null,null,{"$f":"IF(G637=\"\",\"\",IF(SIGN(G637)=SIGN(N637),\"！(21)と(25)の符号が逆になっていません。\",\"\"))","v":""}]
[null,null,null,null,null,null,null,null,null,null,null,null,null,null,null,null,null,null,null,null,null,null,{"$f":"IF(N638>L638,\"！　(25）が(24)を超えています。\",\"\")","v":""},null,null,null,{"$f":"IF(G638=\"\",\"\",IF(SIGN(G638)=SIGN(N638),\"！(21)と(25)の符号が逆になっていません。\",\"\"))","v":""}]
[1,null,null,null,null,null,"※赤字額を負の値で、黒字額を正の値で入力してください。",null,null,null,"合計",{"$f":"SUM(AF614:AF638)","v":0},null,{"$f":"SUM(AG614:AG638)","v":0}]
[1,null,null,null,null,null,null,null,null,null,null,"※(21)欄と(24)・(25)欄は符号が逆になるので注意してください。"]

{"sheet":"４⑧","index":23,"n_rows":98,"n_cols":14,"rows_kept":98,"cut":false,"hidden":false,"merged":[[45,1,45,2],[40,1,40,2],[41,1,41,2],[42,1,42,2],[43,1,43,2],[44,1,44,2],[23,1,23,2],[24,1,24,2],[25,1,25,2],[30,1,30,2],[31,1,31,2],[32,1,32,2],[27,1,27,2],[28,1,28,2],[29,1,29,2],[58,1,58,2],[59,1,59,2],[60,1,60,2],[61,1,61,2],[62,1,62,2],[18,1,18,2],[19,1,19,2],[20,1,20,2],[21,1,21,2],[22,1,22,2],[52,1,52,2],[53,1,53,2],[54,1,54,2],[55,1,55,2],[56,1,56,2],[57,1,57,2],[49,1,49,2],[50,1,50,2],[51,1,51,2],[33,1,33,2],[34,1,34,2],[35,1,35,2],[36,1,36,2],[37,1,37,2],[38,1,38,2],[39,1,39,2],[1,11,1,12],[64,1,64,2],[65,1,65,2],[4,8,5,8],[4,11,5,11],[15,1,15,2],[16,1,16,2],[17,1,17,2],[46,1,46,2],[47,1,47,2],[97,1,97,2],[80,1,80,2],[81,1,90,1],[4,6,5,6],[73,1,73,2],[66,1,66,2],[67,1,67,2],[75,1,75,2],[48,1,48,2],[26,1,26,2],[12,1,12,2],[13,1,13,2],[14,1,14,2],[78,5,97,5],[78,7,97,7],[72,1,72,2],[70,1,70,2],[68,1,68,2],[69,1,69,2],[71,1,71,2],[91,1,96,1],[76,1,76,2],[77,1,77,2],[78,1,78,2],[79,1,79,2],[74,1,74,2],[4,4,5,4],[4,3,5,3],[63,1,63,2],[6,1,6,2],[4,1,5,2],[7,1,7,2],[8,1,8,2],[9,1,9,2],[10,1,10,2],[11,1,11,2]]}
[]
[1,null,null,null,null,null,null,null,null,null,"団体名",{"$f":"IF(総括表①!$D$10=\"-\",総括表①!$C$10,総括表①!$C$10&総括表①!$D$10)","v":""}]
[1,null,null,null,null,{"$f":"総括表①!E3","v":"Ver.05.00"}]
[1,null,null,null,null,null,null,null,null,null,null,"（単位：千円）"]
[1,"基　金　名",null,"基 金 計 (1)\n(2)+(4)+(6)","現金・預金(2)",null,"国債・地方債\n・政府保証債等 (4)",null,"その他 (6)",null,null,"充当可能基金(9)\n(2)-(3)+(4)-(5)"]
[1,null,null,null,null,"うち要返還額 (3)",null,"うち要返還額 (5)",null,"うち貸付金 (7)","うち不動産 (8)",null,"（構成比）","エラーメッセージ"]
[1,"財政調整基金",null,{"$f":"E7+G7+I7","v":0},null,null,null,null,null,null,null,{"$f":"E7-F7+G7-H7","v":0},{"$f":"IF(OR(L7=0,$L$78=0)=TRUE,\"\",ROUND(L7/$L$78*100,1))","v":""},{"$f":"IF(OR(F7>E7,H7>G7,SUM(J7:K7)>I7)=TRUE,\"！内訳が総額を超えています。\",\"\")","v":""}]
[1,"減債基金",null,0,null,null,null,null,null,null,null,0,{"$f":"IF(OR(L8=0,$L$78=0)=TRUE,\"\",ROUND(L8/$L$78*100,1))","v":""},""]
[1,null,null,0,null,null,null,null,null,null,null,0,"",""]
[1,null,null,0,null,null,null,null,null,null,null,0,"",""]
[1,null,null,0,null,null,null,null,null,null,null,0,"",""]
[1,null,null,0,null,null,null,null,null,null,null,0,"",""]
[1,null,null,0,null,null,null,null,null,null,null,0,"",""]
[1,null,null,0,null,null,null,null,null,null,null,0,"",""]
[1,null,null,0,null,null,null,null,null,null,null,0,"",""]
[1,null,null,0,null,null,null,null,null,null,null,0,"",""]
[1,null,null,0,null,null,null,null,null,null,null,0,"",""]
[1,null,null,0,null,null,null,null,null,null,null,0,"",""]
[1,null,null,{"$f":"E19+G19+I19","v":0},null,null,null,null,null,null,null,{"$f":"E19-F19+G19-H19","v":0},"",{"$f":"IF(OR(F19>E19,H19>G19,SUM(J19:K19)>I19)=TRUE,\"！内訳が総額を超えています。\",\"\")","v":""}]
[1,null,null,0,null,null,null,null,null,null,null,0,"",""]
[1,null,null,0,null,null,null,null,null,null,null,0,"",""]
[1,null,null,0,null,null,null,null,null,null,null,0,"",""]
[1,null,null,0,null,null,null,null,null,null,null,0,"",""]
[1,null,null,0,null,null,null,null,null,null,null,0,"",""]
[1,null,null,0,null,null,null,null,null,null,null,0,{"$f":"IF(OR(L25=0,$L$78=0)=TRUE,\"\",ROUND(L25/$L$78*100,1))","v":""},""]
[1,null,null,0,null,null,null,null,null,null,null,0,{"$f":"IF(OR(L26=0,$L$78=0)=TRUE,\"\",ROUND(L26/$L$78*100,1))","v":""},""]
[1,null,null,0,null,null,null,null,null,null,null,0,"",""]
[1,null,null,0,null,null,null,null,null,null,null,0,"",""]
[1,null,null,0,null,null,null,null,null,null,null,0,"",""]
[1,null,null,0,null,null,null,null,null,null,null,0,"",""]
[1,null,null,0,null,null,null,null,null,null,null,0,"",""]
[1,null,null,0,null,null,null,null,null,null,null,0,"",""]
[1,null,null,0,null,null,null,null,null,null,null,0,"",""]
[1,null,null,0,null,null,null,null,null,null,null,0,"",""]
[1,null,null,0,null,null,null,null,null,null,null,0,"",""]
[1,null,null,0,null,null,null,null,null,null,null,0,"",""]
[1,null,null,0,null,null,null,null,null,null,null,0,"",""]
[1,null,null,0,null,null,null,null,null,null,null,0,"",""]
[1,null,null,0,null,null,null,null,null,null,null,0,"",""]
[1,null,null,0,null,null,null,null,null,null,null,0,"",""]
[1,null,null,{"$f":"E41+G41+I41","v":0},null,null,null,null,null,null,null,{"$f":"E41-F41+G41-H41","v":0},{"$f":"IF(OR(L41=0,$L$78=0)=TRUE,\"\",ROUND(L41/$L$78*100,1))","v":""},{"$f":"IF(OR(F41>E41,H41>G41,SUM(J41:K41)>I41)=TRUE,\"！内訳が総額を超えています。\",\"\")","v":""}]
[1,null,null,{"$f":"E42+G42+I42","v":0},null,null,null,null,null,null,null,{"$f":"E42-F42+G42-H42","v":0},{"$f":"IF(OR(L42=0,$L$78=0)=TRUE,\"\",ROUND(L42/$L$78*100,1))","v":""},{"$f":"IF(OR(F42>E42,H42>G42,SUM(J42:K42)>I42)=TRUE,\"！内訳が総額を超えています。\",\"\")","v":""}]
[1,null,null,{"$f":"E43+G43+I43","v":0},null,null,null,null,null,null,null,{"$f":"E43-F43+G43-H43","v":0},{"$f":"IF(OR(L43=0,$L$78=0)=TRUE,\"\",ROUND(L43/$L$78*100,1))","v":""},{"$f":"IF(OR(F43>E43,H43>G43,SUM(J43:K43)>I43)=TRUE,\"！内訳が総額を超えています。\",\"\")","v":""}]
[1,null,null,{"$f":"E44+G44+I44","v":0},null,null,null,null,null,null,null,{"$f":"E44-F44+G44-H44","v":0},{"$f":"IF(OR(L44=0,$L$78=0)=TRUE,\"\",ROUND(L44/$L$78*100,1))","v":""},{"$f":"IF(OR(F44>E44,H44>G44,SUM(J44:K44)>I44)=TRUE,\"！内訳が総額を超えています。\",\"\")","v":""}]
[1,null,null,{"$f":"E45+G45+I45","v":0},null,null,null,null,null,null,null,{"$f":"E45-F45+G45-H45","v":0},{"$f":"IF(OR(L45=0,$L$78=0)=TRUE,\"\",ROUND(L45/$L$78*100,1))","v":""},{"$f":"IF(OR(F45>E45,H45>G45,SUM(J45:K45)>I45)=TRUE,\"！内訳が総額を超えています。\",\"\")","v":""}]
[1,null,null,0,null,null,null,null,null,null,null,0,"",""]
[1,null,null,{"$f":"E47+G47+I47","v":0},null,null,null,null,null,null,null,{"$f":"E47-F47+G47-H47","v":0},"",{"$f":"IF(OR(F47>E47,H47>G47,SUM(J47:K47)>I47)=TRUE,\"！内訳が総額を超えています。\",\"\")","v":""}]
[1,null,null,0,null,null,null,null,null,null,null,0,"",""]
[1,null,null,0,null,null,null,null,null,null,null,0,"",""]
[1,null,null,0,null,null,null,null,null,null,null,0,"",""]
[1,null,null,0,null,null,null,null,null,null,null,0,"",""]
[null,null,null,0,null,null,null,null,null,null,null,0,"",""]
[null,null,null,0,null,null,null,null,null,null,null,0,"",""]
[null,null,null,0,null,null,null,null,null,null,null,0,"",""]
[null,null,null,0,null,null,null,null,null,null,null,0,"",""]
[null,null,null,0,null,null,null,null,null,null,null,0,"",""]
[null,null,null,0,null,null,null,null,null,null,null,0,"",""]
[null,null,null,0,null,null,null,null,null,null,null,0,"",""]
[null,null,null,0,null,null,null,null,null,null,null,0,"",""]
[null,null,null,0,null,null,null,null,null,null,null,0,"",""]
[null,null,null,0,null,null,null,null,null,null,null,0,"",""]
[null,null,null,0,null,null,null,null,null,null,null,0,"",""]
[null,null,null,0,null,null,null,null,null,null,null,0,"",""]
[null,null,null,{"$f":"E64+G64+I64","v":0},null,null,null,null,null,null,null,{"$f":"E64-F64+G64-H64","v":0},"",{"$f":"IF(OR(F64>E64,H64>G64,SUM(J64:K64)>I64)=TRUE,\"！内訳が総額を超えています。\",\"\")","v":""}]
[null,null,null,0,null,null,null,null,null,null,null,0,"",""]
[null,null,null,0,null,null,null,null,null,null,null,0,"",""]
[null,null,null,0,null,null,null,null,null,null,null,0,"",""]
[null,null,null,0,null,null,null,null,null,null,null,0,"",""]
[null,null,null,0,null,null,null,null,null,null,null,0,"",""]
[null,null,null,0,null,null,null,null,null,null,null,0,"",""]
[null,null,null,0,null,null,null,null,null,null,null,0,"",""]
[null,null,null,0,null,null,null,null,null,null,null,0,"",""]
[null,null,null,0,null,null,null,null,null,null,null,0,"",""]
[null,null,null,0,null,null,null,null,null,null,null,0,"",""]
[null,null,null,0,null,null,null,null,null,null,null,0,"",""]
[null,null,null,0,null,null,null,null,null,null,null,0,"",""]
[null,null,null,0,null,null,null,null,null,null,null,0,{"$f":"IF(OR(L77=0,$L$78=0)=TRUE,\"\",ROUND(L77/$L$78*100,1))","v":""},""]
[1,"小　計",null,0,{"$f":"SUM(E7:E77)","v":0},0,0,0,0,0,0,{"$f":"SUM(L7:L77)","v":0},{"$f":"IF(OR(L78=0,$L$78=0)=TRUE,\"\",ROUND(L78/$L$78*100,1))","v":""},""]
[1,"災害救助基金",null,0,null,null,null,null,null,null,null,{"$f":"IF(L78=0,\"\",IF(総括表④!$H$18=0,\"-\",ROUND(L78/総括表④!$H$18*100,1)))","v":""},"（分母比）",""]
[1,"財政安定化基金（後期高齢者医療制度）",null,0,null,null,null,null,null,null,null,null,null,""]
[1,"財政安定化基金（介護保険制度）",null,0,null,null,null,null,null,null,null,null,null,""]
[1,"公営企業に設けられた基金",null,0,null,null,null,null,null,null,null,null,null,""]
[1,null,null,0,null,null,null,null,null,null,null,null,null,""]
[1,null,null,0,null,null,null,null,null,null,null,null,null,""]
[1,null,null,0,null,null,null,null,null,null,null,null,null,""]
[1,null,null,0,null,null,null,null,null,null,null,null,null,""]
[1,null,null,0,null,null,null,null,null,null,null,null,null,""]
[1,null,null,0,null,null,null,null,null,null,null,null,null,""]
[1,null,null,0,null,null,null,null,null,null,null,null,null,""]
[1,null,null,0,null,null,null,null,null,null,null,null,null,""]
[1,null,null,0,null,null,null,null,null,null,null,null,null,""]
[1,"充当可能基金から\n除かれるべき基金",null,0,null,null,null,null,null,null,null,null,null,""]
[1,null,null,0,null,null,null,null,null,null,null,null,null,""]
[1,null,null,0,null,null,null,null,null,null,null,null,null,""]
[1,null,null,0,null,null,null,null,null,null,null,null,null,""]
[1,null,null,0,null,null,null,null,null,null,null,null,null,""]
[1,null,null,0,null,null,null,null,null,null,null,null,null,""]
[1,"合　計",null,0,{"$f":"SUM(E78:E97)","v":0},null,{"$f":"SUM(G78:G97)","v":0},null,{"$f":"SUM(I78:I97)","v":0},{"$f":"SUM(J78:J97)","v":0},{"$f":"SUM(K78:K97)","v":0},null,null,""]

{"sheet":"４⑨Ａ","index":24,"n_rows":53,"n_cols":21,"rows_kept":53,"cut":false,"hidden":false,"merged":[[24,1,24,5],[24,6,24,8],[24,12,24,16],[25,1,25,5],[25,6,25,8],[25,12,25,16],[21,12,21,16],[22,1,22,5],[22,6,22,8],[22,12,22,16],[23,1,23,5],[23,6,23,8],[23,12,23,16],[0,15,0,16],[26,1,26,5],[26,6,26,8],[26,12,26,16],[4,15,5,15],[4,16,5,16],[19,12,19,16],[20,1,20,5],[20,6,20,8],[20,12,20,16],[4,0,5,0],[4,1,5,1],[4,2,5,2],[4,3,5,3],[27,1,27,5],[4,14,5,14],[19,1,19,5],[19,6,19,8],[21,1,21,5],[21,6,21,8],[30,6,30,8],[27,12,27,16],[28,1,28,5],[28,6,28,8],[28,12,28,16],[29,12,29,16],[27,6,27,8],[30,12,30,16],[29,1,29,5],[29,6,29,8],[35,14,36,14],[35,15,36,15],[31,1,31,5],[31,12,31,16],[35,0,36,2],[35,3,36,3],[35,4,36,4],[31,6,31,8],[30,1,30,5],[45,0,45,2],[37,0,37,2],[38,0,38,2],[39,0,39,2],[40,0,40,2],[41,0,41,2],[42,0,42,2],[43,0,43,2],[44,0,44,2]]}
[null,null,null,null,null,null,null,null,null,null,null,null,null,null,"団体名",{"$f":"IF(総括表①!$D$10=\"-\",総括表①!$C$10,総括表①!$C$10&総括表①!$D$10)","v":""}]
[null,null,null,null,null,null,null,{"$f":"総括表①!E3","v":"Ver.05.00"}]
[]
["１　国庫支出金等",null,null,null,null,null,null,null,null,null,null,null,null,null,null,null,"（単位：千円）"]
["国庫支出金等の名称 (1)","種類","地方債の\n現在高等(2)","充当が確実\nである額 (3)",null,null,{"$f":"'４⑥Ａ'!F9","v":"3年度"},null,null,{"$f":"'４⑥Ａ'!G9","v":"4年度"},null,null,{"$f":"'４⑥Ａ'!H9","v":"5年度"},null,"平均\n充当率(4)","充当見込\n上限額(5)","充当\n見込額(6)"]
[null,null,null,null,null,"充当実績額","元金償還金等","充当率","充当実績額","元金償還金等","充当率","充当実績額","元金償還金等","充当率",null,null,null,"エラーチェック",null,null,"エラーチェック"]
[null,null,null,null,null,null,null,{"$f":"IF(SUM(F7:G7)=0,\"-\",IF(F7>G7,\"ERROR\",F7/G7))","v":"-"},null,null,{"$f":"IF(SUM(I7:J7)=0,\"-\",IF(I7>J7,\"ERROR\",I7/J7))","v":"-"},null,null,{"$f":"IF(SUM(L7:M7)=0,\"-\",IF(L7>M7,\"ERROR\",L7/M7))","v":"-"},{"$f":"IF(SUM(H7,K7,N7)=0,\"-\",ROUND(SUM(H7,K7,N7)/(3-COUNTIF(H7:N7,\"-\")),3))","v":"-"},{"$f":"IF(O7=\"-\",0,ROUND(C7*O7,0))","v":0},null,{"$f":"IF(Q7>P7,\"！充当見込額が上限額を超えています。\",\"\")","v":""},null,null,{"$f":"IF(AND(D7>0,Q7>0)=TRUE,\"！(3)と(6)の両方に数値が入ることはありません。\",\"\")","v":""}]
[null,null,null,null,null,null,null,{"$f":"IF(SUM(F8:G8)=0,\"-\",IF(F8>G8,\"ERROR\",F8/G8))","v":"-"},null,null,"-",null,null,"-",{"$f":"IF(SUM(H8,K8,N8)=0,\"-\",ROUND(SUM(H8,K8,N8)/(3-COUNTIF(H8:N8,\"-\")),3))","v":"-"},{"$f":"IF(O8=\"-\",0,ROUND(C8*O8,0))","v":0},null,{"$f":"IF(Q8>P8,\"！充当見込額が上限額を超えています。\",\"\")","v":""},null,null,{"$f":"IF(AND(D8>0,Q8>0)=TRUE,\"！(3)と(6)の両方に数値が入ることはありません。\",\"\")","v":""}]
[null,null,null,null,null,null,null,"-",null,null,"-",null,null,"-","-",0,null,"",null,null,""]
[null,null,null,null,null,null,null,"-",null,null,"-",null,null,"-","-",0,null,{"$f":"IF(Q10>P10,\"！充当見込額が上限額を超えています。\",\"\")","v":""},null,null,""]
[null,null,null,null,null,null,null,"-",null,null,"-",null,null,"-","-",0,null,{"$f":"IF(Q11>P11,\"！充当見込額が上限額を超えています。\",\"\")","v":""},null,null,""]
[null,null,null,null,null,null,null,"-",null,null,"-",null,null,"-","-",0,null,"",null,null,""]
[null,null,null,null,null,null,null,{"$f":"IF(SUM(F13:G13)=0,\"-\",IF(F13>G13,\"ERROR\",F13/G13))","v":"-"},null,null,"-",null,null,"-","-",0,null,"",null,null,""]
[null,null,null,null,null,null,null,"-",null,null,"-",null,null,"-","-",0,null,{"$f":"IF(Q14>P14,\"！充当見込額が上限額を超えています。\",\"\")","v":""},null,null,""]
[null,null,null,null,null,null,null,"-",null,null,"-",null,null,"-","-",0,null,"",null,null,""]
[null,null,null,null,null,null,null,"-",null,null,"-",null,null,"-","-",0,null,"",null,null,""]
[null,null,"合　計",{"$f":"SUM(D7:D16)","v":0},null,null,null,null,null,null,null,null,null,null,null,"合　計",{"$f":"SUM(Q7:Q16)","v":0}]
[]
["２　地方債を財源とする貸付金の償還金",null,null,null,null,null,null,null,null,null,null,"（単位：千円）"]
["貸付金の償還金の名称 (1)","貸付金を支出した会計の名称 (2)",null,null,null,null,"貸付金の財源とした地方債の名称 (3)",null,null,"地方債の現在高(4)","貸付残高(5)","償還見込額(6)","償還見込額が貸付残高を下回る理由(7)",null,null,null,null,"エラーチェック"]
[null,null,null,null,null,null,null,null,null,null,null,null,null,null,null,null,null,{"$f":"IF(OR(L21>J21,L21>K21)=TRUE,\"！償還見込額が地方債の現在高又は貸付残高を超えています。\",\"\")","v":""}]
[null,null,null,null,null,null,null,null,null,null,null,null,null,null,null,null,null,""]
[null,null,null,null,null,null,null,null,null,null,null,null,null,null,null,null,null,""]
[null,null,null,null,null,null,null,null,null,null,null,null,null,null,null,null,null,""]
[null,null,null,null,null,null,null,null,null,null,null,null,null,null,null,null,null,""]
[null,null,null,null,null,null,null,null,null,null,null,null,null,null,null,null,null,""]
[null,null,null,null,null,null,null,null,null,null,null,null,null,null,null,null,null,{"$f":"IF(OR(L27>J27,L27>K27)=TRUE,\"！償還見込額が地方債の現在高又は貸付残高を超えています。\",\"\")","v":""}]
[null,null,null,null,null,null,null,null,null,null,null,null,null,null,null,null,null,""]
[null,null,null,null,null,null,null,null,null,null,null,null,null,null,null,null,null,""]
[null,null,null,null,null,null,null,null,null,null,null,null,null,null,null,null,null,""]
[null,null,null,null,null,null,null,null,null,null,null,null,null,null,null,null,null,""]
[null,null,null,null,null,null,null,null,null,null,null,null,null,null,null,null,null,""]
[null,null,null,null,null,null,null,null,null,"合　計",{"$f":"SUM(K21:K32)","v":0},{"$f":"SUM(L21:L32)","v":0}]
[]
["３　公営住宅の賃貸料等",null,null,null,null,null,null,null,null,null,null,null,null,null,null,"（単位：千円）"]
["賃貸料・使用料の名称 (1)",null,null,"地方債の\n現在高等(2)","種類",null,{"$f":"G5","v":"3年度"},null,null,{"$f":"J5","v":"4年度"},null,null,{"$f":"M5","v":"5年度"},null,"平均\n充当率(3)","充当\n見込額(4)"]
[null,null,null,null,null,"充当実績額","元金償還金等","充当率","充当実績額","元金償還金等","充当率","充当実績額","元金償還金等","充当率"]
[null,null,null,null,null,null,null,{"$f":"IF(SUM(F38:G38)=0,\"-\",IF(F38>G38,\"ERROR\",F38/G38))","v":"-"},null,null,{"$f":"IF(SUM(I38:J38)=0,\"-\",IF(I38>J38,\"ERROR\",I38/J38))","v":"-"},null,null,{"$f":"IF(SUM(L38:M38)=0,\"-\",IF(L38>M38,\"ERROR\",L38/M38))","v":"-"},{"$f":"IF(SUM(H38,K38,N38)=0,\"-\",ROUND(SUM(H38,K38,N38)/(3-COUNTIF(H38:N38,\"-\")),3))","v":"-"},{"$f":"IF(O38=\"-\",0,ROUND(D38*O38,0))","v":0}]
[null,null,null,null,null,null,null,"-",null,null,"-",null,null,"-",{"$f":"IF(SUM(H39,K39,N39)=0,\"-\",ROUND(SUM(H39,K39,N39)/(3-COUNTIF(H39:N39,\"-\")),3))","v":"-"},{"$f":"IF(O39=\"-\",0,ROUND(D39*O39,0))","v":0}]
[null,null,null,null,null,null,null,"-",null,null,"-",null,null,"-","-",0]
[null,null,null,null,null,null,null,"-",null,null,"-",null,null,"-","-",0]
[null,null,null,null,null,null,null,"-",null,null,"-",null,null,"-","-",0]
[null,null,null,null,null,null,null,"-",null,null,"-",null,null,"-","-",0]
[null,null,null,null,null,null,null,"-",null,null,"-",null,null,"-","-",0]
[null,null,null,null,null,null,null,"-",null,null,"-",null,null,"-","-",0]
[null,null,null,null,null,null,null,"-",null,null,"-",null,null,"-","-",0]
[null,null,null,null,null,null,null,null,null,null,null,null,null,null,"合　計",{"$f":"SUM(P38:P46)","v":0}]
[]
[null,null,"（参考）　地方債の現在高等",null,null,null,null,null,null,null,null,"（参考）　地方債の元金償還金等"]
[null,null,"イ　一般会計等に係る地方債の現在高",null,null,null,null,null,null,null,null,"イ　一般会計等に係る地方債の元金償還額"]
[null,null,"ロ　債務負担行為に基づく一般会計等の支出予定額",null,null,null,null,null,null,null,null,"ロ　債務負担行為に基づく一般会計等の支出額"]
[null,null,"ハ　一般会計等以外の特別会計に係る地方債の元金償還額に対する一般会計等からの\n繰入れ見込額",null,null,null,null,null,null,null,null,"ハ　一般会計等以外の特別会計に係る地方債の元金償還額に対する一般会計等からの繰入額"]
[null,null,"ニ　組合が起こした地方債の元金償還額に対する一般会計等の負担等見込額",null,null,null,null,null,null,null,null,"ニ　組合が起こした地方債の元金償還額に対する一般会計等の負担額又は補助額"]

{"sheet":"４⑨Ｂ","index":25,"n_rows":23,"n_cols":13,"rows_kept":23,"cut":false,"hidden":false,"merged":[[7,12,14,12],[4,10,6,10],[4,11,6,11],[8,10,10,10],[8,11,10,11],[9,7,10,7],[9,8,10,8],[7,9,14,9],[12,10,14,10],[12,11,14,11],[5,0,6,0],[5,1,6,1],[5,2,6,2],[5,7,6,7],[5,8,6,8],[0,11,0,12],[0,9,0,10],[13,0,14,0],[13,1,14,1],[13,2,14,2],[13,7,14,7],[13,8,14,8],[9,0,10,0],[9,1,10,1],[9,2,10,2]]}
[null,null,null,null,null,null,null,null,null,"団体名",null,{"$f":"IF(総括表①!$D$10=\"-\",総括表①!$C$10,総括表①!$C$10&総括表①!$D$10)","v":""}]
[null,null,null,null,null,{"$f":"総括表①!E3","v":"Ver.05.00"}]
[]
["４　都市計画税収",null,null,null,null,null,null,null,null,null,null,null,"（単位：千円）"]
[{"$f":"'４⑨Ａ'!G5","v":"3年度"},null,null,null,null,null,null,null,null,null,"種類","都市計画事業に係る\n地方債の現在高等(8)"]
["都市計画税収\n(1)","都市計画事業費\n(2)","特定財源\n(3)","都市計画事業に係る地方債の元金償還金等 (4)",null,null,null,"合 計 (5)","充当率 (6)","平均充当率(7)",null,null,"充当見込額(9)"]
[null,null,null,"イ","ロ","ハ","ニ"]
[null,null,null,null,null,null,null,{"$f":"(B8-C8)+SUM(D8:G8)","v":0},{"$f":"IF(H8=0,\"-\",IF(A8/H8>1,1,A8/H8))","v":"-"},null,"イ"]
[{"$f":"'４⑨Ａ'!J5","v":"4年度"},null,null,null,null,null,null,null,null,null,"ロ"]
["都市計画税収\n(1)","都市計画事業費\n(2)","特定財源\n(3)","都市計画事業に係る地方債の元金償還金等 (4)",null,null,null,"合 計 (5)","充当率 (6)"]
[null,null,null,"イ","ロ","ハ","ニ"]
[null,null,null,null,null,null,null,{"$f":"(B12-C12)+SUM(D12:G12)","v":0},{"$f":"IF(H12=0,\"-\",IF(A12/H12>1,1,A12/H12))","v":"-"},null,"ハ"]
[{"$f":"'４⑨Ａ'!M5","v":"5年度"},null,null,null,null,null,null,null,null,null,"ニ"]
["都市計画税収\n(1)","都市計画事業費\n(2)","特定財源\n(3)","都市計画事業に係る地方債の元金償還金等 (4)",null,null,null,"合 計 (5)","充当率 (6)"]
[null,null,null,"イ","ロ","ハ","ニ"]
[null,null,null,null,null,null,null,{"$f":"(B16-C16)+SUM(D16:G16)","v":0},{"$f":"IF(H16=0,\"-\",IF(A16/H16>1,1,A16/H16))","v":"-"},{"$f":"IF(SUM(I8,I12,I16)=0,\"-\",ROUND(SUM(I8,I12,I16)/(3-COUNTIF(H8:H16,0)),3))","v":"-"},"合計",{"$f":"SUM(L8:L15)","v":0},{"$f":"IF(J16=\"-\",0,ROUND(L16*J16,0))","v":0}]
[null,null,null,null,null,null,null,null,null,null,null,"（分母比）",{"$f":"IF(M16=0,\"\",IF(総括表④!$H$18=0,\"-\",ROUND(M16/総括表④!$H$18*100,1)))","v":""}]
[]
[null,"（参考）　地方債の現在高等",null,null,null,null,null,null,"（参考）　地方債の元金償還金等"]
[null,"イ　一般会計等に係る地方債の現在高",null,null,null,null,null,null,"イ　一般会計等に係る地方債の元金償還額"]
[null,"ロ　債務負担行為に基づく一般会計等の支出予定額",null,null,null,null,null,null,"ロ　債務負担行為に基づく一般会計等の支出額"]
[null,"ハ　一般会計等以外の特別会計に係る地方債の元金償還額に対する一般会計等からの\n繰入れ見込額",null,null,null,null,null,null,"ハ　一般会計等以外の特別会計に係る地方債の元金償還額に対する一般会計等からの繰入額"]
[null,"ニ　組合が起こした地方債の元金償還額に対する一般会計等の負担等見込額",null,null,null,null,null,null,"ニ　組合が起こした地方債の元金償還額に対する一般会計等の負担額又は補助額"]

{"sheet":"４⑨Ｃ","index":26,"n_rows":44,"n_cols":22,"rows_kept":44,"cut":false,"hidden":false,"merged":[[30,10,30,11],[30,12,30,13],[30,14,30,15],[31,14,31,15],[31,10,31,11],[31,6,31,7],[30,6,30,7],[31,12,31,13],[21,1,22,1],[21,2,22,2],[21,3,22,3],[24,0,25,0],[10,14,11,14],[25,5,25,15],[12,2,13,2],[12,3,13,3],[18,0,19,0],[18,1,19,1],[30,16,30,17],[13,5,13,15],[16,5,16,15],[19,5,19,15],[22,5,22,15],[21,0,22,0],[12,0,13,0],[12,1,13,1],[24,1,25,1],[24,2,25,2],[0,14,0,15],[5,0,5,2],[6,0,6,2],[10,13,11,13],[10,15,11,15],[15,2,16,2],[15,3,16,3],[31,2,31,3],[30,2,30,3],[18,3,19,3],[31,4,31,5],[18,2,19,2],[24,3,25,3],[31,16,31,17],[10,0,11,0],[10,1,11,1],[10,2,11,2],[10,3,11,3],[15,0,16,0],[15,1,16,1],[30,4,30,5],[30,8,30,9],[31,8,31,9]]}
[null,null,null,null,null,null,null,null,null,null,null,null,null,"団体名",{"$f":"IF(総括表①!$D$10=\"-\",総括表①!$C$10,総括表①!$C$10&総括表①!$D$10)","v":""}]
[null,null,null,null,null,null,{"$f":"総括表①!E3","v":"Ver.05.00"}]
[]
[]
[]
[]
[]
[]
[]
["6　その他将来負担額に充当可能な特定の歳入",null,null,null,null,null,null,null,null,null,null,null,null,null,null,"（単位：千円）"]
["その他特定の歳入の名称 (1)","種類","地方債の\n現在高等(2)","充当が確実\nである額 (3)",null,{"$f":"'４⑨Ｂ'!A5","v":"3年度"},null,null,{"$f":"'４⑨Ｂ'!A9","v":"4年度"},null,null,{"$f":"'４⑨Ｂ'!A13","v":"5年度"},null,"平均\n充当率(4)","充当見込\n上限額(5)","充当\n見込額(6)"]
[null,null,null,null,"充当実績額","元金償還金等","充当率","充当実績額","元金償還金等","充当率","充当実績額","元金償還金等","充当率",null,null,null,null,null,"エラーチェック",null,null,"エラーチェック"]
[null,null,null,null,null,null,{"$f":"IF(SUM(E13:F13)=0,\"-\",IF(E13>F13,\"ERROR\",E13/F13))","v":"-"},null,null,{"$f":"IF(SUM(H13:I13)=0,\"-\",IF(H13>I13,\"ERROR\",H13/I13))","v":"-"},null,null,{"$f":"IF(SUM(K13:L13)=0,\"-\",IF(K13>L13,\"ERROR\",K13/L13))","v":"-"},{"$f":"IF(SUM(G13,J13,M13)=0,\"-\",ROUND(SUM(G13,J13,M13)/(3-COUNTIF(G13:M13,\"-\")),3))","v":"-"},{"$f":"IF(N13=\"-\",0,ROUND(C13*N13,0))","v":0},null,null,null,{"$f":"IF(P13>O13,\"！充当見込額が上限額を超えています。\",\"\")","v":""},null,null,{"$f":"IF(AND(D13>0,P13>0)=TRUE,\"！(3)と(6)の両方に数値が入ることはありません。\",\"\")","v":""}]
[null,null,null,null,"特定歳入の概要",null,null,null,null,null,null,null,null,null,null,null,null,null,{"$f":"IF(P14>O14,\"！充当見込額が上限額を超えています。\",\"\")","v":""}]
[]
[null,null,null,null,null,null,{"$f":"IF(SUM(E16:F16)=0,\"-\",IF(E16>F16,\"ERROR\",E16/F16))","v":"-"},null,null,{"$f":"IF(SUM(H16:I16)=0,\"-\",IF(H16>I16,\"ERROR\",H16/I16))","v":"-"},null,null,{"$f":"IF(SUM(K16:L16)=0,\"-\",IF(K16>L16,\"ERROR\",K16/L16))","v":"-"},{"$f":"IF(SUM(G16,J16,M16)=0,\"-\",ROUND(SUM(G16,J16,M16)/(3-COUNTIF(G16:M16,\"-\")),3))","v":"-"},{"$f":"IF(N16=\"-\",0,ROUND(C16*N16,0))","v":0},null,null,null,"",null,null,{"$f":"IF(AND(D16>0,P16>0)=TRUE,\"！(3)と(6)の両方に数値が入ることはありません。\",\"\")","v":""}]
[null,null,null,null,"特定歳入の概要",null,null,null,null,null,null,null,null,null,null,null,null,null,{"$f":"IF(P17>O17,\"！充当見込額が上限額を超えています。\",\"\")","v":""}]
[]
[null,null,null,null,null,null,{"$f":"IF(SUM(E19:F19)=0,\"-\",IF(E19>F19,\"ERROR\",E19/F19))","v":"-"},null,null,{"$f":"IF(SUM(H19:I19)=0,\"-\",IF(H19>I19,\"ERROR\",H19/I19))","v":"-"},null,null,{"$f":"IF(SUM(K19:L19)=0,\"-\",IF(K19>L19,\"ERROR\",K19/L19))","v":"-"},{"$f":"IF(SUM(G19,J19,M19)=0,\"-\",ROUND(SUM(G19,J19,M19)/(3-COUNTIF(G19:M19,\"-\")),3))","v":"-"},{"$f":"IF(N19=\"-\",0,ROUND(C19*N19,0))","v":0},null,null,null,{"$f":"IF(P19>O19,\"！充当見込額が上限額を超えています。\",\"\")","v":""},null,null,{"$f":"IF(AND(D19>0,P19>0)=TRUE,\"！(3)と(6)の両方に数値が入ることはありません。\",\"\")","v":""}]
[null,null,null,null,"特定歳入の概要",null,null,null,null,null,null,null,null,null,null,null,null,null,""]
[]
[null,null,null,null,null,null,{"$f":"IF(SUM(E22:F22)=0,\"-\",IF(E22>F22,\"ERROR\",E22/F22))","v":"-"},null,null,{"$f":"IF(SUM(H22:I22)=0,\"-\",IF(H22>I22,\"ERROR\",H22/I22))","v":"-"},null,null,{"$f":"IF(SUM(K22:L22)=0,\"-\",IF(K22>L22,\"ERROR\",K22/L22))","v":"-"},{"$f":"IF(SUM(G22,J22,M22)=0,\"-\",ROUND(SUM(G22,J22,M22)/(3-COUNTIF(G22:M22,\"-\")),3))","v":"-"},{"$f":"IF(N22=\"-\",0,ROUND(C22*N22,0))","v":0},null,null,null,"",null,null,{"$f":"IF(AND(D22>0,P22>0)=TRUE,\"！(3)と(6)の両方に数値が入ることはありません。\",\"\")","v":""}]
[null,null,null,null,"特定歳入の概要",null,null,null,null,null,null,null,null,null,null,null,null,null,{"$f":"IF(P23>O23,\"！充当見込額が上限額を超えています。\",\"\")","v":""}]
[]
[null,null,null,null,null,null,{"$f":"IF(SUM(E25:F25)=0,\"-\",IF(E25>F25,\"ERROR\",E25/F25))","v":"-"},null,null,{"$f":"IF(SUM(H25:I25)=0,\"-\",IF(H25>I25,\"ERROR\",H25/I25))","v":"-"},null,null,{"$f":"IF(SUM(K25:L25)=0,\"-\",IF(K25>L25,\"ERROR\",K25/L25))","v":"-"},{"$f":"IF(SUM(G25,J25,M25)=0,\"-\",ROUND(SUM(G25,J25,M25)/(3-COUNTIF(G25:M25,\"-\")),3))","v":"-"},{"$f":"IF(N25=\"-\",0,ROUND(C25*N25,0))","v":0},null,null,null,"",null,null,{"$f":"IF(AND(D25>0,P25>0)=TRUE,\"！(3)と(6)の両方に数値が入ることはありません。\",\"\")","v":""}]
[null,null,null,null,"特定歳入の概要",null,null,null,null,null,null,null,null,null,null,null,null,null,""]
[null,null,"合　計",{"$f":"D13+D16+D19+D22+D25","v":0},null,null,null,null,null,null,null,null,null,null,"合　計",{"$f":"P13+P16+P19+P22+P25","v":0}]
[]
[]
[null,null,"総括表（特定の歳入見込額）",null,null,null,null,null,null,null,null,null,null,null,null,"（単位：千円）"]
[null,null,"１\n国庫支出金等",null,"２\n転貸債に係る償還金",null,"３\n公営住宅の賃貸料等",null,"４\n都市計画税収",null,"５\n土地開発公社に対する\n貸付金の償還金",null,"６\nその他特定の歳入",null,"特定の歳入\n見込額（合計）"]
[null,null,{"$f":"'４⑨Ａ'!D17+'４⑨Ａ'!Q17","v":0},null,{"$f":"'４⑨Ａ'!L33","v":0},null,{"$f":"'４⑨Ａ'!P47","v":0},null,{"$f":"'４⑨Ｂ'!M16","v":0},null,{"$f":"'４⑥Ｂ・C'!M6","v":0},null,{"$f":"D27+P27","v":0},null,{"$f":"SUM(C32:N32)","v":0}]
[null,"（分母比）",null,{"$f":"IF(C32=0,\"\",IF(総括表④!$H$18=0,\"-\",ROUND(C32/総括表④!$H$18*100,1)))","v":""},null,{"$f":"IF(E32=0,\"\",IF(総括表④!$H$18=0,\"-\",ROUND(E32/総括表④!$H$18*100,1)))","v":""},null,{"$f":"IF(G32=0,\"\",IF(総括表④!$H$18=0,\"-\",ROUND(G32/総括表④!$H$18*100,1)))","v":""},null,{"$f":"IF(I32=0,\"\",IF(総括表④!$H$18=0,\"-\",ROUND(I32/総括表④!$H$18*100,1)))","v":""},null,{"$f":"IF(K32=0,\"\",IF(総括表④!$H$18=0,\"-\",ROUND(K32/総括表④!$H$18*100,1)))","v":""},null,{"$f":"IF(O32=0,\"\",IF(総括表④!$H$18=0,\"-\",ROUND(O32/総括表④!$H$18*100,1)))","v":""},null,{"$f":"IF(Q32=0,\"\",IF(総括表④!$H$18=0,\"-\",ROUND(Q32/総括表④!$H$18*100,1)))","v":""}]
[]
[]
[]
[]
[]
[]
[null,null,"（参考）　地方債の現在高等",null,null,null,null,null,null,null,"（参考）　地方債の元金償還金等"]
[null,null,"イ　一般会計等に係る地方債の現在高",null,null,null,null,null,null,null,"イ　一般会計等に係る地方債の元金償還額"]
[null,null,"ロ　債務負担行為に基づく一般会計等の支出予定額",null,null,null,null,null,null,null,"ロ　債務負担行為に基づく一般会計等の支出額"]
[null,null,"ハ　一般会計等以外の特別会計に係る地方債の元金償還額に対する一般会計等からの\n繰入れ見込額",null,null,null,null,null,null,null,"ハ　一般会計等以外の特別会計に係る地方債の元金償還額に対する一般会計等からの繰入額"]
[null,null,"ニ　組合が起こした地方債の元金償還額に対する一般会計等の負担等見込額",null,null,null,null,null,null,null,"ニ　組合が起こした地方債の元金償還額に対する一般会計等の負担額又は補助額"]